BEGIN:VCALENDAR
VERSION:2.0
PRODID:-//Southwest Virginia Community College - ECPv6.15.17.1//NONSGML v1.0//EN
CALSCALE:GREGORIAN
METHOD:PUBLISH
X-ORIGINAL-URL:https://sw.edu
X-WR-CALDESC:Events for Southwest Virginia Community College
REFRESH-INTERVAL;VALUE=DURATION:PT1H
X-Robots-Tag:noindex
X-PUBLISHED-TTL:PT1H
BEGIN:VTIMEZONE
TZID:UTC
BEGIN:STANDARD
TZOFFSETFROM:+0000
TZOFFSETTO:+0000
TZNAME:UTC
DTSTART:20220101T000000
END:STANDARD
END:VTIMEZONE
BEGIN:VEVENT
DTSTART;TZID=UTC:20231005T171500
DTEND;TZID=UTC:20231005T180000
DTSTAMP:20260419T183554
CREATED:20230919T144057Z
LAST-MODIFIED:20231005T171037Z
UID:10000137-1696526100-1696528800@sw.edu
SUMMARY:CRU
DESCRIPTION:Campus Crusades for Christ\nView the full event details here: https://events.dudesolutions.com/swvcc/event/cru-2/
URL:https://sw.edu/event/cru-6/
LOCATION:DE 118
CATEGORIES:Student Events
END:VEVENT
BEGIN:VEVENT
DTSTART;TZID=UTC:20231005T203000
DTEND;TZID=UTC:20231005T223000
DTSTAMP:20260419T183554
CREATED:20230906T125629Z
LAST-MODIFIED:20231005T221040Z
UID:10000116-1696537800-1696545000@sw.edu
SUMMARY:Men's Soccer @ Denmark Tech
DESCRIPTION:Men’s Soccer @ Denmark Tech\nView the full event details here: https://events.dudesolutions.com/swvcc/event/mens-soccer–denmark-tech/
URL:https://sw.edu/event/mens-soccer-denmark-tech/
LOCATION:Away Game 1
CATEGORIES:Athletic Events
END:VEVENT
BEGIN:VEVENT
DTSTART;TZID=UTC:20231005T220000
DTEND;TZID=UTC:20231005T230000
DTSTAMP:20260419T183554
CREATED:20230831T152605Z
LAST-MODIFIED:20231005T221040Z
UID:10000086-1696543200-1696546800@sw.edu
SUMMARY:Relay for Life Regional Meeting
DESCRIPTION:Relay for Life Regional Meeting\nView the full event details here: https://events.dudesolutions.com/swvcc/event/relay-for-life-regional-meeting/
URL:https://sw.edu/event/relay-for-life-regional-meeting/
LOCATION:B 161
CATEGORIES:Community Events
END:VEVENT
BEGIN:VEVENT
DTSTART;TZID=UTC:20231005T220000
DTEND;TZID=UTC:20231006T000000
DTSTAMP:20260419T183554
CREATED:20230906T125628Z
LAST-MODIFIED:20231005T231034Z
UID:10000115-1696543200-1696550400@sw.edu
SUMMARY:Volleyball @ Guilford Tech Community College
DESCRIPTION:Volleyball @ Guilford Tech Community College\nView the full event details here: https://events.dudesolutions.com/swvcc/event/volleyball–guilford-tech-community-college/
URL:https://sw.edu/event/volleyball-guilford-tech-community-college/
LOCATION:Away Game 2
CATEGORIES:Athletic Events
END:VEVENT
END:VCALENDAR