BEGIN:VCALENDAR
VERSION:2.0
PRODID:-//Southwest Virginia Community College - ECPv6.15.17.1//NONSGML v1.0//EN
CALSCALE:GREGORIAN
METHOD:PUBLISH
X-ORIGINAL-URL:https://sw.edu
X-WR-CALDESC:Events for Southwest Virginia Community College
REFRESH-INTERVAL;VALUE=DURATION:PT1H
X-Robots-Tag:noindex
X-PUBLISHED-TTL:PT1H
BEGIN:VTIMEZONE
TZID:UTC
BEGIN:STANDARD
TZOFFSETFROM:+0000
TZOFFSETTO:+0000
TZNAME:UTC
DTSTART:20230101T000000
END:STANDARD
END:VTIMEZONE
BEGIN:VEVENT
DTSTART;TZID=UTC:20240318T180000
DTEND;TZID=UTC:20240318T190000
DTSTAMP:20260420T023912
CREATED:20240220T135613Z
LAST-MODIFIED:20250924T172352Z
UID:10000446-1710784800-1710788400@sw.edu
SUMMARY:Administrative Cabinet
DESCRIPTION:Administrative Cabinet\nView the full event details here: https://events.dudesolutions.com/swvcc/event/administrative-cabinet-2/
URL:https://sw.edu/event/administrative-cabinet-2/
LOCATION:DE 116
CATEGORIES:Administrative,Faculity/Staff
END:VEVENT
END:VCALENDAR