BEGIN:VCALENDAR
VERSION:2.0
PRODID:-//Southwest Virginia Community College - ECPv6.15.17.1//NONSGML v1.0//EN
CALSCALE:GREGORIAN
METHOD:PUBLISH
X-ORIGINAL-URL:https://sw.edu
X-WR-CALDESC:Events for Southwest Virginia Community College
REFRESH-INTERVAL;VALUE=DURATION:PT1H
X-Robots-Tag:noindex
X-PUBLISHED-TTL:PT1H
BEGIN:VTIMEZONE
TZID:America/New_York
BEGIN:DAYLIGHT
TZOFFSETFROM:-0500
TZOFFSETTO:-0400
TZNAME:EDT
DTSTART:20250309T070000
END:DAYLIGHT
BEGIN:STANDARD
TZOFFSETFROM:-0400
TZOFFSETTO:-0500
TZNAME:EST
DTSTART:20251102T060000
END:STANDARD
BEGIN:DAYLIGHT
TZOFFSETFROM:-0500
TZOFFSETTO:-0400
TZNAME:EDT
DTSTART:20260308T070000
END:DAYLIGHT
BEGIN:STANDARD
TZOFFSETFROM:-0400
TZOFFSETTO:-0500
TZNAME:EST
DTSTART:20261101T060000
END:STANDARD
BEGIN:DAYLIGHT
TZOFFSETFROM:-0500
TZOFFSETTO:-0400
TZNAME:EDT
DTSTART:20270314T070000
END:DAYLIGHT
BEGIN:STANDARD
TZOFFSETFROM:-0400
TZOFFSETTO:-0500
TZNAME:EST
DTSTART:20271107T060000
END:STANDARD
END:VTIMEZONE
BEGIN:VEVENT
DTSTART;VALUE=DATE:20260319
DTEND;VALUE=DATE:20260320
DTSTAMP:20260423T050827
CREATED:20251114T165658Z
LAST-MODIFIED:20260319T235530Z
UID:10002253-1773878400-1773964799@sw.edu
SUMMARY:RHS Drama Willy Wonka & The Chocolate Factory
DESCRIPTION:RHS Drama Club Practice
URL:https://sw.edu/event/rhs-drama-practice-11/
LOCATION:KCC Auditorium
CATEGORIES:Community Events
END:VEVENT
BEGIN:VEVENT
DTSTART;TZID=America/New_York:20260320T190000
DTEND;TZID=America/New_York:20260320T210000
DTSTAMP:20260423T050827
CREATED:20251114T165702Z
LAST-MODIFIED:20260320T195530Z
UID:10002256-1774033200-1774040400@sw.edu
SUMMARY:RHS Drama Club Present: Willy Wonka & The Chocolate Factory
DESCRIPTION:RHS Drama Club Presents: Willy Wonka & The Chocolate Factory beginning at 7pm.
URL:https://sw.edu/event/rhs-drama-club-present-willy-wonka-the-chocolate-factory/
LOCATION:KCC Auditorium
CATEGORIES:Community Events
END:VEVENT
BEGIN:VEVENT
DTSTART;VALUE=DATE:20260321
DTEND;VALUE=DATE:20260322
DTSTAMP:20260423T050827
CREATED:20251114T165701Z
LAST-MODIFIED:20260321T235531Z
UID:10002255-1774051200-1774137599@sw.edu
SUMMARY:RHS Drama Club Presents: Willy Wonka & The Chocolate Factory
DESCRIPTION:RHS Drama Club Presents: Willy Wonka & The Chocolate Factory 7pm in the KCC Auditorium.
URL:https://sw.edu/event/rhs-drama-club-presents-willy-wonka-the-chocolate-factory/
LOCATION:KCC Auditorium
CATEGORIES:Community Events
END:VEVENT
BEGIN:VEVENT
DTSTART;TZID=America/New_York:20260322T140000
DTEND;TZID=America/New_York:20260322T160000
DTSTAMP:20260423T050827
CREATED:20251114T165703Z
LAST-MODIFIED:20260322T195531Z
UID:10002257-1774188000-1774195200@sw.edu
SUMMARY:RHS Drama Club Presents: Willy Wonka & The Chocolate Factory
DESCRIPTION:RHS Drama Club Presents: Willy Wonka & The Chocolate Factory beginning at 2pm.
URL:https://sw.edu/event/rhs-drama-club-presents-willy-wonka-the-chocolate-factory-2/
LOCATION:KCC Auditorium
CATEGORIES:Community Events
END:VEVENT
BEGIN:VEVENT
DTSTART;VALUE=DATE:20260326
DTEND;VALUE=DATE:20260327
DTSTAMP:20260423T050827
CREATED:20251114T165706Z
LAST-MODIFIED:20260326T235533Z
UID:10002261-1774483200-1774569599@sw.edu
SUMMARY:RHS Drama Willy Wonka & The Chocolate Factory Practice
DESCRIPTION:RHS Drama Club presents Willy Wonka & The Chocolate Factory.
URL:https://sw.edu/event/rhs-drama-practice-15/
LOCATION:KCC Auditorium
CATEGORIES:Community Events
END:VEVENT
BEGIN:VEVENT
DTSTART;TZID=America/New_York:20260327T180000
DTEND;TZID=America/New_York:20260327T200000
DTSTAMP:20260423T050827
CREATED:20251114T165707Z
LAST-MODIFIED:20260327T235531Z
UID:10002262-1774634400-1774641600@sw.edu
SUMMARY:RHS Drama Club Presents: Willy Wonka & The Chocolate Factory
DESCRIPTION:RHS Drama Club Presents: Willy Wonka & The Chocolate Factory beginning at 7pm in the KCC Auditorium.
URL:https://sw.edu/event/rhs-drama-club-presents-willy-wonka-the-chocolate-factory-3/
LOCATION:KCC Auditorium
CATEGORIES:Community Events
END:VEVENT
BEGIN:VEVENT
DTSTART;TZID=America/New_York:20260328T180000
DTEND;TZID=America/New_York:20260328T200000
DTSTAMP:20260423T050827
CREATED:20251114T165710Z
LAST-MODIFIED:20260328T235530Z
UID:10002263-1774720800-1774728000@sw.edu
SUMMARY:RHS Drama Club Presents: Willy Wonka & The Chocolate Factory
DESCRIPTION:RHS Drama Club Presents: Willy Wonka & The Chocolate Factory beginning at 7pm in the KCC Auditorium.
URL:https://sw.edu/event/rhs-drama-club-presents-willy-wonka-the-chocolate-factory-4/
LOCATION:KCC Auditorium
CATEGORIES:Community Events
END:VEVENT
END:VCALENDAR