BEGIN:VCALENDAR
VERSION:2.0
PRODID:-//Southwest Virginia Community College - ECPv6.15.17.1//NONSGML v1.0//EN
CALSCALE:GREGORIAN
METHOD:PUBLISH
X-WR-CALNAME:Southwest Virginia Community College
X-ORIGINAL-URL:https://sw.edu
X-WR-CALDESC:Events for Southwest Virginia Community College
REFRESH-INTERVAL;VALUE=DURATION:PT1H
X-Robots-Tag:noindex
X-PUBLISHED-TTL:PT1H
BEGIN:VTIMEZONE
TZID:America/New_York
BEGIN:DAYLIGHT
TZOFFSETFROM:-0500
TZOFFSETTO:-0400
TZNAME:EDT
DTSTART:20250309T070000
END:DAYLIGHT
BEGIN:STANDARD
TZOFFSETFROM:-0400
TZOFFSETTO:-0500
TZNAME:EST
DTSTART:20251102T060000
END:STANDARD
BEGIN:DAYLIGHT
TZOFFSETFROM:-0500
TZOFFSETTO:-0400
TZNAME:EDT
DTSTART:20260308T070000
END:DAYLIGHT
BEGIN:STANDARD
TZOFFSETFROM:-0400
TZOFFSETTO:-0500
TZNAME:EST
DTSTART:20261101T060000
END:STANDARD
BEGIN:DAYLIGHT
TZOFFSETFROM:-0500
TZOFFSETTO:-0400
TZNAME:EDT
DTSTART:20270314T070000
END:DAYLIGHT
BEGIN:STANDARD
TZOFFSETFROM:-0400
TZOFFSETTO:-0500
TZNAME:EST
DTSTART:20271107T060000
END:STANDARD
END:VTIMEZONE
BEGIN:VEVENT
DTSTART;TZID=America/New_York:20260411T120000
DTEND;TZID=America/New_York:20260411T200000
DTSTAMP:20260423T050918
CREATED:20260114T155605Z
LAST-MODIFIED:20260411T235531Z
UID:10002409-1775908800-1775937600@sw.edu
SUMMARY:Festival of the Arts: Americana Music Festival
DESCRIPTION:Americana Music Festival\, part of the 2026 Festival of the Arts\, will be held at the Appalachian Arts Center Hagerman’s Pavilion beginning at 12p. Variety of gospel\, southern rock and country\, bluegrass to name a few! Food trucks\, beer garden and much more! \nThe Americana Music Festival celebrates 250 years of American music through live performances by talented local and regional musicians and bands. Set at Hagerman’s Pavilion at the Appalachian Arts & Events Center\, the festival showcases styles rooted in America’s cultural history\, from folk and bluegrass to roots and Americana. This gathering highlights the voices\, stories\, and sounds that have shaped communities across the nation.
URL:https://sw.edu/event/americana-music-festival/
LOCATION:Appalachian Arts Center\, 112 River Rd\, Cedar Bluff\, VA\, United States
CATEGORIES:Community Events,Festival of The Arts
ATTACH;FMTTYPE=image/jpeg:https://sw.edu/wp-content/uploads/2026/02/Festival-of-the-Arts-2026-Hero-Image-1920x894-1.jpg
GEO:37.088505;-81.765458
X-APPLE-STRUCTURED-LOCATION;VALUE=URI;X-ADDRESS=Appalachian Arts Center 112 River Rd Cedar Bluff VA United States;X-APPLE-RADIUS=500;X-TITLE=112 River Rd:geo:-81.765458,37.088505
END:VEVENT
END:VCALENDAR