BEGIN:VCALENDAR
VERSION:2.0
PRODID:-//Southwest Virginia Community College - ECPv6.15.17.1//NONSGML v1.0//EN
CALSCALE:GREGORIAN
METHOD:PUBLISH
X-ORIGINAL-URL:https://sw.edu
X-WR-CALDESC:Events for Southwest Virginia Community College
REFRESH-INTERVAL;VALUE=DURATION:PT1H
X-Robots-Tag:noindex
X-PUBLISHED-TTL:PT1H
BEGIN:VTIMEZONE
TZID:America/New_York
BEGIN:DAYLIGHT
TZOFFSETFROM:-0500
TZOFFSETTO:-0400
TZNAME:EDT
DTSTART:20250309T070000
END:DAYLIGHT
BEGIN:STANDARD
TZOFFSETFROM:-0400
TZOFFSETTO:-0500
TZNAME:EST
DTSTART:20251102T060000
END:STANDARD
BEGIN:DAYLIGHT
TZOFFSETFROM:-0500
TZOFFSETTO:-0400
TZNAME:EDT
DTSTART:20260308T070000
END:DAYLIGHT
BEGIN:STANDARD
TZOFFSETFROM:-0400
TZOFFSETTO:-0500
TZNAME:EST
DTSTART:20261101T060000
END:STANDARD
BEGIN:DAYLIGHT
TZOFFSETFROM:-0500
TZOFFSETTO:-0400
TZNAME:EDT
DTSTART:20270314T070000
END:DAYLIGHT
BEGIN:STANDARD
TZOFFSETFROM:-0400
TZOFFSETTO:-0500
TZNAME:EST
DTSTART:20271107T060000
END:STANDARD
END:VTIMEZONE
BEGIN:VEVENT
DTSTART;TZID=America/New_York:20260412T150000
DTEND;TZID=America/New_York:20260412T170000
DTSTAMP:20260423T065343
CREATED:20260114T155606Z
LAST-MODIFIED:20260412T205534Z
UID:10002410-1776006000-1776013200@sw.edu
SUMMARY:Festival of the Arts: SWVA Community Choir
DESCRIPTION:The Community Chorus will hold “I Hear America Singing” as part of the 2026 Festival of the Arts celebration in the auditorium of the KCC beginning at 3pm. \nThe Community Chorus features singers from across the region performing music that reflects the history and cultural diversity of the United States. The program includes works by American composers such as Copland\, Billings\, and Thomas\, along with a Native American song\, a set of Spirituals\, and special guest performers.
URL:https://sw.edu/event/i-hear-america-singing-community-choir/
LOCATION:KCC Auditorium
CATEGORIES:Community Events,Festival of The Arts
ATTACH;FMTTYPE=image/jpeg:https://sw.edu/wp-content/uploads/2026/02/Festival-of-the-Arts-2026-Hero-Image-1920x894-1.jpg
END:VEVENT
END:VCALENDAR