BEGIN:VCALENDAR
VERSION:2.0
PRODID:-//Southwest Virginia Community College - ECPv6.15.17.1//NONSGML v1.0//EN
CALSCALE:GREGORIAN
METHOD:PUBLISH
X-ORIGINAL-URL:https://sw.edu
X-WR-CALDESC:Events for Southwest Virginia Community College
REFRESH-INTERVAL;VALUE=DURATION:PT1H
X-Robots-Tag:noindex
X-PUBLISHED-TTL:PT1H
BEGIN:VTIMEZONE
TZID:America/New_York
BEGIN:DAYLIGHT
TZOFFSETFROM:-0500
TZOFFSETTO:-0400
TZNAME:EDT
DTSTART:20250309T070000
END:DAYLIGHT
BEGIN:STANDARD
TZOFFSETFROM:-0400
TZOFFSETTO:-0500
TZNAME:EST
DTSTART:20251102T060000
END:STANDARD
BEGIN:DAYLIGHT
TZOFFSETFROM:-0500
TZOFFSETTO:-0400
TZNAME:EDT
DTSTART:20260308T070000
END:DAYLIGHT
BEGIN:STANDARD
TZOFFSETFROM:-0400
TZOFFSETTO:-0500
TZNAME:EST
DTSTART:20261101T060000
END:STANDARD
BEGIN:DAYLIGHT
TZOFFSETFROM:-0500
TZOFFSETTO:-0400
TZNAME:EDT
DTSTART:20270314T070000
END:DAYLIGHT
BEGIN:STANDARD
TZOFFSETFROM:-0400
TZOFFSETTO:-0500
TZNAME:EST
DTSTART:20271107T060000
END:STANDARD
END:VTIMEZONE
BEGIN:VEVENT
DTSTART;TZID=America/New_York:20260415T100000
DTEND;TZID=America/New_York:20260415T110000
DTSTAMP:20260423T100705
CREATED:20260114T182617Z
LAST-MODIFIED:20260415T145937Z
UID:10002414-1776247200-1776250800@sw.edu
SUMMARY:Festival of the Arts: Children's Camerata\, Playing with Strings
DESCRIPTION: 2026 Festival of the Arts Playing with Strings will be held on April 15th @ 10am in the KCC Auditorium\, Tazewell Co Public School will be on campus for this event. Russell Co. Schools will be on campus for the 1pm performance. \nThe Children’s Camerata is a musical experience designed to introduce children to the excitement of playing stringed instruments. World-renowned musicians take young participants on an exploration of sound\, technique\, and collaboration in an encouraging environment. In celebration of America’s 250th anniversary\, this program highlights the importance of passing musical traditions from one generation to the next while inspiring the next wave of American musicians.
URL:https://sw.edu/event/playing-with-strings-festival-of-the-arts-event/
LOCATION:KCC Auditorium
CATEGORIES:Community Events,Festival of The Arts
ATTACH;FMTTYPE=image/jpeg:https://sw.edu/wp-content/uploads/2026/02/Festival-of-the-Arts-2026-Hero-Image-1920x894-1.jpg
END:VEVENT
END:VCALENDAR