BEGIN:VCALENDAR
VERSION:2.0
PRODID:-//Southwest Virginia Community College - ECPv6.15.17.1//NONSGML v1.0//EN
CALSCALE:GREGORIAN
METHOD:PUBLISH
X-ORIGINAL-URL:https://sw.edu
X-WR-CALDESC:Events for Southwest Virginia Community College
REFRESH-INTERVAL;VALUE=DURATION:PT1H
X-Robots-Tag:noindex
X-PUBLISHED-TTL:PT1H
BEGIN:VTIMEZONE
TZID:UTC
BEGIN:STANDARD
TZOFFSETFROM:+0000
TZOFFSETTO:+0000
TZNAME:UTC
DTSTART:20230101T000000
END:STANDARD
END:VTIMEZONE
BEGIN:VEVENT
DTSTART;TZID=UTC:20240425T233000
DTEND;TZID=UTC:20240426T010000
DTSTAMP:20260420T101833
CREATED:20240223T134212Z
LAST-MODIFIED:20240426T001031Z
UID:10000495-1714087800-1714093200@sw.edu
SUMMARY:Camerata Virtuosi New York
DESCRIPTION:La Belle EpocheGaynelle Lockhart Albert Memorial Concert\,Thursday\, April 25\, 7:30 p.m.Lebanon Memorial United Methodist Church\,24 Tate Ave.\, Lebanon\, VA
URL:https://sw.edu/event/camerata-virtuosi-new-york-2/
CATEGORIES:Festival of The Arts
ATTACH;FMTTYPE=image/jpeg:https://sw.edu/wp-content/uploads/2024/02/Camerata-Virtuosi-New-York-1920x1080@2x-scaled.jpg
END:VEVENT
BEGIN:VEVENT
DTSTART;TZID=UTC:20240423T233000
DTEND;TZID=UTC:20240424T010000
DTSTAMP:20260420T101833
CREATED:20240223T134211Z
LAST-MODIFIED:20240424T001030Z
UID:10000494-1713915000-1713920400@sw.edu
SUMMARY:Camerata Virtuosi New York
DESCRIPTION:Revolution and RomanticismJan McClure Memorial Concert\,Tuesday\, April 23\, 7:30 p.m.Tazewell Baptist Church\,141W. Tower St.\, Tazewell\, VATim McClure – Guest Violinist
URL:https://sw.edu/event/camerata-virtuosi-new-york/
LOCATION:Tazewell Baptist Church 141 W. Tower St Tazewell Va 24651\, 141 W. Tower St.\, Tazewell\, VA\, 24651\, United States
CATEGORIES:Festival of The Arts
ATTACH;FMTTYPE=image/jpeg:https://sw.edu/wp-content/uploads/2024/02/Camerata-Virtuosi-New-York-1920x1080@2x-scaled.jpg
END:VEVENT
BEGIN:VEVENT
DTSTART;TZID=UTC:20240422T233000
DTEND;TZID=UTC:20240423T010000
DTSTAMP:20260420T101834
CREATED:20240221T185632Z
LAST-MODIFIED:20240423T005549Z
UID:10000455-1713828600-1713834000@sw.edu
SUMMARY:Cultural Walk
DESCRIPTION:Cultural WalkView the full event details here: https://events.dudesolutions.com/swvcc/event/culture-walk/
URL:https://sw.edu/event/culture-walk/
LOCATION:Mary Lawson Auditorium
CATEGORIES:Festival of The Arts
ATTACH;FMTTYPE=image/jpeg:https://sw.edu/wp-content/uploads/2024/02/Cultural-Walk-1920x1080@2x-scaled.jpg
END:VEVENT
BEGIN:VEVENT
DTSTART;TZID=UTC:20240422T223000
DTEND;TZID=UTC:20240422T233000
DTSTAMP:20260420T101834
CREATED:20240305T181142Z
LAST-MODIFIED:20240422T224046Z
UID:10000504-1713825000-1713828600@sw.edu
SUMMARY:Cultural Walk Dinner
DESCRIPTION:Cultural Walk Dinner\nView the full event details here: https://events.dudesolutions.com/swvcc/event/cultural-walk-dinner/
URL:https://sw.edu/event/cultural-walk-dinner/
LOCATION:Ellen von Dehsen Elmes Gallery\, King Community Center\, 295 Community College Road\, Cedar Bluff\, VA\, 24609\, United States
CATEGORIES:Festival of The Arts
END:VEVENT
BEGIN:VEVENT
DTSTART;TZID=UTC:20240422T160000
DTEND;TZID=UTC:20240422T173000
DTSTAMP:20260420T101834
CREATED:20240205T212644Z
LAST-MODIFIED:20240422T171029Z
UID:10000417-1713801600-1713807000@sw.edu
SUMMARY:Culture Walk and Student Showcase
DESCRIPTION:Culture Walk\nView the full event details here: https://events.dudesolutions.com/swvcc/event/culture-walk-and-student-showcase/
URL:https://sw.edu/event/culture-walk-and-student-showcase/
LOCATION:Mary Lawson Auditorium\, King Community Center\, 295 Community College Rd.\, Cedar Blluff\, VA\, 24609\, United States
CATEGORIES:Community Events,Faculity/Staff,Festival of The Arts,Student Events
END:VEVENT
BEGIN:VEVENT
DTSTART;TZID=UTC:20240421T190000
DTEND;TZID=UTC:20240421T210000
DTSTAMP:20260420T101834
CREATED:20240223T143653Z
LAST-MODIFIED:20240421T201029Z
UID:10000497-1713726000-1713733200@sw.edu
SUMMARY:Piano x Three
DESCRIPTION:Piano x Three will feature selections arranged for one\, two\, and three pianos\, featuring Vladimir Valjarevic\, Pavlina Dokovska\, and Dr. Joseph Trivette. A reception will be hosted by Larry and Kathy Mitchell following the concert.
URL:https://sw.edu/event/piano-x-three/
LOCATION:Mary Lawson Auditorium\, King Community Center\, 295 Community College Rd.\, Cedar Blluff\, VA\, 24609\, United States
CATEGORIES:Festival of The Arts
ATTACH;FMTTYPE=image/jpeg:https://sw.edu/wp-content/uploads/2024/02/Piano-x-Three.jpg
END:VEVENT
BEGIN:VEVENT
DTSTART;TZID=UTC:20240420T230000
DTEND;TZID=UTC:20240421T010000
DTSTAMP:20260420T101834
CREATED:20240102T141202Z
LAST-MODIFIED:20240421T004030Z
UID:10000336-1713654000-1713661200@sw.edu
SUMMARY:Nelly's Echo
DESCRIPTION:Nelly’s Echo’s (aka Nelson aka Nelly aka hey there) captivating storytelling and high-energy performances have made him a very sought-after musician in not only the college tour circuit but also clubs and festivals all across the United States and overseas.\nView the full event details here: https://events.dudesolutions.com/swvcc/event/spring-concert-series—nellys-echo/
URL:https://sw.edu/event/spring-concert-series-nellys-echo/
LOCATION:Quad
CATEGORIES:Community Events,Faculity/Staff,Festival of The Arts,Student Events
ATTACH;FMTTYPE=image/jpeg:https://sw.edu/wp-content/uploads/2024/01/Nellys-Echo-1920x1080@2x-scaled.jpg
END:VEVENT
BEGIN:VEVENT
DTSTART;TZID=UTC:20240420T160000
DTEND;TZID=UTC:20240420T200000
DTSTAMP:20260420T101834
CREATED:20240223T144649Z
LAST-MODIFIED:20240420T194030Z
UID:10000499-1713628800-1713643200@sw.edu
SUMMARY:EagleCon
DESCRIPTION:EagleCon\nView the full event details here: https://events.dudesolutions.com/swvcc/event/eaglecon/
URL:https://sw.edu/event/eaglecon/
LOCATION:Dellinger Hall\, 201 College St\, Cedar Bluff\, VA\, United States
CATEGORIES:Festival of The Arts
ATTACH;FMTTYPE=image/jpeg:https://sw.edu/wp-content/uploads/2024/02/EagleCon-iStock-1200897643.jpg
GEO:36.998138;-81.79393
X-APPLE-STRUCTURED-LOCATION;VALUE=URI;X-ADDRESS=Dellinger Hall 201 College St Cedar Bluff VA United States;X-APPLE-RADIUS=500;X-TITLE=201 College St:geo:-81.79393,36.998138
END:VEVENT
BEGIN:VEVENT
DTSTART;TZID=UTC:20240420T160000
DTEND;TZID=UTC:20240420T200000
DTSTAMP:20260420T101834
CREATED:20240223T134208Z
LAST-MODIFIED:20240420T194030Z
UID:10000493-1713628800-1713643200@sw.edu
SUMMARY:Renaissance Festival
DESCRIPTION:Renaissance Festival\nView the full event details here: https://events.dudesolutions.com/swvcc/event/renaissance-festival/
URL:https://sw.edu/event/renaissance-festival/
LOCATION:Buchanan Hall Lobby\,Cafe\,Soccer Field
CATEGORIES:Festival of The Arts
ATTACH;FMTTYPE=image/jpeg:https://sw.edu/wp-content/uploads/2024/02/Renaissance-Festival-1920x1080@2x-scaled.jpg
END:VEVENT
BEGIN:VEVENT
DTSTART;TZID=UTC:20240418T220000
DTEND;TZID=UTC:20240418T230000
DTSTAMP:20260420T101834
CREATED:20240223T134207Z
LAST-MODIFIED:20240418T221030Z
UID:10000492-1713477600-1713481200@sw.edu
SUMMARY:French Macarons
DESCRIPTION:Indulge your senses in a FREE French macaron cooking class\, where artistry meets confectionery delight. In this hands-on experience\, you’ll learn the secrets behind creating these delicate and colorful treats that epitomize French pastry elegance. Under the guidance of our pastry chef\, Holli Starnes\, you’ll master the intricate techniques of piping\, folding\, and baking to achieve the perfect macaron shell with its signature smooth surface and crisp exterior. Delve into the alchemy of flavor as you explore a myriad of fillings\, from classic ganaches to innovative fruit-infused creams\, each offering a symphony of taste and texture.  \n\n\n\nR.S.V.P. morgan.gilbert@sw.edu
URL:https://sw.edu/event/french-macarons/
LOCATION:SWCC Lebanon Center\, 144 Highland Drive\, Lebanon\, Virginia\, 24266
CATEGORIES:Festival of The Arts
ATTACH;FMTTYPE=image/jpeg:https://sw.edu/wp-content/uploads/2024/02/Baking-Macaroons-1920x1080@2x-scaled.jpg
END:VEVENT
BEGIN:VEVENT
DTSTART;TZID=UTC:20240416T120000
DTEND;TZID=UTC:20240416T203000
DTSTAMP:20260420T101834
CREATED:20240223T134155Z
LAST-MODIFIED:20240416T195530Z
UID:10000491-1713268800-1713299400@sw.edu
SUMMARY:French Movie Marathon
DESCRIPTION:French Movie MarathonView the full event details here: https://events.dudesolutions.com/swvcc/event/french-movie-marathon/
URL:https://sw.edu/event/french-movie-marathon/
LOCATION:B 110
CATEGORIES:Festival of The Arts
ATTACH;FMTTYPE=image/jpeg:https://sw.edu/wp-content/uploads/2024/02/French-Movie-Marathon-1920x1080@2x-scaled.jpg
END:VEVENT
BEGIN:VEVENT
DTSTART;TZID=UTC:20240405T150000
DTEND;TZID=UTC:20240405T170000
DTSTAMP:20260420T101834
CREATED:20240209T141141Z
LAST-MODIFIED:20240405T164029Z
UID:10000423-1712329200-1712336400@sw.edu
SUMMARY:Richmond Ballet - School Performance
DESCRIPTION:Richmond Ballet- School Performance\nView the full event details here: https://events.dudesolutions.com/swvcc/event/richmond-ballet-4/
URL:https://sw.edu/event/richmond-ballet-2/
LOCATION:Mary Lawson Auditorium
CATEGORIES:Festival of The Arts
ATTACH;FMTTYPE=image/jpeg:https://sw.edu/wp-content/uploads/2024/02/Richmond-Ballet-1920x1080@2x-scaled.jpg
END:VEVENT
BEGIN:VEVENT
DTSTART;TZID=UTC:20240404T230000
DTEND;TZID=UTC:20240405T010000
DTSTAMP:20260420T101834
CREATED:20240209T141129Z
LAST-MODIFIED:20240405T002530Z
UID:10000422-1712271600-1712278800@sw.edu
SUMMARY:Richmond Ballet
DESCRIPTION:“Since its early days as a civic company in the 1950s through its emergence as a professional company in 1984 to today\, Richmond Ballet\, The State Ballet of Virginia\, has flourished as a home for the past\, present\, and future of dance. Richmond Ballet boasts an expansive repertory that includes 19th- and 20th-century masterpieces as well as more than 90 new ballets by contemporary choreographers from around the world.”From: richmondballet.com \n\n\n\n\n\n\n\n\n\nPhoto Courtesy of Houston Ballet.Former Houston Ballet II Artists Sareen Tchekmedyian and Harper Watters in Ma Cong’s Calling.Photo by Amitava Sarkar (2009). Courtesy of Houston Ballet.
URL:https://sw.edu/event/richmond-ballet/
LOCATION:Mary Lawson Auditorium
CATEGORIES:Festival of The Arts
ATTACH;FMTTYPE=image/jpeg:https://sw.edu/wp-content/uploads/2024/02/Richmond-Ballet-1920x1080@2x-scaled.jpg
END:VEVENT
BEGIN:VEVENT
DTSTART;TZID=UTC:20240404T213000
DTEND;TZID=UTC:20240404T230000
DTSTAMP:20260420T101834
CREATED:20240221T182620Z
LAST-MODIFIED:20240404T215529Z
UID:10000454-1712266200-1712271600@sw.edu
SUMMARY:Empty Bowl Dinner
DESCRIPTION:Empty Bowl Dinner\nView the full event details here: https://events.dudesolutions.com/swvcc/event/empty-bowl-dinner/
URL:https://sw.edu/event/empty-bowl-dinner/
LOCATION:Second Floor Lobby
CATEGORIES:Festival of The Arts
END:VEVENT
BEGIN:VEVENT
DTSTART;TZID=UTC:20240404T213000
DTEND;TZID=UTC:20240404T223000
DTSTAMP:20260420T101834
CREATED:20240223T134153Z
LAST-MODIFIED:20240404T215530Z
UID:10000490-1712266200-1712269800@sw.edu
SUMMARY:Student Art Show Reception
DESCRIPTION:Student Art Show Reception \nView the full event details here: https://events.dudesolutions.com/swvcc/event/student-art-show-reception/
URL:https://sw.edu/event/student-art-show-reception/
LOCATION:Art Gallery
CATEGORIES:Festival of The Arts
END:VEVENT
END:VCALENDAR