BEGIN:VCALENDAR
VERSION:2.0
PRODID:-//Southwest Virginia Community College - ECPv6.15.17.1//NONSGML v1.0//EN
CALSCALE:GREGORIAN
METHOD:PUBLISH
X-WR-CALNAME:Southwest Virginia Community College
X-ORIGINAL-URL:https://sw.edu
X-WR-CALDESC:Events for Southwest Virginia Community College
REFRESH-INTERVAL;VALUE=DURATION:PT1H
X-Robots-Tag:noindex
X-PUBLISHED-TTL:PT1H
BEGIN:VTIMEZONE
TZID:America/New_York
BEGIN:DAYLIGHT
TZOFFSETFROM:-0500
TZOFFSETTO:-0400
TZNAME:EDT
DTSTART:20250309T070000
END:DAYLIGHT
BEGIN:STANDARD
TZOFFSETFROM:-0400
TZOFFSETTO:-0500
TZNAME:EST
DTSTART:20251102T060000
END:STANDARD
BEGIN:DAYLIGHT
TZOFFSETFROM:-0500
TZOFFSETTO:-0400
TZNAME:EDT
DTSTART:20260308T070000
END:DAYLIGHT
BEGIN:STANDARD
TZOFFSETFROM:-0400
TZOFFSETTO:-0500
TZNAME:EST
DTSTART:20261101T060000
END:STANDARD
BEGIN:DAYLIGHT
TZOFFSETFROM:-0500
TZOFFSETTO:-0400
TZNAME:EDT
DTSTART:20270314T070000
END:DAYLIGHT
BEGIN:STANDARD
TZOFFSETFROM:-0400
TZOFFSETTO:-0500
TZNAME:EST
DTSTART:20271107T060000
END:STANDARD
BEGIN:DAYLIGHT
TZOFFSETFROM:-0500
TZOFFSETTO:-0400
TZNAME:EDT
DTSTART:20280312T070000
END:DAYLIGHT
BEGIN:STANDARD
TZOFFSETFROM:-0400
TZOFFSETTO:-0500
TZNAME:EST
DTSTART:20281105T060000
END:STANDARD
END:VTIMEZONE
BEGIN:VTIMEZONE
TZID:UTC
BEGIN:STANDARD
TZOFFSETFROM:+0000
TZOFFSETTO:+0000
TZNAME:UTC
DTSTART:20250101T000000
END:STANDARD
END:VTIMEZONE
BEGIN:VEVENT
DTSTART;TZID=America/New_York:20261117T183000
DTEND;TZID=America/New_York:20261117T203000
DTSTAMP:20260423T152419
CREATED:20250613T151405Z
LAST-MODIFIED:20251027T220052Z
UID:10001654-1794940200-1794947400@sw.edu
SUMMARY:Firefighter Association Monthly Meeting
DESCRIPTION:Firefighter Association Monthly Meeting the 3rd Tuesday of each month.
URL:https://sw.edu/event/firefighter-association-monthly-meeting-91/
LOCATION:Lebanon Center  B141 Student Lounge
CATEGORIES:Private
END:VEVENT
BEGIN:VEVENT
DTSTART;TZID=UTC:20261117T233000
DTEND;TZID=UTC:20261118T013000
DTSTAMP:20260423T152419
CREATED:20250721T061337Z
LAST-MODIFIED:20250924T171155Z
UID:10001745-1794958200-1794965400@sw.edu
SUMMARY:Firefighter Association Monthly Meeting
DESCRIPTION:Firefighter Association Monthly Meeting the 3rd Tuesday of each month.
URL:https://sw.edu/event/firefighter-association-monthly-meeting-114/
LOCATION:Lebanon Center  B141A
CATEGORIES:Private
END:VEVENT
BEGIN:VEVENT
DTSTART;TZID=America/New_York:20261119T180000
DTEND;TZID=America/New_York:20261119T203000
DTSTAMP:20260423T152419
CREATED:20260302T222644Z
LAST-MODIFIED:20260303T164145Z
UID:10002515-1795111200-1795120200@sw.edu
SUMMARY:Lebanon Extension Office Workshp
DESCRIPTION:The Lebanon Cooperative Extension Office will hold a workshop beginning on Nov 5th at 6pm and will continue each week on Thursday until Nov 19th in the following rooms: Jefferson Room\, Auditorium and Student lounge. For more information contact the Russell County Cooperative Extension Office at 276-889-8056.
URL:https://sw.edu/event/lebanon-extension-office-workshp-3/
LOCATION:Lebanon Center\, 144 Highland Drive\, Lebanon\, VA\, 24266\, United States
END:VEVENT
BEGIN:VEVENT
DTSTART;TZID=America/New_York:20261123T140000
DTEND;TZID=America/New_York:20261123T150000
DTSTAMP:20260423T152419
CREATED:20250211T154848Z
LAST-MODIFIED:20250924T172219Z
UID:10001392-1795442400-1795446000@sw.edu
SUMMARY:Admin Cabinet
DESCRIPTION:Admin Cabinet bi-weekly meeting\, Dellinger Hall 116.
URL:https://sw.edu/event/admin-cabinet-70/
LOCATION:DE116
CATEGORIES:Administrative
END:VEVENT
BEGIN:VEVENT
DTSTART;VALUE=DATE:20261126
DTEND;VALUE=DATE:20261127
DTSTAMP:20260423T152419
CREATED:20250425T160036Z
LAST-MODIFIED:20260423T191112Z
UID:10001583-1795651200-1795737599@sw.edu
SUMMARY:IDA Monthly Meeting
DESCRIPTION:Monthly IDA Meeting in the Jefferson Room
URL:https://sw.edu/event/ida-monthly-meeting-30/
LOCATION:Jefferson Room Lebanon Center
CATEGORIES:Private
END:VEVENT
BEGIN:VEVENT
DTSTART;VALUE=DATE:20261204
DTEND;VALUE=DATE:20261205
DTSTAMP:20260423T152419
CREATED:20260423T191113Z
LAST-MODIFIED:20260423T191113Z
UID:10002605-1796342400-1796428799@sw.edu
SUMMARY:Professional Development Series
DESCRIPTION:StudentExperience\, Instructional Practice\, & Reflection \nStaff Session \nCommon Student Pain Points—and How Can We Reduce ThemTime: 10:00–11:00Presenter: Lisa HaywoodRoom: __________ \nThis session focuses on identifying common barriers studentsface and examining how processes and communication may contribute to thosechallenges. Emphasis is on practical\, achievable improvements that enhance thestudent experience. The focus is solutions\, not blame. \nFaculty Sessions \nKeeping Students Engaged in Face‑to‑Face CoursesTime: 10:00–11:00Presenter: Jacob RichardsonRoom: __________ \n \nThis session focuses on practical strategies for increasingstudent engagement in in‑person classes. Emphasis is placed on real‑worldtechniques that work with today’s students. The goal is to share what isworking\, not prescribe teaching methods. \nSupporting Critical Thinking in StudentsTime: 11:00–12:00Presenter: Cody JacksonRoom: __________ \n \nThis session explores instructional approaches that fosteranalysis\, reflection\, and problem‑solving. Emphasis is placed on integratingcritical thinking into assignments\, discussions\, and assessments. Strategiesare applicable across disciplines. \nPeer Group Discussions \nFaculty Peer GroupsTime: 1:00–2:30Facilitators: Deans (by division)Room: __________ \n \nThese sessions provide faculty with a safe space to discussshared challenges and experiences. Deans facilitate to guide conversation andcapture themes. The focus is reflection\, connection\, and shared problem‑solving. \nStaff Peer GroupsTime: 1:00–2:30Facilitators: \n\nLibrary     – Tammy Powers\nDistance     Learning – Melissa Stiltner\nWorkforce     – Adrianna Culbertson\nFront‑Facing     Student Support – Lisa Haywood\nHuman     Resources – Kim Steiner\nBusiness     Office – Lindsay Salyers / Dyan Lester\nFoundation     – Stacey McGhee\nFacilities/Maintenance     – Dyan Lester     Room: __________\n\nThese peer discussions allow staff to connect withcolleagues in similar roles. Facilitators guide conversation to ensureproductive dialogue and shared understanding.
URL:https://sw.edu/event/professional-development-series-4/
LOCATION:DE116 & 118
END:VEVENT
BEGIN:VEVENT
DTSTART;TZID=America/New_York:20261207T140000
DTEND;TZID=America/New_York:20261207T150000
DTSTAMP:20260423T152419
CREATED:20250211T154849Z
LAST-MODIFIED:20250924T172218Z
UID:10001393-1796652000-1796655600@sw.edu
SUMMARY:Admin Cabinet
DESCRIPTION:Admin Cabinet bi-weekly meeting\, Dellinger Hall 116.
URL:https://sw.edu/event/admin-cabinet-71/
LOCATION:DE116
CATEGORIES:Administrative
END:VEVENT
BEGIN:VEVENT
DTSTART;TZID=America/New_York:20261208T090000
DTEND;TZID=America/New_York:20261208T104500
DTSTAMP:20260423T152419
CREATED:20241216T205048Z
LAST-MODIFIED:20260423T191114Z
UID:10001023-1796720400-1796726700@sw.edu
SUMMARY:Monthly Academic & Student Services Meeting
DESCRIPTION:
URL:https://sw.edu/event/monthly-academic-student-services-meeting-24/
LOCATION:DE116
CATEGORIES:Administrative
END:VEVENT
BEGIN:VEVENT
DTSTART;TZID=UTC:20261208T140000
DTEND;TZID=UTC:20261208T154500
DTSTAMP:20260423T152419
CREATED:20250721T061350Z
LAST-MODIFIED:20250924T171854Z
UID:10001746-1796738400-1796744700@sw.edu
SUMMARY:Monthly Academic & Student Services Meeting
DESCRIPTION:
URL:https://sw.edu/event/monthly-academic-student-services-meeting-48/
LOCATION:DE116
CATEGORIES:Administrative
END:VEVENT
BEGIN:VEVENT
DTSTART;VALUE=DATE:20261210
DTEND;VALUE=DATE:20261211
DTSTAMP:20260423T152419
CREATED:20250924T192849Z
LAST-MODIFIED:20260423T191114Z
UID:10002049-1796860800-1796947199@sw.edu
SUMMARY:Clinch Valley Soil & Water Monthly Meeting
DESCRIPTION:Clinch Valley Soil & Water Monthly Meeting
URL:https://sw.edu/event/clinch-valley-soil-water-monthly-meeting-48/
LOCATION:Lebanon Center Jefferson Room
END:VEVENT
BEGIN:VEVENT
DTSTART;VALUE=DATE:20261215
DTEND;VALUE=DATE:20261216
DTSTAMP:20260423T152419
CREATED:20250924T192849Z
LAST-MODIFIED:20260423T191115Z
UID:10002050-1797292800-1797379199@sw.edu
SUMMARY:PSA Russell County Monthly Meeting
DESCRIPTION:PSA Monthly Meeting
URL:https://sw.edu/event/psa-russell-county-monthly-meeting-47/
LOCATION:Lebanon Center Jefferson Room
END:VEVENT
BEGIN:VEVENT
DTSTART;VALUE=DATE:20261215
DTEND;VALUE=DATE:20261216
DTSTAMP:20260423T152419
CREATED:20251027T231203Z
LAST-MODIFIED:20260423T191114Z
UID:10002151-1797292800-1797379199@sw.edu
SUMMARY:Firefighter Association Monthly Meeting
DESCRIPTION:Firefighter Association Monthly Meeting the 3rd Tuesday of each month beginning at 630pm.
URL:https://sw.edu/event/firefighter-association-monthly-meeting-141/
LOCATION:Lebanon Center  B141 Student Lounge
END:VEVENT
BEGIN:VEVENT
DTSTART;TZID=America/New_York:20261215T183000
DTEND;TZID=America/New_York:20261215T203000
DTSTAMP:20260423T152419
CREATED:20250228T150333Z
LAST-MODIFIED:20250924T171608Z
UID:10001478-1797359400-1797366600@sw.edu
SUMMARY:Firefighter Association Monthly Meeting
DESCRIPTION:Firefighter Association Monthly Meeting the 3rd Tuesday of each month.
URL:https://sw.edu/event/firefighter-association-monthly-meeting-71/
LOCATION:Lebanon Center  B147
CATEGORIES:Private
END:VEVENT
BEGIN:VEVENT
DTSTART;TZID=America/New_York:20261215T183000
DTEND;TZID=America/New_York:20261215T203000
DTSTAMP:20260423T152419
CREATED:20250613T151418Z
LAST-MODIFIED:20251027T220056Z
UID:10001655-1797359400-1797366600@sw.edu
SUMMARY:Firefighter Association Monthly Meeting
DESCRIPTION:Firefighter Association Monthly Meeting the 3rd Tuesday of each month.
URL:https://sw.edu/event/firefighter-association-monthly-meeting-92/
LOCATION:Lebanon Center  B141 Student Lounge
CATEGORIES:Private
END:VEVENT
BEGIN:VEVENT
DTSTART;TZID=UTC:20261215T233000
DTEND;TZID=UTC:20261216T013000
DTSTAMP:20260423T152419
CREATED:20250721T061350Z
LAST-MODIFIED:20250924T171155Z
UID:10001747-1797377400-1797384600@sw.edu
SUMMARY:Firefighter Association Monthly Meeting
DESCRIPTION:Firefighter Association Monthly Meeting the 3rd Tuesday of each month.
URL:https://sw.edu/event/firefighter-association-monthly-meeting-115/
LOCATION:Lebanon Center  B141A
CATEGORIES:Private
END:VEVENT
BEGIN:VEVENT
DTSTART;VALUE=DATE:20261221
DTEND;VALUE=DATE:20261222
DTSTAMP:20260423T152419
CREATED:20250924T192850Z
LAST-MODIFIED:20260423T191115Z
UID:10002051-1797811200-1797897599@sw.edu
SUMMARY:Planning Commission Russell County
DESCRIPTION:Planning Commission Monthly Meeting
URL:https://sw.edu/event/planning-commission-russell-county-49/
LOCATION:Lebanon Center Jefferson Room
END:VEVENT
BEGIN:VEVENT
DTSTART;TZID=America/New_York:20261221T140000
DTEND;TZID=America/New_York:20261221T150000
DTSTAMP:20260423T152419
CREATED:20250211T154903Z
LAST-MODIFIED:20250924T172217Z
UID:10001395-1797861600-1797865200@sw.edu
SUMMARY:Admin Cabinet
DESCRIPTION:Admin Cabinet bi-weekly meeting\, Dellinger Hall 116.
URL:https://sw.edu/event/admin-cabinet-72/
LOCATION:DE116
CATEGORIES:Administrative
END:VEVENT
BEGIN:VEVENT
DTSTART;VALUE=DATE:20261224
DTEND;VALUE=DATE:20261225
DTSTAMP:20260423T152419
CREATED:20250425T160049Z
LAST-MODIFIED:20260423T191116Z
UID:10001584-1798070400-1798156799@sw.edu
SUMMARY:IDA Monthly Meeting
DESCRIPTION:Monthly IDA Meeting in the Jefferson Room
URL:https://sw.edu/event/ida-monthly-meeting-31/
LOCATION:Jefferson Room Lebanon Center
CATEGORIES:Private
END:VEVENT
BEGIN:VEVENT
DTSTART;TZID=America/New_York:20270104T140000
DTEND;TZID=America/New_York:20270104T150000
DTSTAMP:20260423T152419
CREATED:20250211T154904Z
LAST-MODIFIED:20250924T172215Z
UID:10001396-1799071200-1799074800@sw.edu
SUMMARY:Admin Cabinet
DESCRIPTION:Admin Cabinet bi-weekly meeting\, Dellinger Hall 116.
URL:https://sw.edu/event/admin-cabinet-73/
LOCATION:DE116
CATEGORIES:Administrative
END:VEVENT
BEGIN:VEVENT
DTSTART;TZID=America/New_York:20270112T090000
DTEND;TZID=America/New_York:20270112T104500
DTSTAMP:20260423T152419
CREATED:20250112T010038Z
LAST-MODIFIED:20260423T191116Z
UID:10001094-1799744400-1799750700@sw.edu
SUMMARY:Monthly Academic & Student Services Meeting
DESCRIPTION:
URL:https://sw.edu/event/monthly-academic-student-services-meeting-25/
LOCATION:DE116
CATEGORIES:Administrative
END:VEVENT
BEGIN:VEVENT
DTSTART;TZID=UTC:20270112T140000
DTEND;TZID=UTC:20270112T154500
DTSTAMP:20260423T152419
CREATED:20250721T061350Z
LAST-MODIFIED:20250924T171854Z
UID:10001748-1799762400-1799768700@sw.edu
SUMMARY:Monthly Academic & Student Services Meeting
DESCRIPTION:
URL:https://sw.edu/event/monthly-academic-student-services-meeting-49/
LOCATION:DE116
CATEGORIES:Administrative
END:VEVENT
BEGIN:VEVENT
DTSTART;VALUE=DATE:20270114
DTEND;VALUE=DATE:20270115
DTSTAMP:20260423T152419
CREATED:20250924T192850Z
LAST-MODIFIED:20260423T191117Z
UID:10002052-1799884800-1799971199@sw.edu
SUMMARY:Clinch Valley Soil & Water Monthly Meeting
DESCRIPTION:Clinch Valley Soil & Water Monthly Meeting
URL:https://sw.edu/event/clinch-valley-soil-water-monthly-meeting-49/
LOCATION:Lebanon Center Jefferson Room
END:VEVENT
BEGIN:VEVENT
DTSTART;VALUE=DATE:20270118
DTEND;VALUE=DATE:20270119
DTSTAMP:20260423T152419
CREATED:20250924T192851Z
LAST-MODIFIED:20260423T191117Z
UID:10002053-1800230400-1800316799@sw.edu
SUMMARY:Planning Commission Russell County
DESCRIPTION:Planning Commission Monthly Meeting
URL:https://sw.edu/event/planning-commission-russell-county-50/
LOCATION:Lebanon Center Jefferson Room
END:VEVENT
BEGIN:VEVENT
DTSTART;TZID=America/New_York:20270118T140000
DTEND;TZID=America/New_York:20270118T150000
DTSTAMP:20260423T152419
CREATED:20250211T154905Z
LAST-MODIFIED:20250924T172214Z
UID:10001397-1800280800-1800284400@sw.edu
SUMMARY:Admin Cabinet
DESCRIPTION:Admin Cabinet bi-weekly meeting\, Dellinger Hall 116.
URL:https://sw.edu/event/admin-cabinet-74/
LOCATION:DE116
CATEGORIES:Administrative
END:VEVENT
BEGIN:VEVENT
DTSTART;VALUE=DATE:20270119
DTEND;VALUE=DATE:20270120
DTSTAMP:20260423T152420
CREATED:20250924T192851Z
LAST-MODIFIED:20260423T191118Z
UID:10002054-1800316800-1800403199@sw.edu
SUMMARY:PSA Russell County Monthly Meeting
DESCRIPTION:PSA Monthly Meeting
URL:https://sw.edu/event/psa-russell-county-monthly-meeting-48/
LOCATION:Lebanon Center Jefferson Room
END:VEVENT
BEGIN:VEVENT
DTSTART;VALUE=DATE:20270119
DTEND;VALUE=DATE:20270120
DTSTAMP:20260423T152420
CREATED:20251027T231208Z
LAST-MODIFIED:20260423T191118Z
UID:10002152-1800316800-1800403199@sw.edu
SUMMARY:Firefighter Association Monthly Meeting
DESCRIPTION:Firefighter Association Monthly Meeting the 3rd Tuesday of each month beginning at 630pm.
URL:https://sw.edu/event/firefighter-association-monthly-meeting-142/
LOCATION:Lebanon Center  B141 Student Lounge
END:VEVENT
BEGIN:VEVENT
DTSTART;TZID=America/New_York:20270119T183000
DTEND;TZID=America/New_York:20270119T203000
DTSTAMP:20260423T152420
CREATED:20250613T151432Z
LAST-MODIFIED:20251027T220102Z
UID:10001656-1800383400-1800390600@sw.edu
SUMMARY:Firefighter Association Monthly Meeting
DESCRIPTION:Firefighter Association Monthly Meeting the 3rd Tuesday of each month.
URL:https://sw.edu/event/firefighter-association-monthly-meeting-93/
LOCATION:Lebanon Center  B141 Student Lounge
CATEGORIES:Private
END:VEVENT
BEGIN:VEVENT
DTSTART;TZID=UTC:20270119T233000
DTEND;TZID=UTC:20270120T013000
DTSTAMP:20260423T152420
CREATED:20250721T061402Z
LAST-MODIFIED:20250924T171155Z
UID:10001749-1800401400-1800408600@sw.edu
SUMMARY:Firefighter Association Monthly Meeting
DESCRIPTION:Firefighter Association Monthly Meeting the 3rd Tuesday of each month.
URL:https://sw.edu/event/firefighter-association-monthly-meeting-116/
LOCATION:Lebanon Center  B141A
CATEGORIES:Private
END:VEVENT
BEGIN:VEVENT
DTSTART;VALUE=DATE:20270128
DTEND;VALUE=DATE:20270129
DTSTAMP:20260423T152420
CREATED:20250425T160104Z
LAST-MODIFIED:20260423T191119Z
UID:10001585-1801094400-1801180799@sw.edu
SUMMARY:IDA Monthly Meeting
DESCRIPTION:Monthly IDA Meeting in the Jefferson Room
URL:https://sw.edu/event/ida-monthly-meeting-32/
LOCATION:Jefferson Room Lebanon Center
CATEGORIES:Private
END:VEVENT
BEGIN:VEVENT
DTSTART;TZID=America/New_York:20270201T140000
DTEND;TZID=America/New_York:20270201T150000
DTSTAMP:20260423T152420
CREATED:20250211T154919Z
LAST-MODIFIED:20250924T172213Z
UID:10001399-1801490400-1801494000@sw.edu
SUMMARY:Admin Cabinet
DESCRIPTION:Admin Cabinet bi-weekly meeting\, Dellinger Hall 116.
URL:https://sw.edu/event/admin-cabinet-75/
LOCATION:DE116
CATEGORIES:Administrative
END:VEVENT
END:VCALENDAR