BEGIN:VCALENDAR
VERSION:2.0
PRODID:-//Southwest Virginia Community College - ECPv6.15.17.1//NONSGML v1.0//EN
CALSCALE:GREGORIAN
METHOD:PUBLISH
X-ORIGINAL-URL:https://sw.edu
X-WR-CALDESC:Events for Southwest Virginia Community College
REFRESH-INTERVAL;VALUE=DURATION:PT1H
X-Robots-Tag:noindex
X-PUBLISHED-TTL:PT1H
BEGIN:VTIMEZONE
TZID:America/New_York
BEGIN:DAYLIGHT
TZOFFSETFROM:-0500
TZOFFSETTO:-0400
TZNAME:EDT
DTSTART:20250309T070000
END:DAYLIGHT
BEGIN:STANDARD
TZOFFSETFROM:-0400
TZOFFSETTO:-0500
TZNAME:EST
DTSTART:20251102T060000
END:STANDARD
BEGIN:DAYLIGHT
TZOFFSETFROM:-0500
TZOFFSETTO:-0400
TZNAME:EDT
DTSTART:20260308T070000
END:DAYLIGHT
BEGIN:STANDARD
TZOFFSETFROM:-0400
TZOFFSETTO:-0500
TZNAME:EST
DTSTART:20261101T060000
END:STANDARD
BEGIN:DAYLIGHT
TZOFFSETFROM:-0500
TZOFFSETTO:-0400
TZNAME:EDT
DTSTART:20270314T070000
END:DAYLIGHT
BEGIN:STANDARD
TZOFFSETFROM:-0400
TZOFFSETTO:-0500
TZNAME:EST
DTSTART:20271107T060000
END:STANDARD
END:VTIMEZONE
BEGIN:VTIMEZONE
TZID:UTC
BEGIN:STANDARD
TZOFFSETFROM:+0000
TZOFFSETTO:+0000
TZNAME:UTC
DTSTART:20250101T000000
END:STANDARD
END:VTIMEZONE
BEGIN:VEVENT
DTSTART;VALUE=DATE:20261008
DTEND;VALUE=DATE:20261009
DTSTAMP:20260423T162900
CREATED:20250924T192820Z
LAST-MODIFIED:20260423T202606Z
UID:10002043-1791417600-1791503999@sw.edu
SUMMARY:Clinch Valley Soil & Water Monthly Meeting
DESCRIPTION:Clinch Valley Soil & Water Monthly Meeting
URL:https://sw.edu/event/clinch-valley-soil-water-monthly-meeting-46/
LOCATION:Lebanon Center Jefferson Room
END:VEVENT
BEGIN:VEVENT
DTSTART;TZID=America/New_York:20261012T140000
DTEND;TZID=America/New_York:20261012T150000
DTSTAMP:20260423T162900
CREATED:20250211T154831Z
LAST-MODIFIED:20250924T172221Z
UID:10001387-1791813600-1791817200@sw.edu
SUMMARY:Admin Cabinet
DESCRIPTION:Admin Cabinet bi-weekly meeting\, Dellinger Hall 116.
URL:https://sw.edu/event/admin-cabinet-67/
LOCATION:DE116
CATEGORIES:Administrative
END:VEVENT
BEGIN:VEVENT
DTSTART;TZID=America/New_York:20261013T090000
DTEND;TZID=America/New_York:20261013T104500
DTSTAMP:20260423T162900
CREATED:20241216T205034Z
LAST-MODIFIED:20260423T202607Z
UID:10001021-1791882000-1791888300@sw.edu
SUMMARY:Monthly Academic & Student Services Meeting
DESCRIPTION:
URL:https://sw.edu/event/monthly-academic-student-services-meeting-22/
LOCATION:DE116
CATEGORIES:Administrative
END:VEVENT
BEGIN:VEVENT
DTSTART;TZID=UTC:20261013T130000
DTEND;TZID=UTC:20261013T144500
DTSTAMP:20260423T162900
CREATED:20250721T061336Z
LAST-MODIFIED:20250924T171856Z
UID:10001742-1791896400-1791902700@sw.edu
SUMMARY:Monthly Academic & Student Services Meeting
DESCRIPTION:
URL:https://sw.edu/event/monthly-academic-student-services-meeting-46/
LOCATION:DE116
CATEGORIES:Administrative
END:VEVENT
BEGIN:VEVENT
DTSTART;VALUE=DATE:20261019
DTEND;VALUE=DATE:20261020
DTSTAMP:20260423T162900
CREATED:20250924T192820Z
LAST-MODIFIED:20260423T202608Z
UID:10002044-1792368000-1792454399@sw.edu
SUMMARY:Planning Commission Russell County
DESCRIPTION:Planning Commission Monthly Meeting
URL:https://sw.edu/event/planning-commission-russell-county-47/
LOCATION:Lebanon Center Jefferson Room
END:VEVENT
BEGIN:VEVENT
DTSTART;VALUE=DATE:20261020
DTEND;VALUE=DATE:20261021
DTSTAMP:20260423T162900
CREATED:20250924T192833Z
LAST-MODIFIED:20260423T202607Z
UID:10002045-1792454400-1792540799@sw.edu
SUMMARY:PSA Russell County Monthly Meeting
DESCRIPTION:PSA Monthly Meeting
URL:https://sw.edu/event/psa-russell-county-monthly-meeting-45/
LOCATION:Lebanon Center Jefferson Room
END:VEVENT
BEGIN:VEVENT
DTSTART;VALUE=DATE:20261020
DTEND;VALUE=DATE:20261021
DTSTAMP:20260423T162901
CREATED:20251027T231149Z
LAST-MODIFIED:20260423T202608Z
UID:10002149-1792454400-1792540799@sw.edu
SUMMARY:Firefighter Association Monthly Meeting
DESCRIPTION:Firefighter Association Monthly Meeting the 3rd Tuesday of each month beginning at 630pm.
URL:https://sw.edu/event/firefighter-association-monthly-meeting-139/
LOCATION:Lebanon Center  B141 Student Lounge
END:VEVENT
BEGIN:VEVENT
DTSTART;TZID=America/New_York:20261020T183000
DTEND;TZID=America/New_York:20261020T203000
DTSTAMP:20260423T162901
CREATED:20250228T150304Z
LAST-MODIFIED:20250924T171610Z
UID:10001476-1792521000-1792528200@sw.edu
SUMMARY:Firefighter Association Monthly Meeting
DESCRIPTION:Firefighter Association Monthly Meeting the 3rd Tuesday of each month.
URL:https://sw.edu/event/firefighter-association-monthly-meeting-69/
LOCATION:Lebanon Center  B147
CATEGORIES:Private
END:VEVENT
BEGIN:VEVENT
DTSTART;TZID=America/New_York:20261020T183000
DTEND;TZID=America/New_York:20261020T203000
DTSTAMP:20260423T162901
CREATED:20250613T151404Z
LAST-MODIFIED:20251027T220049Z
UID:10001653-1792521000-1792528200@sw.edu
SUMMARY:Firefighter Association Monthly Meeting
DESCRIPTION:Firefighter Association Monthly Meeting the 3rd Tuesday of each month.
URL:https://sw.edu/event/firefighter-association-monthly-meeting-90/
LOCATION:Lebanon Center  B141 Student Lounge
CATEGORIES:Private
END:VEVENT
BEGIN:VEVENT
DTSTART;TZID=UTC:20261020T223000
DTEND;TZID=UTC:20261021T003000
DTSTAMP:20260423T162901
CREATED:20250721T061336Z
LAST-MODIFIED:20250924T171155Z
UID:10001743-1792535400-1792542600@sw.edu
SUMMARY:Firefighter Association Monthly Meeting
DESCRIPTION:Firefighter Association Monthly Meeting the 3rd Tuesday of each month.
URL:https://sw.edu/event/firefighter-association-monthly-meeting-113/
LOCATION:Lebanon Center  B141A
CATEGORIES:Private
END:VEVENT
BEGIN:VEVENT
DTSTART;VALUE=DATE:20261022
DTEND;VALUE=DATE:20261023
DTSTAMP:20260423T162901
CREATED:20250425T160023Z
LAST-MODIFIED:20260423T202609Z
UID:10001582-1792627200-1792713599@sw.edu
SUMMARY:IDA Monthly Meeting
DESCRIPTION:Monthly IDA Meeting in the Jefferson Room
URL:https://sw.edu/event/ida-monthly-meeting-29/
LOCATION:Jefferson Room Lebanon Center
CATEGORIES:Private
END:VEVENT
BEGIN:VEVENT
DTSTART;TZID=America/New_York:20261026T140000
DTEND;TZID=America/New_York:20261026T150000
DTSTAMP:20260423T162901
CREATED:20250211T154833Z
LAST-MODIFIED:20250924T172220Z
UID:10001389-1793023200-1793026800@sw.edu
SUMMARY:Admin Cabinet
DESCRIPTION:Admin Cabinet bi-weekly meeting\, Dellinger Hall 116.
URL:https://sw.edu/event/admin-cabinet-68/
LOCATION:DE116
CATEGORIES:Administrative
END:VEVENT
BEGIN:VEVENT
DTSTART;VALUE=DATE:20261106
DTEND;VALUE=DATE:20261107
DTSTAMP:20260423T162901
CREATED:20260423T184112Z
LAST-MODIFIED:20260423T202609Z
UID:10002604-1793923200-1794009599@sw.edu
SUMMARY:Professional Development Series
DESCRIPTION:Technology\,Teaching\, & Productivity \nStaff Session \nAI Tools for Staff: Productivity\, Planning\, &CommunicationTime: 10:00–11:00Presenter: John DezemberRoom: __________ \nThis session focuses on practical\, appropriate uses of AItools to save time and increase efficiency. Emphasis is placed on real‑worldtasks such as communication\, planning\, and organization. The goal is to reduceworkload strain while maintaining professionalism. \nFaculty Sessions \nAI Tools for Faculty: Enhancing Teaching & LearningTime: 11:00–12:00Presenter: John DezemberRoom: __________ \n \nThis session explores how AI can support instructionaldesign\, feedback\, and learning activities. Emphasis is placed on responsibleuse\, academic integrity\, and teaching enhancement—not replacement. Faculty willleave with realistic\, classroom‑appropriate ideas. \nLatest Canvas Tools & Tips / Online Teaching TipsTime: 1:00–2:00Presenters: Melissa Stiltner & Garrett WrightRoom: __________ \n \nThis session highlights new or underused Canvas featuresthat improve course organization and engagement. Emphasis is placed on time‑savingtools that enhance the student experience in both online and face‑to‑facecourses. Participants will gain immediately usable strategies. \nFaculty & Staff Session \nLeveraging Technology for Everyday Productivity (Teams\,Outlook\, Calendar)Time: 2:00–3:00Presenter: Charles MusickRoom: __________ \n \nThis session focuses on using existing technology moreeffectively to streamline communication and collaboration. Participants willlearn practical tips to reduce duplication and improve efficiency. The goal isto help everyone work smarter and stay connected.
URL:https://sw.edu/event/professional-development-series-3/
LOCATION:DE116 & 118
END:VEVENT
BEGIN:VEVENT
DTSTART;VALUE=DATE:20261109
DTEND;VALUE=DATE:20261110
DTSTAMP:20260423T162901
CREATED:20260331T203041Z
LAST-MODIFIED:20260423T202609Z
UID:10002577-1794182400-1794268799@sw.edu
SUMMARY:Community Center Closed
DESCRIPTION:Community Center closed due to preparing for Presidential Inauguration
URL:https://sw.edu/event/community-center-closed-3/
LOCATION:King Community Center\, 295 Community College Road\, Cedar Bluff\, VA\, 24609\, United States
END:VEVENT
BEGIN:VEVENT
DTSTART;TZID=America/New_York:20261109T140000
DTEND;TZID=America/New_York:20261109T150000
DTSTAMP:20260423T162901
CREATED:20250211T154846Z
LAST-MODIFIED:20250924T172219Z
UID:10001390-1794232800-1794236400@sw.edu
SUMMARY:Admin Cabinet
DESCRIPTION:Admin Cabinet bi-weekly meeting\, Dellinger Hall 116.
URL:https://sw.edu/event/admin-cabinet-69/
LOCATION:DE116
CATEGORIES:Administrative
END:VEVENT
BEGIN:VEVENT
DTSTART;VALUE=DATE:20261110
DTEND;VALUE=DATE:20261111
DTSTAMP:20260423T162901
CREATED:20260331T203040Z
LAST-MODIFIED:20260423T202610Z
UID:10002576-1794268800-1794355199@sw.edu
SUMMARY:Community Center Closed
DESCRIPTION:Community Center closed due to preparing for Presidential Inauguration
URL:https://sw.edu/event/community-center-closed-2/
LOCATION:King Community Center\, 295 Community College Road\, Cedar Bluff\, VA\, 24609\, United States
END:VEVENT
BEGIN:VEVENT
DTSTART;TZID=America/New_York:20261110T090000
DTEND;TZID=America/New_York:20261110T104500
DTSTAMP:20260423T162901
CREATED:20241216T205035Z
LAST-MODIFIED:20260423T202610Z
UID:10001022-1794301200-1794307500@sw.edu
SUMMARY:Monthly Academic & Student Services Meeting
DESCRIPTION:
URL:https://sw.edu/event/monthly-academic-student-services-meeting-23/
LOCATION:DE116
CATEGORIES:Administrative
END:VEVENT
BEGIN:VEVENT
DTSTART;TZID=UTC:20261110T140000
DTEND;TZID=UTC:20261110T154500
DTSTAMP:20260423T162901
CREATED:20250721T061337Z
LAST-MODIFIED:20250924T171855Z
UID:10001744-1794319200-1794325500@sw.edu
SUMMARY:Monthly Academic & Student Services Meeting
DESCRIPTION:
URL:https://sw.edu/event/monthly-academic-student-services-meeting-47/
LOCATION:DE116
CATEGORIES:Administrative
END:VEVENT
BEGIN:VEVENT
DTSTART;VALUE=DATE:20261111
DTEND;VALUE=DATE:20261112
DTSTAMP:20260423T162901
CREATED:20260331T203039Z
LAST-MODIFIED:20260423T202611Z
UID:10002575-1794355200-1794441599@sw.edu
SUMMARY:Community Center Closed
DESCRIPTION:Community Center closed due to preparing for Presidential Inauguration
URL:https://sw.edu/event/community-center-closed/
LOCATION:King Community Center\, 295 Community College Road\, Cedar Bluff\, VA\, 24609\, United States
END:VEVENT
BEGIN:VEVENT
DTSTART;VALUE=DATE:20261112
DTEND;VALUE=DATE:20261113
DTSTAMP:20260423T162901
CREATED:20250924T192834Z
LAST-MODIFIED:20260423T202611Z
UID:10002046-1794441600-1794527999@sw.edu
SUMMARY:Clinch Valley Soil & Water Monthly Meeting
DESCRIPTION:Clinch Valley Soil & Water Monthly Meeting
URL:https://sw.edu/event/clinch-valley-soil-water-monthly-meeting-47/
LOCATION:Lebanon Center Jefferson Room
END:VEVENT
BEGIN:VEVENT
DTSTART;VALUE=DATE:20261112
DTEND;VALUE=DATE:20261113
DTSTAMP:20260423T162901
CREATED:20260331T203042Z
LAST-MODIFIED:20260423T202611Z
UID:10002578-1794441600-1794527999@sw.edu
SUMMARY:Community Center Closed
DESCRIPTION:Community Center closed due to preparing for Presidential Inauguration
URL:https://sw.edu/event/community-center-closed-4/
LOCATION:King Community Center\, 295 Community College Road\, Cedar Bluff\, VA\, 24609\, United States
END:VEVENT
BEGIN:VEVENT
DTSTART;TZID=America/New_York:20261112T180000
DTEND;TZID=America/New_York:20261112T203000
DTSTAMP:20260423T162901
CREATED:20260302T222641Z
LAST-MODIFIED:20260303T164142Z
UID:10002514-1794506400-1794515400@sw.edu
SUMMARY:Lebanon Extension Office Workshp
DESCRIPTION:The Lebanon Cooperative Extension Office will hold a workshop beginning on Nov 5th at 6pm and will continue each week on Thursday until Nov 19th in the following rooms: Jefferson Room\, Auditorium and Student lounge. For more information contact the Russell County Cooperative Extension Office at 276-889-8056.
URL:https://sw.edu/event/lebanon-extension-office-workshp-2/
LOCATION:Lebanon Center\, 144 Highland Drive\, Lebanon\, VA\, 24266\, United States
END:VEVENT
BEGIN:VEVENT
DTSTART;VALUE=DATE:20261116
DTEND;VALUE=DATE:20261117
DTSTAMP:20260423T162901
CREATED:20250924T192835Z
LAST-MODIFIED:20260423T202612Z
UID:10002048-1794787200-1794873599@sw.edu
SUMMARY:Planning Commission Russell County
DESCRIPTION:Planning Commission Monthly Meeting
URL:https://sw.edu/event/planning-commission-russell-county-48/
LOCATION:Lebanon Center Jefferson Room
END:VEVENT
BEGIN:VEVENT
DTSTART;VALUE=DATE:20261117
DTEND;VALUE=DATE:20261118
DTSTAMP:20260423T162901
CREATED:20250924T192834Z
LAST-MODIFIED:20260423T202613Z
UID:10002047-1794873600-1794959999@sw.edu
SUMMARY:PSA Russell County Monthly Meeting
DESCRIPTION:PSA Monthly Meeting
URL:https://sw.edu/event/psa-russell-county-monthly-meeting-46/
LOCATION:Lebanon Center Jefferson Room
END:VEVENT
BEGIN:VEVENT
DTSTART;VALUE=DATE:20261117
DTEND;VALUE=DATE:20261118
DTSTAMP:20260423T162901
CREATED:20251027T231200Z
LAST-MODIFIED:20260423T202612Z
UID:10002150-1794873600-1794959999@sw.edu
SUMMARY:Firefighter Association Monthly Meeting
DESCRIPTION:Firefighter Association Monthly Meeting the 3rd Tuesday of each month beginning at 630pm.
URL:https://sw.edu/event/firefighter-association-monthly-meeting-140/
LOCATION:Lebanon Center  B141 Student Lounge
END:VEVENT
BEGIN:VEVENT
DTSTART;TZID=America/New_York:20261117T183000
DTEND;TZID=America/New_York:20261117T203000
DTSTAMP:20260423T162901
CREATED:20250228T150319Z
LAST-MODIFIED:20250924T171609Z
UID:10001477-1794940200-1794947400@sw.edu
SUMMARY:Firefighter Association Monthly Meeting
DESCRIPTION:Firefighter Association Monthly Meeting the 3rd Tuesday of each month.
URL:https://sw.edu/event/firefighter-association-monthly-meeting-70/
LOCATION:Lebanon Center  B147
CATEGORIES:Private
END:VEVENT
BEGIN:VEVENT
DTSTART;TZID=America/New_York:20261117T183000
DTEND;TZID=America/New_York:20261117T203000
DTSTAMP:20260423T162901
CREATED:20250613T151405Z
LAST-MODIFIED:20251027T220052Z
UID:10001654-1794940200-1794947400@sw.edu
SUMMARY:Firefighter Association Monthly Meeting
DESCRIPTION:Firefighter Association Monthly Meeting the 3rd Tuesday of each month.
URL:https://sw.edu/event/firefighter-association-monthly-meeting-91/
LOCATION:Lebanon Center  B141 Student Lounge
CATEGORIES:Private
END:VEVENT
BEGIN:VEVENT
DTSTART;TZID=UTC:20261117T233000
DTEND;TZID=UTC:20261118T013000
DTSTAMP:20260423T162901
CREATED:20250721T061337Z
LAST-MODIFIED:20250924T171155Z
UID:10001745-1794958200-1794965400@sw.edu
SUMMARY:Firefighter Association Monthly Meeting
DESCRIPTION:Firefighter Association Monthly Meeting the 3rd Tuesday of each month.
URL:https://sw.edu/event/firefighter-association-monthly-meeting-114/
LOCATION:Lebanon Center  B141A
CATEGORIES:Private
END:VEVENT
BEGIN:VEVENT
DTSTART;TZID=America/New_York:20261119T180000
DTEND;TZID=America/New_York:20261119T203000
DTSTAMP:20260423T162901
CREATED:20260302T222644Z
LAST-MODIFIED:20260303T164145Z
UID:10002515-1795111200-1795120200@sw.edu
SUMMARY:Lebanon Extension Office Workshp
DESCRIPTION:The Lebanon Cooperative Extension Office will hold a workshop beginning on Nov 5th at 6pm and will continue each week on Thursday until Nov 19th in the following rooms: Jefferson Room\, Auditorium and Student lounge. For more information contact the Russell County Cooperative Extension Office at 276-889-8056.
URL:https://sw.edu/event/lebanon-extension-office-workshp-3/
LOCATION:Lebanon Center\, 144 Highland Drive\, Lebanon\, VA\, 24266\, United States
END:VEVENT
BEGIN:VEVENT
DTSTART;TZID=America/New_York:20261123T140000
DTEND;TZID=America/New_York:20261123T150000
DTSTAMP:20260423T162901
CREATED:20250211T154848Z
LAST-MODIFIED:20250924T172219Z
UID:10001392-1795442400-1795446000@sw.edu
SUMMARY:Admin Cabinet
DESCRIPTION:Admin Cabinet bi-weekly meeting\, Dellinger Hall 116.
URL:https://sw.edu/event/admin-cabinet-70/
LOCATION:DE116
CATEGORIES:Administrative
END:VEVENT
END:VCALENDAR