BEGIN:VCALENDAR
VERSION:2.0
PRODID:-//Southwest Virginia Community College - ECPv6.15.17.1//NONSGML v1.0//EN
CALSCALE:GREGORIAN
METHOD:PUBLISH
X-WR-CALNAME:Southwest Virginia Community College
X-ORIGINAL-URL:https://sw.edu
X-WR-CALDESC:Events for Southwest Virginia Community College
REFRESH-INTERVAL;VALUE=DURATION:PT1H
X-Robots-Tag:noindex
X-PUBLISHED-TTL:PT1H
BEGIN:VTIMEZONE
TZID:America/New_York
BEGIN:DAYLIGHT
TZOFFSETFROM:-0500
TZOFFSETTO:-0400
TZNAME:EDT
DTSTART:20250309T070000
END:DAYLIGHT
BEGIN:STANDARD
TZOFFSETFROM:-0400
TZOFFSETTO:-0500
TZNAME:EST
DTSTART:20251102T060000
END:STANDARD
BEGIN:DAYLIGHT
TZOFFSETFROM:-0500
TZOFFSETTO:-0400
TZNAME:EDT
DTSTART:20260308T070000
END:DAYLIGHT
BEGIN:STANDARD
TZOFFSETFROM:-0400
TZOFFSETTO:-0500
TZNAME:EST
DTSTART:20261101T060000
END:STANDARD
BEGIN:DAYLIGHT
TZOFFSETFROM:-0500
TZOFFSETTO:-0400
TZNAME:EDT
DTSTART:20270314T070000
END:DAYLIGHT
BEGIN:STANDARD
TZOFFSETFROM:-0400
TZOFFSETTO:-0500
TZNAME:EST
DTSTART:20271107T060000
END:STANDARD
END:VTIMEZONE
BEGIN:VTIMEZONE
TZID:UTC
BEGIN:STANDARD
TZOFFSETFROM:+0000
TZOFFSETTO:+0000
TZNAME:UTC
DTSTART:20250101T000000
END:STANDARD
END:VTIMEZONE
BEGIN:VEVENT
DTSTART;VALUE=DATE:20260924
DTEND;VALUE=DATE:20260925
DTSTAMP:20260423T182815
CREATED:20250425T160010Z
LAST-MODIFIED:20260423T222556Z
UID:10001581-1790208000-1790294399@sw.edu
SUMMARY:IDA Monthly Meeting
DESCRIPTION:Monthly IDA Meeting in the Jefferson Room
URL:https://sw.edu/event/ida-monthly-meeting-28/
LOCATION:Jefferson Room Lebanon Center
CATEGORIES:Private
END:VEVENT
BEGIN:VEVENT
DTSTART;VALUE=DATE:20260921
DTEND;VALUE=DATE:20260922
DTSTAMP:20260423T182815
CREATED:20250924T192819Z
LAST-MODIFIED:20260423T222555Z
UID:10002042-1789948800-1790035199@sw.edu
SUMMARY:Planning Commission Russell County
DESCRIPTION:Planning Commission Monthly Meeting
URL:https://sw.edu/event/planning-commission-russell-county-46/
LOCATION:Lebanon Center Jefferson Room
END:VEVENT
BEGIN:VEVENT
DTSTART;TZID=UTC:20260915T223000
DTEND;TZID=UTC:20260916T003000
DTSTAMP:20260423T182815
CREATED:20250721T061324Z
LAST-MODIFIED:20250924T171155Z
UID:10001741-1789511400-1789518600@sw.edu
SUMMARY:Firefighter Association Monthly Meeting
DESCRIPTION:Firefighter Association Monthly Meeting the 3rd Tuesday of each month.
URL:https://sw.edu/event/firefighter-association-monthly-meeting-112/
LOCATION:Lebanon Center  B141A
CATEGORIES:Private
END:VEVENT
BEGIN:VEVENT
DTSTART;TZID=America/New_York:20260915T183000
DTEND;TZID=America/New_York:20260915T203000
DTSTAMP:20260423T182815
CREATED:20250613T151351Z
LAST-MODIFIED:20251027T220043Z
UID:10001652-1789497000-1789504200@sw.edu
SUMMARY:Firefighter Association Monthly Meeting
DESCRIPTION:Firefighter Association Monthly Meeting the 3rd Tuesday of each month.
URL:https://sw.edu/event/firefighter-association-monthly-meeting-89/
LOCATION:Lebanon Center  B141 Student Lounge
CATEGORIES:Private
END:VEVENT
BEGIN:VEVENT
DTSTART;TZID=America/New_York:20260915T183000
DTEND;TZID=America/New_York:20260915T203000
DTSTAMP:20260423T182815
CREATED:20250228T150302Z
LAST-MODIFIED:20250924T171611Z
UID:10001475-1789497000-1789504200@sw.edu
SUMMARY:Firefighter Association Monthly Meeting
DESCRIPTION:Firefighter Association Monthly Meeting the 3rd Tuesday of each month.
URL:https://sw.edu/event/firefighter-association-monthly-meeting-68/
LOCATION:Lebanon Center  B147
CATEGORIES:Private
END:VEVENT
BEGIN:VEVENT
DTSTART;VALUE=DATE:20260915
DTEND;VALUE=DATE:20260916
DTSTAMP:20260423T182815
CREATED:20251027T231146Z
LAST-MODIFIED:20260423T222554Z
UID:10002148-1789430400-1789516799@sw.edu
SUMMARY:Firefighter Association Monthly Meeting
DESCRIPTION:Firefighter Association Monthly Meeting the 3rd Tuesday of each month beginning at 630pm.
URL:https://sw.edu/event/firefighter-association-monthly-meeting-138/
LOCATION:Lebanon Center  B141 Student Lounge
END:VEVENT
BEGIN:VEVENT
DTSTART;VALUE=DATE:20260915
DTEND;VALUE=DATE:20260916
DTSTAMP:20260423T182815
CREATED:20250924T192819Z
LAST-MODIFIED:20260423T222555Z
UID:10002041-1789430400-1789516799@sw.edu
SUMMARY:PSA Russell County Monthly Meeting
DESCRIPTION:PSA Monthly Meeting
URL:https://sw.edu/event/psa-russell-county-monthly-meeting-44/
LOCATION:Lebanon Center Jefferson Room
END:VEVENT
BEGIN:VEVENT
DTSTART;TZID=America/New_York:20260914T140000
DTEND;TZID=America/New_York:20260914T150000
DTSTAMP:20260423T182815
CREATED:20250211T154815Z
LAST-MODIFIED:20250924T172223Z
UID:10001384-1789394400-1789398000@sw.edu
SUMMARY:Admin Cabinet
DESCRIPTION:Admin Cabinet bi-weekly meeting\, Dellinger Hall 116.
URL:https://sw.edu/event/admin-cabinet-65/
LOCATION:DE116
CATEGORIES:Administrative
END:VEVENT
BEGIN:VEVENT
DTSTART;VALUE=DATE:20260911
DTEND;VALUE=DATE:20260912
DTSTAMP:20260423T182815
CREATED:20260423T184106Z
LAST-MODIFIED:20260423T222554Z
UID:10002602-1789084800-1789171199@sw.edu
SUMMARY:Professional Development Series
DESCRIPTION:Systems\,Processes\, & Supporting Students \nFaculty Sessions \nSIS Training: What You Need to Know by RoleTime: 10:00–11:00Presenter: Alta LewisRoom: __________ \nThis session focuses on the SIS functions faculty use mostoften\, including grading\, enrollment‑related tasks\, and student records.Emphasis is placed on common questions\, frequent issues\, and how accuratesystem use supports students and compliance. Faculty will leave with a clearerunderstanding of their responsibilities and where to get support. \nNavigate Training: How to Support StudentsTime: 11:00–12:00Presenter: Leslie BrooksRoom: __________ \n \nThis session focuses on how faculty can use Navigate toidentify student needs\, document concerns\, and connect students to supportservices. Emphasis is placed on early intervention and understanding howfaculty actions fit into the larger student‑success network. Participants will alsolearn about a new flag in Navigate that will help ensure students are withdrawnin a more timely manner when needed. The goal is to reinforce Navigate as aproactive\, shared tool. \nHR: Managing Your Personal Time\, Leave\, & BenefitsTime: 1:00–2:00Presenter: Kim SteinerRoom: __________ \n \nThis session provides faculty with clear\, practical guidanceon leave usage\, benefits\, and time‑related processes. Emphasis is placed onplanning\, documentation\, and knowing where to find accurate information.Faculty should leave feeling more confident navigating routine HR matters. \nStaff Sessions \nHR: Managing Your Personal Time\, Leave\, & BenefitsTime: 11:00–12:00Presenter: Kim SteinerRoom: __________ \n \nThis session focuses on helping staff understand leave\,benefits\, and time management processes. Emphasis is placed on clarity\,planning ahead\, and reducing uncertainty around HR procedures. The goal is tobuild confidence and consistency. \nSIS Training: What You Need to Know by RoleTime: 1:00–2:00Presenter: Alta LewisRoom: __________ \n \nThis session focuses on SIS functions staff interact withregularly\, including student records\, processes\, and workflow connections.Emphasis is placed on accuracy\, efficiency\, and understanding how staff rolessupport student success. Participants should leave with clearer role alignment. \nNavigate Training: How to Support StudentsTime: 2:00–3:00Presenter: Leslie BrooksRoom: __________ \n \nThis session focuses on how staff use Navigate to track\,document\, and support students across departments. Emphasis is placed oncommunication\, follow‑through\, and understanding how referrals and notesconnect campus‑wide. Participants will also learn about a new flag in Navigatethat will help ensure students are withdrawn in a more timely manner whenneeded. The goal is to strengthen coordinated student support.
URL:https://sw.edu/event/professional-development-series/
LOCATION:DE 116 & 118
END:VEVENT
BEGIN:VEVENT
DTSTART;VALUE=DATE:20260910
DTEND;VALUE=DATE:20260911
DTSTAMP:20260423T182815
CREATED:20250924T192818Z
LAST-MODIFIED:20260423T222554Z
UID:10002040-1788998400-1789084799@sw.edu
SUMMARY:Clinch Valley Soil & Water Monthly Meeting
DESCRIPTION:Clinch Valley Soil & Water Monthly Meeting
URL:https://sw.edu/event/clinch-valley-soil-water-monthly-meeting-45/
LOCATION:Lebanon Center Jefferson Room
END:VEVENT
BEGIN:VEVENT
DTSTART;TZID=UTC:20260908T130000
DTEND;TZID=UTC:20260908T144500
DTSTAMP:20260423T182815
CREATED:20250721T061323Z
LAST-MODIFIED:20250924T171857Z
UID:10001740-1788872400-1788878700@sw.edu
SUMMARY:Monthly Academic & Student Services Meeting
DESCRIPTION:
URL:https://sw.edu/event/monthly-academic-student-services-meeting-45/
LOCATION:DE116
CATEGORIES:Administrative
END:VEVENT
BEGIN:VEVENT
DTSTART;TZID=America/New_York:20260908T090000
DTEND;TZID=America/New_York:20260908T104500
DTSTAMP:20260423T182815
CREATED:20241216T205034Z
LAST-MODIFIED:20260423T222553Z
UID:10001020-1788858000-1788864300@sw.edu
SUMMARY:Monthly Academic & Student Services Meeting
DESCRIPTION:
URL:https://sw.edu/event/monthly-academic-student-services-meeting-21/
LOCATION:DE116
CATEGORIES:Administrative
END:VEVENT
BEGIN:VEVENT
DTSTART;TZID=America/New_York:20260831T140000
DTEND;TZID=America/New_York:20260831T150000
DTSTAMP:20260423T182815
CREATED:20250211T154814Z
LAST-MODIFIED:20250924T172224Z
UID:10001383-1788184800-1788188400@sw.edu
SUMMARY:Admin Cabinet
DESCRIPTION:Admin Cabinet bi-weekly meeting\, Dellinger Hall 116.
URL:https://sw.edu/event/admin-cabinet-64/
LOCATION:DE116
CATEGORIES:Administrative
END:VEVENT
BEGIN:VEVENT
DTSTART;VALUE=DATE:20260827
DTEND;VALUE=DATE:20260828
DTSTAMP:20260423T182815
CREATED:20250425T160010Z
LAST-MODIFIED:20260423T222553Z
UID:10001580-1787788800-1787875199@sw.edu
SUMMARY:IDA Monthly Meeting
DESCRIPTION:Monthly IDA Meeting in the Jefferson Room
URL:https://sw.edu/event/ida-monthly-meeting-27/
LOCATION:Jefferson Room Lebanon Center
CATEGORIES:Private
END:VEVENT
BEGIN:VEVENT
DTSTART;TZID=UTC:20260818T223000
DTEND;TZID=UTC:20260819T003000
DTSTAMP:20260423T182815
CREATED:20250721T061323Z
LAST-MODIFIED:20250924T171156Z
UID:10001739-1787092200-1787099400@sw.edu
SUMMARY:Firefighter Association Monthly Meeting
DESCRIPTION:Firefighter Association Monthly Meeting the 3rd Tuesday of each month.
URL:https://sw.edu/event/firefighter-association-monthly-meeting-111/
LOCATION:Lebanon Center  B141A
CATEGORIES:Private
END:VEVENT
BEGIN:VEVENT
DTSTART;TZID=America/New_York:20260818T183000
DTEND;TZID=America/New_York:20260818T203000
DTSTAMP:20260423T182815
CREATED:20250613T151338Z
LAST-MODIFIED:20251027T220036Z
UID:10001651-1787077800-1787085000@sw.edu
SUMMARY:Firefighter Association Monthly Meeting
DESCRIPTION:Firefighter Association Monthly Meeting the 3rd Tuesday of each month.
URL:https://sw.edu/event/firefighter-association-monthly-meeting-88/
LOCATION:Lebanon Center  B141 Student Lounge
CATEGORIES:Private
END:VEVENT
BEGIN:VEVENT
DTSTART;TZID=America/New_York:20260818T183000
DTEND;TZID=America/New_York:20260818T203000
DTSTAMP:20260423T182815
CREATED:20250228T150246Z
LAST-MODIFIED:20250924T171612Z
UID:10001474-1787077800-1787085000@sw.edu
SUMMARY:Firefighter Association Monthly Meeting
DESCRIPTION:Firefighter Association Monthly Meeting the 3rd Tuesday of each month.
URL:https://sw.edu/event/firefighter-association-monthly-meeting-67/
LOCATION:Lebanon Center  B147
CATEGORIES:Private
END:VEVENT
BEGIN:VEVENT
DTSTART;VALUE=DATE:20260818
DTEND;VALUE=DATE:20260819
DTSTAMP:20260423T182815
CREATED:20251027T231141Z
LAST-MODIFIED:20260423T222552Z
UID:10002147-1787011200-1787097599@sw.edu
SUMMARY:Firefighter Association Monthly Meeting
DESCRIPTION:Firefighter Association Monthly Meeting the 3rd Tuesday of each month beginning at 630pm.
URL:https://sw.edu/event/firefighter-association-monthly-meeting-137/
LOCATION:Lebanon Center  B141 Student Lounge
END:VEVENT
BEGIN:VEVENT
DTSTART;VALUE=DATE:20260818
DTEND;VALUE=DATE:20260819
DTSTAMP:20260423T182816
CREATED:20250924T192806Z
LAST-MODIFIED:20260423T222550Z
UID:10002039-1787011200-1787097599@sw.edu
SUMMARY:PSA Russell County Monthly Meeting
DESCRIPTION:PSA Monthly Meeting
URL:https://sw.edu/event/psa-russell-county-monthly-meeting-43/
LOCATION:Lebanon Center Jefferson Room
END:VEVENT
BEGIN:VEVENT
DTSTART;TZID=America/New_York:20260817T140000
DTEND;TZID=America/New_York:20260817T150000
DTSTAMP:20260423T182816
CREATED:20250211T154759Z
LAST-MODIFIED:20250924T172225Z
UID:10001381-1786975200-1786978800@sw.edu
SUMMARY:Admin Cabinet
DESCRIPTION:Admin Cabinet bi-weekly meeting\, Dellinger Hall 116.
URL:https://sw.edu/event/admin-cabinet-63/
LOCATION:DE116
CATEGORIES:Administrative
END:VEVENT
BEGIN:VEVENT
DTSTART;VALUE=DATE:20260817
DTEND;VALUE=DATE:20260818
DTSTAMP:20260423T182816
CREATED:20250924T192806Z
LAST-MODIFIED:20260423T222552Z
UID:10002038-1786924800-1787011199@sw.edu
SUMMARY:Planning Commission Russell County
DESCRIPTION:Planning Commission Monthly Meeting
URL:https://sw.edu/event/planning-commission-russell-county-45/
LOCATION:Lebanon Center Jefferson Room
END:VEVENT
BEGIN:VEVENT
DTSTART;VALUE=DATE:20260813
DTEND;VALUE=DATE:20260814
DTSTAMP:20260423T182816
CREATED:20250924T192805Z
LAST-MODIFIED:20260423T222550Z
UID:10002037-1786579200-1786665599@sw.edu
SUMMARY:Clinch Valley Soil & Water Monthly Meeting
DESCRIPTION:Clinch Valley Soil & Water Monthly Meeting
URL:https://sw.edu/event/clinch-valley-soil-water-monthly-meeting-44/
LOCATION:Lebanon Center Jefferson Room
END:VEVENT
BEGIN:VEVENT
DTSTART;TZID=UTC:20260811T130000
DTEND;TZID=UTC:20260811T144500
DTSTAMP:20260423T182816
CREATED:20250721T061310Z
LAST-MODIFIED:20250924T171858Z
UID:10001738-1786453200-1786459500@sw.edu
SUMMARY:Monthly Academic & Student Services Meeting
DESCRIPTION:
URL:https://sw.edu/event/monthly-academic-student-services-meeting-44/
LOCATION:DE116
CATEGORIES:Administrative
END:VEVENT
BEGIN:VEVENT
DTSTART;TZID=America/New_York:20260811T090000
DTEND;TZID=America/New_York:20260811T104500
DTSTAMP:20260423T182816
CREATED:20241216T205034Z
LAST-MODIFIED:20260423T222550Z
UID:10001019-1786438800-1786445100@sw.edu
SUMMARY:Monthly Academic & Student Services Meeting
DESCRIPTION:
URL:https://sw.edu/event/monthly-academic-student-services-meeting-20/
LOCATION:DE116
CATEGORIES:Administrative
END:VEVENT
BEGIN:VEVENT
DTSTART;TZID=America/New_York:20260803T140000
DTEND;TZID=America/New_York:20260803T150000
DTSTAMP:20260423T182816
CREATED:20250211T154758Z
LAST-MODIFIED:20250924T172226Z
UID:10001380-1785765600-1785769200@sw.edu
SUMMARY:Admin Cabinet
DESCRIPTION:Admin Cabinet bi-weekly meeting\, Dellinger Hall 116.
URL:https://sw.edu/event/admin-cabinet-62/
LOCATION:DE116
CATEGORIES:Administrative
END:VEVENT
BEGIN:VEVENT
DTSTART;VALUE=DATE:20260723
DTEND;VALUE=DATE:20260724
DTSTAMP:20260423T182816
CREATED:20250425T155957Z
LAST-MODIFIED:20260423T222549Z
UID:10001579-1784764800-1784851199@sw.edu
SUMMARY:IDA Monthly Meeting
DESCRIPTION:Monthly IDA Meeting in the Jefferson Room
URL:https://sw.edu/event/ida-monthly-meeting-26/
LOCATION:Jefferson Room Lebanon Center
CATEGORIES:Private
END:VEVENT
BEGIN:VEVENT
DTSTART;TZID=UTC:20260721T223000
DTEND;TZID=UTC:20260722T003000
DTSTAMP:20260423T182816
CREATED:20250721T061310Z
LAST-MODIFIED:20250924T171156Z
UID:10001737-1784673000-1784680200@sw.edu
SUMMARY:Firefighter Association Monthly Meeting
DESCRIPTION:Firefighter Association Monthly Meeting the 3rd Tuesday of each month.
URL:https://sw.edu/event/firefighter-association-monthly-meeting-110/
LOCATION:Lebanon Center  B141A
CATEGORIES:Private
END:VEVENT
BEGIN:VEVENT
DTSTART;TZID=America/New_York:20260721T183000
DTEND;TZID=America/New_York:20260721T203000
DTSTAMP:20260423T182816
CREATED:20250613T151325Z
LAST-MODIFIED:20251027T220033Z
UID:10001650-1784658600-1784665800@sw.edu
SUMMARY:Firefighter Association Monthly Meeting
DESCRIPTION:Firefighter Association Monthly Meeting the 3rd Tuesday of each month.
URL:https://sw.edu/event/firefighter-association-monthly-meeting-87/
LOCATION:Lebanon Center  B141 Student Lounge
CATEGORIES:Private
END:VEVENT
BEGIN:VEVENT
DTSTART;TZID=America/New_York:20260721T183000
DTEND;TZID=America/New_York:20260721T203000
DTSTAMP:20260423T182816
CREATED:20250228T150230Z
LAST-MODIFIED:20250924T171613Z
UID:10001473-1784658600-1784665800@sw.edu
SUMMARY:Firefighter Association Monthly Meeting
DESCRIPTION:Firefighter Association Monthly Meeting the 3rd Tuesday of each month.
URL:https://sw.edu/event/firefighter-association-monthly-meeting-66/
LOCATION:Lebanon Center  B147
CATEGORIES:Private
END:VEVENT
BEGIN:VEVENT
DTSTART;VALUE=DATE:20260721
DTEND;VALUE=DATE:20260722
DTSTAMP:20260423T182816
CREATED:20251027T231137Z
LAST-MODIFIED:20260423T222549Z
UID:10002146-1784592000-1784678399@sw.edu
SUMMARY:Firefighter Association Monthly Meeting
DESCRIPTION:Firefighter Association Monthly Meeting the 3rd Tuesday of each month beginning at 630pm.
URL:https://sw.edu/event/firefighter-association-monthly-meeting-136/
LOCATION:Lebanon Center  B141 Student Lounge
END:VEVENT
END:VCALENDAR