BEGIN:VCALENDAR
VERSION:2.0
PRODID:-//Southwest Virginia Community College - ECPv6.15.17.1//NONSGML v1.0//EN
CALSCALE:GREGORIAN
METHOD:PUBLISH
X-ORIGINAL-URL:https://sw.edu
X-WR-CALDESC:Events for Southwest Virginia Community College
REFRESH-INTERVAL;VALUE=DURATION:PT1H
X-Robots-Tag:noindex
X-PUBLISHED-TTL:PT1H
BEGIN:VTIMEZONE
TZID:America/New_York
BEGIN:DAYLIGHT
TZOFFSETFROM:-0500
TZOFFSETTO:-0400
TZNAME:EDT
DTSTART:20260308T070000
END:DAYLIGHT
BEGIN:STANDARD
TZOFFSETFROM:-0400
TZOFFSETTO:-0500
TZNAME:EST
DTSTART:20261101T060000
END:STANDARD
BEGIN:DAYLIGHT
TZOFFSETFROM:-0500
TZOFFSETTO:-0400
TZNAME:EDT
DTSTART:20270314T070000
END:DAYLIGHT
BEGIN:STANDARD
TZOFFSETFROM:-0400
TZOFFSETTO:-0500
TZNAME:EST
DTSTART:20271107T060000
END:STANDARD
BEGIN:DAYLIGHT
TZOFFSETFROM:-0500
TZOFFSETTO:-0400
TZNAME:EDT
DTSTART:20280312T070000
END:DAYLIGHT
BEGIN:STANDARD
TZOFFSETFROM:-0400
TZOFFSETTO:-0500
TZNAME:EST
DTSTART:20281105T060000
END:STANDARD
END:VTIMEZONE
BEGIN:VEVENT
DTSTART;TZID=America/New_York:20271012T090000
DTEND;TZID=America/New_York:20271012T104500
DTSTAMP:20260419T194444
CREATED:20251012T002819Z
LAST-MODIFIED:20260419T232639Z
UID:10002100-1823331600-1823337900@sw.edu
SUMMARY:Monthly Academic & Student Services Meeting
DESCRIPTION:
URL:https://sw.edu/event/monthly-academic-student-services-meeting-58/
LOCATION:DE116
END:VEVENT
BEGIN:VEVENT
DTSTART;VALUE=DATE:20271014
DTEND;VALUE=DATE:20271015
DTSTAMP:20260419T194444
CREATED:20251014T005827Z
LAST-MODIFIED:20260419T232639Z
UID:10002105-1823472000-1823558399@sw.edu
SUMMARY:Clinch Valley Soil & Water Monthly Meeting
DESCRIPTION:Clinch Valley Soil & Water Monthly Meeting
URL:https://sw.edu/event/clinch-valley-soil-water-monthly-meeting-58/
LOCATION:Lebanon Center Jefferson Room
END:VEVENT
BEGIN:VEVENT
DTSTART;VALUE=DATE:20271018
DTEND;VALUE=DATE:20271019
DTSTAMP:20260419T194444
CREATED:20251018T010020Z
LAST-MODIFIED:20260419T232639Z
UID:10002117-1823817600-1823903999@sw.edu
SUMMARY:Planning Commission Russell County
DESCRIPTION:Planning Commission Monthly Meeting
URL:https://sw.edu/event/planning-commission-russell-county-59/
LOCATION:Lebanon Center Jefferson Room
END:VEVENT
BEGIN:VEVENT
DTSTART;VALUE=DATE:20271019
DTEND;VALUE=DATE:20271020
DTSTAMP:20260419T194444
CREATED:20251019T001323Z
LAST-MODIFIED:20260419T232640Z
UID:10002119-1823904000-1823990399@sw.edu
SUMMARY:PSA Russell County Monthly Meeting
DESCRIPTION:PSA Monthly Meeting
URL:https://sw.edu/event/psa-russell-county-monthly-meeting-57/
LOCATION:Lebanon Center Jefferson Room
END:VEVENT
BEGIN:VEVENT
DTSTART;VALUE=DATE:20271019
DTEND;VALUE=DATE:20271020
DTSTAMP:20260419T194444
CREATED:20251027T231250Z
LAST-MODIFIED:20260419T232640Z
UID:10002161-1823904000-1823990399@sw.edu
SUMMARY:Firefighter Association Monthly Meeting
DESCRIPTION:Firefighter Association Monthly Meeting the 3rd Tuesday of each month beginning at 630pm.
URL:https://sw.edu/event/firefighter-association-monthly-meeting-151/
LOCATION:Lebanon Center  B141 Student Lounge
END:VEVENT
BEGIN:VEVENT
DTSTART;TZID=America/New_York:20271019T183000
DTEND;TZID=America/New_York:20271019T203000
DTSTAMP:20260419T194444
CREATED:20251019T001322Z
LAST-MODIFIED:20251027T220139Z
UID:10002118-1823970600-1823977800@sw.edu
SUMMARY:Firefighter Association Monthly Meeting
DESCRIPTION:Firefighter Association Monthly Meeting the 3rd Tuesday of each month.
URL:https://sw.edu/event/firefighter-association-monthly-meeting-127/
LOCATION:Lebanon Center  B141 Student Lounge
END:VEVENT
BEGIN:VEVENT
DTSTART;VALUE=DATE:20271028
DTEND;VALUE=DATE:20271029
DTSTAMP:20260419T194444
CREATED:20251028T002818Z
LAST-MODIFIED:20260419T232640Z
UID:10002162-1824681600-1824767999@sw.edu
SUMMARY:IDA Monthly Meeting
DESCRIPTION:Monthly IDA Meeting in the Jefferson Room
URL:https://sw.edu/event/ida-monthly-meeting-41/
LOCATION:Jefferson Room Lebanon Center
END:VEVENT
END:VCALENDAR