BEGIN:VCALENDAR
VERSION:2.0
PRODID:-//Southwest Virginia Community College - ECPv6.15.17.1//NONSGML v1.0//EN
CALSCALE:GREGORIAN
METHOD:PUBLISH
X-ORIGINAL-URL:https://sw.edu
X-WR-CALDESC:Events for Southwest Virginia Community College
REFRESH-INTERVAL;VALUE=DURATION:PT1H
X-Robots-Tag:noindex
X-PUBLISHED-TTL:PT1H
BEGIN:VTIMEZONE
TZID:UTC
BEGIN:STANDARD
TZOFFSETFROM:+0000
TZOFFSETTO:+0000
TZNAME:UTC
DTSTART:20220101T000000
END:STANDARD
END:VTIMEZONE
BEGIN:VEVENT
DTSTART;TZID=UTC:20240214T170000
DTEND;TZID=UTC:20240214T203000
DTSTAMP:20260420T035722
CREATED:20240212T181042Z
LAST-MODIFIED:20240214T201038Z
UID:10000432-1707930000-1707942600@sw.edu
SUMMARY:Baseball at Combine Academy
DESCRIPTION:Baseball at Combine Academy\nView the full event details here: https://events.dudesolutions.com/swvcc/event/baseball-at-combine-academy-1/
URL:https://sw.edu/event/baseball-at-combine-academy-2/
LOCATION:Away Game 1
CATEGORIES:Athletic Events
END:VEVENT
BEGIN:VEVENT
DTSTART;TZID=UTC:20240213T180000
DTEND;TZID=UTC:20240213T210000
DTSTAMP:20260420T035723
CREATED:20240205T144045Z
LAST-MODIFIED:20240213T205538Z
UID:10000411-1707847200-1707858000@sw.edu
SUMMARY:Baseball at Combine Academy
DESCRIPTION:Baseball at Combine Academy\nView the full event details here: https://events.dudesolutions.com/swvcc/event/baseball-at-combine-academy/
URL:https://sw.edu/event/baseball-at-combine-academy/
LOCATION:Away Game 1
CATEGORIES:Athletic Events
END:VEVENT
BEGIN:VEVENT
DTSTART;TZID=UTC:20240211T190000
DTEND;TZID=UTC:20240211T210000
DTSTAMP:20260420T035723
CREATED:20231102T141231Z
LAST-MODIFIED:20240211T214032Z
UID:10000281-1707678000-1707685200@sw.edu
SUMMARY:Men's Basketball @ Lenoir Community College
DESCRIPTION:Men’s Basketball @ Lenoir Community College\nView the full event details here: https://events.dudesolutions.com/swvcc/event/mens-basketball–lenoir-community-college/
URL:https://sw.edu/event/mens-basketball-lenoir-community-college/
LOCATION:Away Game 1
CATEGORIES:Athletic Events
END:VEVENT
BEGIN:VEVENT
DTSTART;TZID=UTC:20240210T170000
DTEND;TZID=UTC:20240210T230000
DTSTAMP:20260420T035723
CREATED:20231102T141231Z
LAST-MODIFIED:20240210T225532Z
UID:10000280-1707584400-1707606000@sw.edu
SUMMARY:Cancelled - Baseball @ Chattanooga State Community College
DESCRIPTION:Baseball @ Chattanooga State Community College\nView the full event details here: https://events.dudesolutions.com/swvcc/event/baseball–chattanooga-state-community-college-1/
URL:https://sw.edu/event/baseball-chattanooga-state-community-college-2/
LOCATION:Away Game 1
CATEGORIES:Athletic Events
END:VEVENT
BEGIN:VEVENT
DTSTART;TZID=UTC:20240208T180000
DTEND;TZID=UTC:20240208T223000
DTSTAMP:20260420T035723
CREATED:20231102T141229Z
LAST-MODIFIED:20240209T205532Z
UID:10000277-1707415200-1707431400@sw.edu
SUMMARY:Baseball @ Chattanooga State Community College
DESCRIPTION:Baseball @ Chattanooga State Community College\nView the full event details here: https://events.dudesolutions.com/swvcc/event/baseball–chattanooga-state-community-college/
URL:https://sw.edu/event/baseball-chattanooga-state-community-college/
LOCATION:Away Game 1
CATEGORIES:Athletic Events
END:VEVENT
BEGIN:VEVENT
DTSTART;TZID=UTC:20240207T223000
DTEND;TZID=UTC:20240208T003000
DTSTAMP:20260420T035723
CREATED:20231102T141229Z
LAST-MODIFIED:20240208T002531Z
UID:10000276-1707345000-1707352200@sw.edu
SUMMARY:Men's Basketball @ Mountain Gateway Community College
DESCRIPTION:Men’s Basketball @ Mountain Gateway Community College\nView the full event details here: https://events.dudesolutions.com/swvcc/event/mens-basketball–mountain-gateway-community-college/
URL:https://sw.edu/event/mens-basketball-mountain-gateway-community-college/
LOCATION:Away Game 1
CATEGORIES:Athletic Events
END:VEVENT
BEGIN:VEVENT
DTSTART;TZID=UTC:20240203T170000
DTEND;TZID=UTC:20240203T230000
DTSTAMP:20260420T035723
CREATED:20240105T171118Z
LAST-MODIFIED:20240203T225532Z
UID:10000344-1706979600-1707001200@sw.edu
SUMMARY:Baseball @ East Mississippi Community College (DH)
DESCRIPTION:Baseball @ East Mississippi Community College (DH)\nView the full event details here: https://events.dudesolutions.com/swvcc/event/baseball–east-mississippi-community-college-dh-1/
URL:https://sw.edu/event/baseball-east-mississippi-community-college-dh-2/
LOCATION:Away Game 1
CATEGORIES:Athletic Events
END:VEVENT
BEGIN:VEVENT
DTSTART;TZID=UTC:20240128T140000
DTEND;TZID=UTC:20240128T160000
DTSTAMP:20260420T035723
CREATED:20231120T161151Z
LAST-MODIFIED:20240128T152626Z
UID:10000310-1706450400-1706457600@sw.edu
SUMMARY:Cancelled - Wrestling @ 2024 Newberry Open
DESCRIPTION:Wrestling @ 2024 Newberry Open\nView the full event details here: https://events.dudesolutions.com/swvcc/event/wrestling–2024-newberry-open/
URL:https://sw.edu/event/wrestling-2024-newberry-open/
LOCATION:Away Game 1
CATEGORIES:Athletic Events
END:VEVENT
BEGIN:VEVENT
DTSTART;TZID=UTC:20240124T210000
DTEND;TZID=UTC:20240124T230000
DTSTAMP:20260420T035723
CREATED:20231101T161243Z
LAST-MODIFIED:20240124T230046Z
UID:10000269-1706130000-1706137200@sw.edu
SUMMARY:Women's Basketball @ Catawba Valley Community College
DESCRIPTION:Women’s Basketball @ Catawba Valley Community College\nView the full event details here: https://events.dudesolutions.com/swvcc/event/womens-basketball–catawba-valley-community-college/
URL:https://sw.edu/event/womens-basketball-catawba-valley-community-college/
LOCATION:Away Game 1
CATEGORIES:Athletic Events
END:VEVENT
BEGIN:VEVENT
DTSTART;TZID=UTC:20240121T170000
DTEND;TZID=UTC:20240121T190000
DTSTAMP:20260420T035723
CREATED:20231120T161138Z
LAST-MODIFIED:20240121T183018Z
UID:10000308-1705856400-1705863600@sw.edu
SUMMARY:Cancelled - Wrestling @ Patrick & Henry
DESCRIPTION:Wrestling @ Patrick & Henry\nView the full event details here: https://events.dudesolutions.com/swvcc/event/wrestling–patrick–henry/
URL:https://sw.edu/event/wrestling-patrick-henry/
LOCATION:Away Game 1
CATEGORIES:Athletic Events
END:VEVENT
BEGIN:VEVENT
DTSTART;TZID=UTC:20240118T000000
DTEND;TZID=UTC:20240118T020000
DTSTAMP:20260420T035723
CREATED:20231101T161229Z
LAST-MODIFIED:20240118T014317Z
UID:10000264-1705536000-1705543200@sw.edu
SUMMARY:Women's Basketball @ Johnston University
DESCRIPTION:Women’s Basketball @ Johnston University\nView the full event details here: https://events.dudesolutions.com/swvcc/event/womens-basketball–johnston-university/
URL:https://sw.edu/event/womens-basketball-johnston-university/
LOCATION:Away Game 1
CATEGORIES:Athletic Events
END:VEVENT
BEGIN:VEVENT
DTSTART;TZID=UTC:20240116T223000
DTEND;TZID=UTC:20240117T003000
DTSTAMP:20260420T035723
CREATED:20231120T161137Z
LAST-MODIFIED:20240117T002640Z
UID:10000307-1705444200-1705451400@sw.edu
SUMMARY:Cancelled - Women's Basketball at Milligan College
DESCRIPTION:Women’s Basketball at Milligan College\nView the full event details here: https://events.dudesolutions.com/swvcc/event/womens-basketball-at-milligan-college/
URL:https://sw.edu/event/womens-basketball-at-milligan-college/
LOCATION:Away Game 1
CATEGORIES:Athletic Events
END:VEVENT
BEGIN:VEVENT
DTSTART;TZID=UTC:20240114T190000
DTEND;TZID=UTC:20240114T210000
DTSTAMP:20260420T035723
CREATED:20231101T161228Z
LAST-MODIFIED:20240114T205756Z
UID:10000262-1705258800-1705266000@sw.edu
SUMMARY:Women's Basketball @ Johnston Community College
DESCRIPTION:Women’s Basketball @ Johnston Community College\nView the full event details here: https://events.dudesolutions.com/swvcc/event/womens-basketball–johnston-community-college/
URL:https://sw.edu/event/womens-basketball-johnston-community-college/
LOCATION:Away Game 1
CATEGORIES:Athletic Events
END:VEVENT
BEGIN:VEVENT
DTSTART;TZID=UTC:20240113T190000
DTEND;TZID=UTC:20240113T210000
DTSTAMP:20260420T035723
CREATED:20231101T161227Z
LAST-MODIFIED:20240113T205733Z
UID:10000260-1705172400-1705179600@sw.edu
SUMMARY:Women's Basketball @ Louisburg College
DESCRIPTION:Women’s Basketball @ Louisburg College\nView the full event details here: https://events.dudesolutions.com/swvcc/event/womens-basketball–louisburg-college/
URL:https://sw.edu/event/womens-basketball-louisburg-college/
LOCATION:Away Game 1
CATEGORIES:Athletic Events
END:VEVENT
BEGIN:VEVENT
DTSTART;TZID=UTC:20240107T200000
DTEND;TZID=UTC:20240107T220000
DTSTAMP:20260420T035723
CREATED:20231101T161215Z
LAST-MODIFIED:20240107T215923Z
UID:10000258-1704657600-1704664800@sw.edu
SUMMARY:Men's Basketball @ Bryant & Stratton College
DESCRIPTION:Men’s Basketball @ Bryant & Stratton College\nView the full event details here: https://events.dudesolutions.com/swvcc/event/mens-basketball–bryant–stratton-college/
URL:https://sw.edu/event/mens-basketball-bryant-stratton-college/
LOCATION:Away Game 1
CATEGORIES:Athletic Events
END:VEVENT
BEGIN:VEVENT
DTSTART;TZID=UTC:20240106T190000
DTEND;TZID=UTC:20240106T210000
DTSTAMP:20260420T035723
CREATED:20231101T161214Z
LAST-MODIFIED:20240106T205704Z
UID:10000256-1704567600-1704574800@sw.edu
SUMMARY:Women's Basketball @ Cleveland Community College
DESCRIPTION:Women’s Basketball @ Cleveland Community College\nView the full event details here: https://events.dudesolutions.com/swvcc/event/womens-basketball–cleveland-community-college/
URL:https://sw.edu/event/womens-basketball-cleveland-community-college/
LOCATION:Away Game 1
CATEGORIES:Athletic Events
END:VEVENT
BEGIN:VEVENT
DTSTART;TZID=UTC:20240102T220000
DTEND;TZID=UTC:20240103T000000
DTSTAMP:20260420T035723
CREATED:20231101T161214Z
LAST-MODIFIED:20240102T235749Z
UID:10000255-1704232800-1704240000@sw.edu
SUMMARY:Cancelled - Men's Basketball @ Caldwell Community College & Tech Institute
DESCRIPTION:Men’s Basketball @ Caldwell Community College & Tech Institute\nView the full event details here: https://events.dudesolutions.com/swvcc/event/mens-basketball–caldwell-community-college–tech-institute/
URL:https://sw.edu/event/mens-basketball-caldwell-community-college-tech-institute/
LOCATION:Away Game 1
CATEGORIES:Athletic Events
END:VEVENT
BEGIN:VEVENT
DTSTART;TZID=UTC:20231217T230000
DTEND;TZID=UTC:20231218T010000
DTSTAMP:20260420T035723
CREATED:20231101T161213Z
LAST-MODIFIED:20231218T004219Z
UID:10000253-1702854000-1702861200@sw.edu
SUMMARY:Women's Basketball @ Brunswick Community College
DESCRIPTION:Women’s Basketball @ Brunswick Community College\nView the full event details here: https://events.dudesolutions.com/swvcc/event/womens-basketball–brunswick-community-college/
URL:https://sw.edu/event/womens-basketball-brunswick-community-college/
LOCATION:Away Game 1
CATEGORIES:Athletic Events
END:VEVENT
BEGIN:VEVENT
DTSTART;TZID=UTC:20231216T190000
DTEND;TZID=UTC:20231216T210000
DTSTAMP:20260420T035723
CREATED:20231101T161212Z
LAST-MODIFIED:20231216T204153Z
UID:10000251-1702753200-1702760400@sw.edu
SUMMARY:Women's Basketball @ Cape Fear Community College
DESCRIPTION:Women’s Basketball @ Cape Fear Community College\nView the full event details here: https://events.dudesolutions.com/swvcc/event/womens-basketball–cape-fear-community-college/
URL:https://sw.edu/event/womens-basketball-cape-fear-community-college/
LOCATION:Away Game 1
CATEGORIES:Athletic Events
END:VEVENT
BEGIN:VEVENT
DTSTART;TZID=UTC:20231209T190000
DTEND;TZID=UTC:20231209T210000
DTSTAMP:20260420T035723
CREATED:20231101T161158Z
LAST-MODIFIED:20231209T204154Z
UID:10000247-1702148400-1702155600@sw.edu
SUMMARY:Men's Basketball @ Davidson-Davie Community College
DESCRIPTION:Men’s Basketball @ Davidson-Davie Community College\nView the full event details here: https://events.dudesolutions.com/swvcc/event/mens-basketball–davidson-davie-community-college/
URL:https://sw.edu/event/mens-basketball-davidson-davie-community-college/
LOCATION:Away Game 1
CATEGORIES:Athletic Events
END:VEVENT
BEGIN:VEVENT
DTSTART;TZID=UTC:20231207T000000
DTEND;TZID=UTC:20231207T020000
DTSTAMP:20260420T035723
CREATED:20231101T161144Z
LAST-MODIFIED:20231207T013041Z
UID:10000245-1701907200-1701914400@sw.edu
SUMMARY:Men's Basketball @ Cleveland Community College
DESCRIPTION:Men’s Basketball @ Cleveland Community College\nView the full event details here: https://events.dudesolutions.com/swvcc/event/mens-basketball–cleveland-community-college-1/
URL:https://sw.edu/event/mens-basketball-cleveland-community-college-2/
LOCATION:Away Game 1
CATEGORIES:Athletic Events
END:VEVENT
BEGIN:VEVENT
DTSTART;TZID=UTC:20231120T223000
DTEND;TZID=UTC:20231121T003000
DTSTAMP:20260420T035723
CREATED:20231101T161117Z
LAST-MODIFIED:20231121T001034Z
UID:10000238-1700519400-1700526600@sw.edu
SUMMARY:Cancelled - Women's Basketball @ Milligan College
DESCRIPTION:Women’s Basketball @ Milligan College\nView the full event details here: https://events.dudesolutions.com/swvcc/event/womens-basketball–milligan-college/
URL:https://sw.edu/event/womens-basketball-milligan-college/
LOCATION:Away Game 1
CATEGORIES:Athletic Events
END:VEVENT
BEGIN:VEVENT
DTSTART;TZID=UTC:20231116T220000
DTEND;TZID=UTC:20231117T000000
DTSTAMP:20260420T035723
CREATED:20231101T161116Z
LAST-MODIFIED:20231116T235531Z
UID:10000235-1700172000-1700179200@sw.edu
SUMMARY:Men's Basketball @ Guilford Technical CC
DESCRIPTION:Men’s Basketball @ Guilford Technical CC\nView the full event details here: https://events.dudesolutions.com/swvcc/event/mens-basketball–guilford-technical-cc/
URL:https://sw.edu/event/mens-basketball-guilford-technical-cc/
LOCATION:Away Game 1
CATEGORIES:Athletic Events
END:VEVENT
BEGIN:VEVENT
DTSTART;TZID=UTC:20231112T180000
DTEND;TZID=UTC:20231112T200000
DTSTAMP:20260420T035723
CREATED:20231101T161102Z
LAST-MODIFIED:20231112T192530Z
UID:10000233-1699812000-1699819200@sw.edu
SUMMARY:Men's Basketball @ UPike
DESCRIPTION:Men’s Basketball @ UPike\nView the full event details here: https://events.dudesolutions.com/swvcc/event/mens-basketball–upike/
URL:https://sw.edu/event/mens-basketball-upike/
LOCATION:Away Game 1
CATEGORIES:Athletic Events
END:VEVENT
BEGIN:VEVENT
DTSTART;TZID=UTC:20231111T180000
DTEND;TZID=UTC:20231111T200000
DTSTAMP:20260420T035723
CREATED:20231101T161101Z
LAST-MODIFIED:20231111T194050Z
UID:10000231-1699725600-1699732800@sw.edu
SUMMARY:Women's Basketball @ Richard Bland College
DESCRIPTION:Women’s Basketball @ Richard Bland College\nView the full event details here: https://events.dudesolutions.com/swvcc/event/womens-basketball–richard-bland-college/
URL:https://sw.edu/event/womens-basketball-richard-bland-college/
LOCATION:Away Game 1
CATEGORIES:Athletic Events
END:VEVENT
BEGIN:VEVENT
DTSTART;TZID=UTC:20231108T180000
DTEND;TZID=UTC:20231108T200000
DTSTAMP:20260420T035723
CREATED:20231101T161049Z
LAST-MODIFIED:20231108T195549Z
UID:10000230-1699466400-1699473600@sw.edu
SUMMARY:Women's and Men's Tennis @ Johnson and Wales University
DESCRIPTION:Women’s and Men’s Tennis @ Johnson and Wales University\nView the full event details here: https://events.dudesolutions.com/swvcc/event/womens-and-mens-tennis–johnson-and-wales-university/
URL:https://sw.edu/event/womens-and-mens-tennis-johnson-and-wales-university/
LOCATION:Away Game 1
CATEGORIES:Athletic Events
END:VEVENT
BEGIN:VEVENT
DTSTART;TZID=UTC:20231103T190000
DTEND;TZID=UTC:20231103T220000
DTSTAMP:20260420T035723
CREATED:20231023T124111Z
LAST-MODIFIED:20231103T214028Z
UID:10000204-1699038000-1699048800@sw.edu
SUMMARY:Baseball @ UVA Wise
DESCRIPTION:Baseball @ UVA Wise\nView the full event details here: https://events.dudesolutions.com/swvcc/event/baseball–uva-wise/
URL:https://sw.edu/event/baseball-uva-wise/
LOCATION:Away Game 1
CATEGORIES:Athletic Events
END:VEVENT
BEGIN:VEVENT
DTSTART;TZID=UTC:20231102T220000
DTEND;TZID=UTC:20231103T000000
DTSTAMP:20260420T035723
CREATED:20231011T002627Z
LAST-MODIFIED:20231102T232532Z
UID:10000181-1698962400-1698969600@sw.edu
SUMMARY:Cancelled - Women's Basketball at Alice Lloyd
DESCRIPTION:Women’s Basketball at Alice Lloyd\nView the full event details here: https://events.dudesolutions.com/swvcc/event/womens-basketball-at-alice-lloyd/
URL:https://sw.edu/event/womens-basketball-at-alice-lloyd/
LOCATION:Away Game 1
CATEGORIES:Athletic Events
END:VEVENT
BEGIN:VEVENT
DTSTART;TZID=UTC:20231101T220000
DTEND;TZID=UTC:20231102T000000
DTSTAMP:20260420T035723
CREATED:20231010T212632Z
LAST-MODIFIED:20231101T234030Z
UID:10000180-1698876000-1698883200@sw.edu
SUMMARY:Men's Basketball @ Alice Lloyd JV
DESCRIPTION:Men’s Basketball @ Alice Lloyd JV\nView the full event details here: https://events.dudesolutions.com/swvcc/event/mens-basketball–alice-lloyd-jv/
URL:https://sw.edu/event/mens-basketball-alice-lloyd-jv/
LOCATION:Away Game 1
CATEGORIES:Athletic Events
END:VEVENT
BEGIN:VEVENT
DTSTART;TZID=UTC:20231101T210000
DTEND;TZID=UTC:20231101T220000
DTSTAMP:20260420T035723
CREATED:20231023T124058Z
LAST-MODIFIED:20231101T215529Z
UID:10000203-1698872400-1698876000@sw.edu
SUMMARY:Women's Basketball at Alice Lloyd
DESCRIPTION:Women’s Basketball at Alice Lloyd\nView the full event details here: https://events.dudesolutions.com/swvcc/event/womens-basketball-at-alice-lloyd-1/
URL:https://sw.edu/event/womens-basketball-at-alice-lloyd-2/
LOCATION:Away Game 1
CATEGORIES:Athletic Events
END:VEVENT
END:VCALENDAR