BEGIN:VCALENDAR
VERSION:2.0
PRODID:-//Southwest Virginia Community College - ECPv6.15.17.1//NONSGML v1.0//EN
CALSCALE:GREGORIAN
METHOD:PUBLISH
X-ORIGINAL-URL:https://sw.edu
X-WR-CALDESC:Events for Southwest Virginia Community College
REFRESH-INTERVAL;VALUE=DURATION:PT1H
X-Robots-Tag:noindex
X-PUBLISHED-TTL:PT1H
BEGIN:VTIMEZONE
TZID:America/New_York
BEGIN:DAYLIGHT
TZOFFSETFROM:-0500
TZOFFSETTO:-0400
TZNAME:EDT
DTSTART:20240310T070000
END:DAYLIGHT
BEGIN:STANDARD
TZOFFSETFROM:-0400
TZOFFSETTO:-0500
TZNAME:EST
DTSTART:20241103T060000
END:STANDARD
BEGIN:DAYLIGHT
TZOFFSETFROM:-0500
TZOFFSETTO:-0400
TZNAME:EDT
DTSTART:20250309T070000
END:DAYLIGHT
BEGIN:STANDARD
TZOFFSETFROM:-0400
TZOFFSETTO:-0500
TZNAME:EST
DTSTART:20251102T060000
END:STANDARD
BEGIN:DAYLIGHT
TZOFFSETFROM:-0500
TZOFFSETTO:-0400
TZNAME:EDT
DTSTART:20260308T070000
END:DAYLIGHT
BEGIN:STANDARD
TZOFFSETFROM:-0400
TZOFFSETTO:-0500
TZNAME:EST
DTSTART:20261101T060000
END:STANDARD
END:VTIMEZONE
BEGIN:VTIMEZONE
TZID:UTC
BEGIN:STANDARD
TZOFFSETFROM:+0000
TZOFFSETTO:+0000
TZNAME:UTC
DTSTART:20230101T000000
END:STANDARD
END:VTIMEZONE
BEGIN:VEVENT
DTSTART;TZID=America/New_York:20250422T120000
DTEND;TZID=America/New_York:20250422T143000
DTSTAMP:20260425T000316
CREATED:20241101T175750Z
LAST-MODIFIED:20250416T123022Z
UID:10000955-1745323200-1745332200@sw.edu
SUMMARY:Festival of the Arts: Trivia
DESCRIPTION:Trivia: Celebrating 30 Years of Festival of the Arts \n\n\n\nFor 30 years the Festival of the Arts has celebrated creativity\, culture\, and community. Now we’ll test your knowledge of our region’s rich artistic heritage with 30 engaging questions! \n\n\n\n\n\n\n\n\n\n\nMore Festival of the Arts Events
URL:https://sw.edu/event/back-to-our-future-celebrating-30-years-2025-festival-of-the-arts-trivia/
LOCATION:Room DE-118\, Earl E. & Dorothy J. Dellinger Hall\, 965 Community College Rd\, Cedar Bluff\, VA\, 24609\, United States
CATEGORIES:Community Events,Festival of The Arts
ATTACH;FMTTYPE=image/jpeg:https://sw.edu/wp-content/uploads/2024/11/TRIVIA-2157384498-scaled.jpg
END:VEVENT
BEGIN:VEVENT
DTSTART;TZID=UTC:20241025T170000
DTEND;TZID=UTC:20241025T200000
DTSTAMP:20260425T000316
CREATED:20240909T151146Z
LAST-MODIFIED:20241017T104047Z
UID:10000834-1729875600-1729886400@sw.edu
SUMMARY:Faculty/Staff Meeting w/ Guest Speaker
DESCRIPTION:Faculty/Staff Meeting w/ Guest Speaker\nView the full event details here: https://events.dudesolutions.com/swvcc/event/facultystaff-meeting-w-guest-speaker/
URL:https://sw.edu/event/faculty-staff-meeting-w-guest-speaker/
LOCATION:Room DE-118\, Earl E. & Dorothy J. Dellinger Hall\, 965 Community College Rd\, Cedar Bluff\, VA\, 24609\, United States
CATEGORIES:Faculity/Staff
END:VEVENT
BEGIN:VEVENT
DTSTART;TZID=UTC:20240917T160000
DTEND;TZID=UTC:20240917T171500
DTSTAMP:20260425T000316
CREATED:20240830T171100Z
LAST-MODIFIED:20240917T162533Z
UID:10000807-1726588800-1726593300@sw.edu
SUMMARY:Civic Engagement
DESCRIPTION:Civic Engagement\nView the full event details here: https://events.dudesolutions.com/swvcc/event/civic-engagement/
URL:https://sw.edu/event/civic-engagement/
LOCATION:Room DE-118\, Earl E. & Dorothy J. Dellinger Hall\, 965 Community College Rd\, Cedar Bluff\, VA\, 24609\, United States
CATEGORIES:Student Events
END:VEVENT
BEGIN:VEVENT
DTSTART;TZID=UTC:20240904T160000
DTEND;TZID=UTC:20240904T170000
DTSTAMP:20260425T000316
CREATED:20240827T202532Z
LAST-MODIFIED:20240904T162531Z
UID:10000770-1725465600-1725469200@sw.edu
SUMMARY:"Study Abroad Japan"
DESCRIPTION:⛩️ Our next Study Abroad destination is JAPAN!🏯 March 9-19\, 2025🎎 Visiting Tokyo\, Osaka\, Hiroshima\, and Kyoto🇯🇵 LEARN MORE at our info session on Wednesday\, September 4 at 12:15pm in Dellinger Hall Room 118.
URL:https://sw.edu/event/study-abroad-japan/
LOCATION:Room DE-118\, Earl E. & Dorothy J. Dellinger Hall\, 965 Community College Rd\, Cedar Bluff\, VA\, 24609\, United States
CATEGORIES:Student Events
ATTACH;FMTTYPE=image/png:https://sw.edu/wp-content/uploads/2024/08/Japan-Travel-Poster-1920-x-1080-px.png
END:VEVENT
BEGIN:VEVENT
DTSTART;TZID=UTC:20240820T160000
DTEND;TZID=UTC:20240820T180000
DTSTAMP:20260425T000316
CREATED:20240815T132533Z
LAST-MODIFIED:20240820T175531Z
UID:10000758-1724169600-1724176800@sw.edu
SUMMARY:Athletics Baseball Meeting
DESCRIPTION:Baseball Meeting\nView the full event details here: https://events.dudesolutions.com/swvcc/event/athletics-baseball-meeting/
URL:https://sw.edu/event/athletics-baseball-meeting/
LOCATION:Room DE-118\, Earl E. & Dorothy J. Dellinger Hall\, 965 Community College Rd\, Cedar Bluff\, VA\, 24609\, United States
CATEGORIES:Athletic Events
END:VEVENT
BEGIN:VEVENT
DTSTART;TZID=UTC:20240409T230000
DTEND;TZID=UTC:20240410T010000
DTSTAMP:20260425T000316
CREATED:20240403T172546Z
LAST-MODIFIED:20240410T004030Z
UID:10000591-1712703600-1712710800@sw.edu
SUMMARY:China Town Hall
DESCRIPTION:Online event\nView the full event details here: https://events.dudesolutions.com/swvcc/event/china-town-hall-1/
URL:https://sw.edu/event/china-town-hall-2/
LOCATION:Room DE-118\, Earl E. & Dorothy J. Dellinger Hall\, 965 Community College Rd\, Cedar Bluff\, VA\, 24609\, United States
CATEGORIES:Student Events
END:VEVENT
END:VCALENDAR