BEGIN:VCALENDAR
VERSION:2.0
PRODID:-//Southwest Virginia Community College - ECPv6.15.17.1//NONSGML v1.0//EN
CALSCALE:GREGORIAN
METHOD:PUBLISH
X-WR-CALNAME:Southwest Virginia Community College
X-ORIGINAL-URL:https://sw.edu
X-WR-CALDESC:Events for Southwest Virginia Community College
REFRESH-INTERVAL;VALUE=DURATION:PT1H
X-Robots-Tag:noindex
X-PUBLISHED-TTL:PT1H
BEGIN:VTIMEZONE
TZID:UTC
BEGIN:STANDARD
TZOFFSETFROM:+0000
TZOFFSETTO:+0000
TZNAME:UTC
DTSTART:20220101T000000
END:STANDARD
END:VTIMEZONE
BEGIN:VEVENT
DTSTART;TZID=UTC:20230920T163000
DTEND;TZID=UTC:20230920T173000
DTSTAMP:20260420T005706
CREATED:20230919T144029Z
LAST-MODIFIED:20230920T165534Z
UID:10000132-1695227400-1695231000@sw.edu
SUMMARY:CRU
DESCRIPTION:Campus Crusades for Christ\nView the full event details here: https://events.dudesolutions.com/swvcc/event/cru-12/
URL:https://sw.edu/event/cru/
LOCATION:DE 118
CATEGORIES:Student Events
END:VEVENT
BEGIN:VEVENT
DTSTART;TZID=UTC:20230823T210000
DTEND;TZID=UTC:20230824T000000
DTSTAMP:20260420T005706
CREATED:20230811T125627Z
LAST-MODIFIED:20230823T232535Z
UID:10000071-1692824400-1692835200@sw.edu
SUMMARY:Virginia Energy BIL Public Participation Meeting
DESCRIPTION:Virginia Energy Bipartisan Infrastructure Law (BIL) Public Participation Meeting\nView the full event details here: https://events.dudesolutions.com/swvcc/event/virginia-energy-bil-public-participation-meeting/
URL:https://sw.edu/event/virginia-energy-bil-public-participation-meeting/
LOCATION:DE 118
CATEGORIES:Community Events
END:VEVENT
BEGIN:VEVENT
DTSTART;TZID=UTC:20230814T170000
DTEND;TZID=UTC:20230814T200000
DTSTAMP:20260420T005706
CREATED:20230731T195541Z
LAST-MODIFIED:20230814T171044Z
UID:10000034-1692032400-1692043200@sw.edu
SUMMARY:New Student Orientation
DESCRIPTION:New Student Orientation – Welcome to the Flying Eagle Family. Session 1 9:00am – 12:00pm Session 2 1:00pm – 4:00pm\nView the full event details here: https://events.dudesolutions.com/swvcc/event/new-student-orientation-1/
URL:https://sw.edu/event/new-student-orientation-2/
LOCATION:DE 118
CATEGORIES:Student Events
END:VEVENT
BEGIN:VEVENT
DTSTART;TZID=UTC:20230814T130000
DTEND;TZID=UTC:20230814T160000
DTSTAMP:20260420T005706
CREATED:20230731T195541Z
LAST-MODIFIED:20230814T151046Z
UID:10000033-1692018000-1692028800@sw.edu
SUMMARY:New Student Orientation
DESCRIPTION:New Student Orientation – Welcome to the Flying Eagle Family. Session 1 9:00am – 12:00pm Session 2 1:00pm – 4:00pm\nView the full event details here: https://events.dudesolutions.com/swvcc/event/new-student-orientation/
URL:https://sw.edu/event/new-student-orientation/
LOCATION:DE 118
CATEGORIES:Student Events
END:VEVENT
END:VCALENDAR