BEGIN:VCALENDAR
VERSION:2.0
PRODID:-//Southwest Virginia Community College - ECPv6.15.17.1//NONSGML v1.0//EN
CALSCALE:GREGORIAN
METHOD:PUBLISH
X-ORIGINAL-URL:https://sw.edu
X-WR-CALDESC:Events for Southwest Virginia Community College
REFRESH-INTERVAL;VALUE=DURATION:PT1H
X-Robots-Tag:noindex
X-PUBLISHED-TTL:PT1H
BEGIN:VTIMEZONE
TZID:America/New_York
BEGIN:DAYLIGHT
TZOFFSETFROM:-0500
TZOFFSETTO:-0400
TZNAME:EDT
DTSTART:20240310T070000
END:DAYLIGHT
BEGIN:STANDARD
TZOFFSETFROM:-0400
TZOFFSETTO:-0500
TZNAME:EST
DTSTART:20241103T060000
END:STANDARD
BEGIN:DAYLIGHT
TZOFFSETFROM:-0500
TZOFFSETTO:-0400
TZNAME:EDT
DTSTART:20250309T070000
END:DAYLIGHT
BEGIN:STANDARD
TZOFFSETFROM:-0400
TZOFFSETTO:-0500
TZNAME:EST
DTSTART:20251102T060000
END:STANDARD
BEGIN:DAYLIGHT
TZOFFSETFROM:-0500
TZOFFSETTO:-0400
TZNAME:EDT
DTSTART:20260308T070000
END:DAYLIGHT
BEGIN:STANDARD
TZOFFSETFROM:-0400
TZOFFSETTO:-0500
TZNAME:EST
DTSTART:20261101T060000
END:STANDARD
END:VTIMEZONE
BEGIN:VEVENT
DTSTART;TZID=America/New_York:20250708T090000
DTEND;TZID=America/New_York:20250708T104500
DTSTAMP:20260420T202347
CREATED:20241216T205014Z
LAST-MODIFIED:20250317T201744Z
UID:10001006-1751965200-1751971500@sw.edu
SUMMARY:Monthly Academic & Student Services Meeting
DESCRIPTION:
URL:https://sw.edu/event/monthly-academic-student-services-meeting-7/
LOCATION:DE116
CATEGORIES:Administrative
END:VEVENT
BEGIN:VEVENT
DTSTART;TZID=America/New_York:20250707T140000
DTEND;TZID=America/New_York:20250707T150000
DTSTAMP:20260420T202347
CREATED:20250211T154459Z
LAST-MODIFIED:20250924T172335Z
UID:10001339-1751896800-1751900400@sw.edu
SUMMARY:Admin Cabinet
DESCRIPTION:Admin Cabinet bi-weekly meeting\, Dellinger Hall 116.
URL:https://sw.edu/event/admin-cabinet-34/
LOCATION:DE116
CATEGORIES:Administrative
END:VEVENT
BEGIN:VEVENT
DTSTART;TZID=America/New_York:20250623T140000
DTEND;TZID=America/New_York:20250623T150000
DTSTAMP:20260420T202347
CREATED:20250211T154447Z
LAST-MODIFIED:20250924T172335Z
UID:10001338-1750687200-1750690800@sw.edu
SUMMARY:Admin Cabinet
DESCRIPTION:Admin Cabinet bi-weekly meeting\, Dellinger Hall 116.
URL:https://sw.edu/event/admin-cabinet-33/
LOCATION:DE116
CATEGORIES:Administrative
END:VEVENT
BEGIN:VEVENT
DTSTART;TZID=America/New_York:20250610T090000
DTEND;TZID=America/New_York:20250610T104500
DTSTAMP:20260420T202347
CREATED:20241216T205013Z
LAST-MODIFIED:20250317T201728Z
UID:10001005-1749546000-1749552300@sw.edu
SUMMARY:Monthly Academic & Student Services Meeting
DESCRIPTION:
URL:https://sw.edu/event/monthly-academic-student-services-meeting-6/
LOCATION:DE116
CATEGORIES:Administrative
END:VEVENT
BEGIN:VEVENT
DTSTART;TZID=America/New_York:20250609T140000
DTEND;TZID=America/New_York:20250609T150000
DTSTAMP:20260420T202347
CREATED:20250211T154429Z
LAST-MODIFIED:20250924T172336Z
UID:10001336-1749477600-1749481200@sw.edu
SUMMARY:Admin Cabinet
DESCRIPTION:Admin Cabinet bi-weekly meeting\, Dellinger Hall 116.
URL:https://sw.edu/event/admin-cabinet-32/
LOCATION:DE116
CATEGORIES:Administrative
END:VEVENT
BEGIN:VEVENT
DTSTART;TZID=America/New_York:20250605T000000
DTEND;TZID=America/New_York:20250605T235959
DTSTAMP:20260420T202347
CREATED:20250602T142557Z
LAST-MODIFIED:20250602T142557Z
UID:10001630-1749081600-1749167999@sw.edu
SUMMARY:SACSCOC On-site Committe Meeting
DESCRIPTION:Dr. Donnelly SACSCOC on-site committee meeting.
URL:https://sw.edu/event/sacscoc-on-site-committe-meeting/
LOCATION:DE116
END:VEVENT
BEGIN:VEVENT
DTSTART;TZID=America/New_York:20250526T140000
DTEND;TZID=America/New_York:20250526T150000
DTSTAMP:20260420T202347
CREATED:20250211T154415Z
LAST-MODIFIED:20250924T172337Z
UID:10001335-1748268000-1748271600@sw.edu
SUMMARY:Admin Cabinet
DESCRIPTION:Admin Cabinet bi-weekly meeting\, Dellinger Hall 116.
URL:https://sw.edu/event/admin-cabinet-31/
LOCATION:DE116
CATEGORIES:Administrative
END:VEVENT
BEGIN:VEVENT
DTSTART;TZID=America/New_York:20250513T090000
DTEND;TZID=America/New_York:20250513T104500
DTSTAMP:20260420T202347
CREATED:20241216T205013Z
LAST-MODIFIED:20250317T201658Z
UID:10001004-1747126800-1747133100@sw.edu
SUMMARY:Monthly Academic & Student Services Meeting
DESCRIPTION:
URL:https://sw.edu/event/monthly-academic-student-services-meeting-5/
LOCATION:DE116
CATEGORIES:Administrative
END:VEVENT
BEGIN:VEVENT
DTSTART;TZID=America/New_York:20250512T140000
DTEND;TZID=America/New_York:20250512T150000
DTSTAMP:20260420T202347
CREATED:20250211T154400Z
LAST-MODIFIED:20250924T172338Z
UID:10001333-1747058400-1747062000@sw.edu
SUMMARY:Admin Cabinet
DESCRIPTION:Admin Cabinet bi-weekly meeting\, Dellinger Hall 116.
URL:https://sw.edu/event/admin-cabinet-30/
LOCATION:DE116
CATEGORIES:Administrative
END:VEVENT
BEGIN:VEVENT
DTSTART;TZID=America/New_York:20250428T140000
DTEND;TZID=America/New_York:20250428T150000
DTSTAMP:20260420T202347
CREATED:20250211T154331Z
LAST-MODIFIED:20250924T172339Z
UID:10001332-1745848800-1745852400@sw.edu
SUMMARY:Admin Cabinet
DESCRIPTION:Admin Cabinet bi-weekly meeting\, Dellinger Hall 116.
URL:https://sw.edu/event/admin-cabinet-29/
LOCATION:DE116
CATEGORIES:Administrative
END:VEVENT
BEGIN:VEVENT
DTSTART;TZID=America/New_York:20250414T140000
DTEND;TZID=America/New_York:20250414T150000
DTSTAMP:20260420T202347
CREATED:20250211T154246Z
LAST-MODIFIED:20250924T172339Z
UID:10001330-1744639200-1744642800@sw.edu
SUMMARY:Admin Cabinet
DESCRIPTION:Admin Cabinet bi-weekly meeting\, Dellinger Hall 116.
URL:https://sw.edu/event/admin-cabinet-28/
LOCATION:DE116
CATEGORIES:Administrative
END:VEVENT
BEGIN:VEVENT
DTSTART;TZID=America/New_York:20250408T090000
DTEND;TZID=America/New_York:20250408T104500
DTSTAMP:20260420T202347
CREATED:20241216T204943Z
LAST-MODIFIED:20250317T201455Z
UID:10001003-1744102800-1744109100@sw.edu
SUMMARY:Monthly Academic & Student Services Meeting
DESCRIPTION:
URL:https://sw.edu/event/monthly-academic-student-services-meeting-4/
LOCATION:DE116
CATEGORIES:Administrative
END:VEVENT
BEGIN:VEVENT
DTSTART;TZID=America/New_York:20250331T140000
DTEND;TZID=America/New_York:20250331T150000
DTSTAMP:20260420T202347
CREATED:20250211T154216Z
LAST-MODIFIED:20250924T172340Z
UID:10001329-1743429600-1743433200@sw.edu
SUMMARY:Admin Cabinet
DESCRIPTION:Admin Cabinet bi-weekly meeting\, Dellinger Hall 116.
URL:https://sw.edu/event/admin-cabinet-27/
LOCATION:DE116
CATEGORIES:Administrative
END:VEVENT
BEGIN:VEVENT
DTSTART;TZID=America/New_York:20250317T140000
DTEND;TZID=America/New_York:20250317T150000
DTSTAMP:20260420T202347
CREATED:20250211T154146Z
LAST-MODIFIED:20250924T172341Z
UID:10001327-1742220000-1742223600@sw.edu
SUMMARY:Admin Cabinet
DESCRIPTION:Admin Cabinet bi-weekly meeting\, Dellinger Hall 116.
URL:https://sw.edu/event/admin-cabinet-26/
LOCATION:DE116
CATEGORIES:Administrative
END:VEVENT
BEGIN:VEVENT
DTSTART;TZID=America/New_York:20250311T090000
DTEND;TZID=America/New_York:20250311T104500
DTSTAMP:20260420T202347
CREATED:20241216T204942Z
LAST-MODIFIED:20250311T143413Z
UID:10001002-1741683600-1741689900@sw.edu
SUMMARY:Monthly Academic & Student Services Meeting
DESCRIPTION:
URL:https://sw.edu/event/monthly-academic-student-services-meeting-3/
LOCATION:DE116
CATEGORIES:Administrative
END:VEVENT
BEGIN:VEVENT
DTSTART;TZID=America/New_York:20250303T140000
DTEND;TZID=America/New_York:20250303T150000
DTSTAMP:20260420T202347
CREATED:20250211T154120Z
LAST-MODIFIED:20250924T172342Z
UID:10001326-1741010400-1741014000@sw.edu
SUMMARY:Admin Cabinet
DESCRIPTION:Admin Cabinet bi-weekly meeting\, Dellinger Hall 116.
URL:https://sw.edu/event/admin-cabinet-25/
LOCATION:DE116
CATEGORIES:Administrative
END:VEVENT
BEGIN:VEVENT
DTSTART;TZID=America/New_York:20250303T090000
DTEND;TZID=America/New_York:20250303T163000
DTSTAMP:20260420T202347
CREATED:20250225T161051Z
LAST-MODIFIED:20250303T202536Z
UID:10001451-1740992400-1741019400@sw.edu
SUMMARY:Strategic Planning
DESCRIPTION:Strategic Planning Meeting with Dr. Ratliff
URL:https://sw.edu/event/strategic-planning/
LOCATION:DE116
END:VEVENT
BEGIN:VEVENT
DTSTART;TZID=America/New_York:20250211T090000
DTEND;TZID=America/New_York:20250211T104500
DTSTAMP:20260420T202347
CREATED:20241216T204929Z
LAST-MODIFIED:20250211T154035Z
UID:10001001-1739264400-1739270700@sw.edu
SUMMARY:Monthly Academic & Student Services Meeting
DESCRIPTION:
URL:https://sw.edu/event/monthly-academic-student-services-meeting-2/
LOCATION:DE116
CATEGORIES:Administrative
END:VEVENT
BEGIN:VEVENT
DTSTART;TZID=America/New_York:20250128T170000
DTEND;TZID=America/New_York:20250128T180000
DTSTAMP:20260420T202347
CREATED:20250127T154034Z
LAST-MODIFIED:20250128T225538Z
UID:10001280-1738083600-1738087200@sw.edu
SUMMARY:Baseball Team Meeting
DESCRIPTION:Baseball Team Meeting
URL:https://sw.edu/event/baseball-team-meeting-3/
LOCATION:DE116
END:VEVENT
BEGIN:VEVENT
DTSTART;TZID=America/New_York:20250128T120000
DTEND;TZID=America/New_York:20250128T131000
DTSTAMP:20260420T202347
CREATED:20250107T174305Z
LAST-MODIFIED:20250924T173001Z
UID:10001082-1738065600-1738069800@sw.edu
SUMMARY:Honors Meeting
DESCRIPTION:Honors Meeting
URL:https://sw.edu/event/honors-meeting-3/
LOCATION:DE116
CATEGORIES:Student Events
END:VEVENT
BEGIN:VEVENT
DTSTART;TZID=America/New_York:20250121T120000
DTEND;TZID=America/New_York:20250121T131000
DTSTAMP:20260420T202347
CREATED:20250107T174304Z
LAST-MODIFIED:20250924T173002Z
UID:10001081-1737460800-1737465000@sw.edu
SUMMARY:Honors Meeting
DESCRIPTION:Honors Meeting
URL:https://sw.edu/event/honors-meeting-2/
LOCATION:DE116
CATEGORIES:Student Events
END:VEVENT
BEGIN:VEVENT
DTSTART;TZID=America/New_York:20250120T140000
DTEND;TZID=America/New_York:20250120T150000
DTSTAMP:20260420T202347
CREATED:20241217T214055Z
LAST-MODIFIED:20250924T172342Z
UID:10001049-1737381600-1737385200@sw.edu
SUMMARY:Admin Cabinet
DESCRIPTION:
URL:https://sw.edu/event/admin-cabinet-17/
LOCATION:DE116
CATEGORIES:Administrative
END:VEVENT
BEGIN:VEVENT
DTSTART;TZID=America/New_York:20250114T120000
DTEND;TZID=America/New_York:20250114T131000
DTSTAMP:20260420T202347
CREATED:20250107T174247Z
LAST-MODIFIED:20250924T173003Z
UID:10001080-1736856000-1736860200@sw.edu
SUMMARY:Honors Meeting
DESCRIPTION:Honors Meeting
URL:https://sw.edu/event/honors-meeting/
LOCATION:DE116
CATEGORIES:Student Events
END:VEVENT
BEGIN:VEVENT
DTSTART;TZID=America/New_York:20250114T090000
DTEND;TZID=America/New_York:20250114T104500
DTSTAMP:20260420T202347
CREATED:20241216T204928Z
LAST-MODIFIED:20250114T144225Z
UID:10001000-1736845200-1736851500@sw.edu
SUMMARY:Monthly Academic & Student Services Meeting
DESCRIPTION:
URL:https://sw.edu/event/monthly-academic-student-services-meeting/
LOCATION:DE116
END:VEVENT
END:VCALENDAR