BEGIN:VCALENDAR
VERSION:2.0
PRODID:-//Southwest Virginia Community College - ECPv6.15.17.1//NONSGML v1.0//EN
CALSCALE:GREGORIAN
METHOD:PUBLISH
X-WR-CALNAME:Southwest Virginia Community College
X-ORIGINAL-URL:https://sw.edu
X-WR-CALDESC:Events for Southwest Virginia Community College
REFRESH-INTERVAL;VALUE=DURATION:PT1H
X-Robots-Tag:noindex
X-PUBLISHED-TTL:PT1H
BEGIN:VTIMEZONE
TZID:America/New_York
BEGIN:DAYLIGHT
TZOFFSETFROM:-0500
TZOFFSETTO:-0400
TZNAME:EDT
DTSTART:20240310T070000
END:DAYLIGHT
BEGIN:STANDARD
TZOFFSETFROM:-0400
TZOFFSETTO:-0500
TZNAME:EST
DTSTART:20241103T060000
END:STANDARD
BEGIN:DAYLIGHT
TZOFFSETFROM:-0500
TZOFFSETTO:-0400
TZNAME:EDT
DTSTART:20250309T070000
END:DAYLIGHT
BEGIN:STANDARD
TZOFFSETFROM:-0400
TZOFFSETTO:-0500
TZNAME:EST
DTSTART:20251102T060000
END:STANDARD
BEGIN:DAYLIGHT
TZOFFSETFROM:-0500
TZOFFSETTO:-0400
TZNAME:EDT
DTSTART:20260308T070000
END:DAYLIGHT
BEGIN:STANDARD
TZOFFSETFROM:-0400
TZOFFSETTO:-0500
TZNAME:EST
DTSTART:20261101T060000
END:STANDARD
END:VTIMEZONE
BEGIN:VEVENT
DTSTART;TZID=America/New_York:20250121T120000
DTEND;TZID=America/New_York:20250121T131000
DTSTAMP:20260421T005056
CREATED:20250107T174304Z
LAST-MODIFIED:20250924T173002Z
UID:10001081-1737460800-1737465000@sw.edu
SUMMARY:Honors Meeting
DESCRIPTION:Honors Meeting
URL:https://sw.edu/event/honors-meeting-2/
LOCATION:DE116
CATEGORIES:Student Events
END:VEVENT
BEGIN:VEVENT
DTSTART;TZID=America/New_York:20250120T140000
DTEND;TZID=America/New_York:20250120T150000
DTSTAMP:20260421T005056
CREATED:20241217T214055Z
LAST-MODIFIED:20250924T172342Z
UID:10001049-1737381600-1737385200@sw.edu
SUMMARY:Admin Cabinet
DESCRIPTION:
URL:https://sw.edu/event/admin-cabinet-17/
LOCATION:DE116
CATEGORIES:Administrative
END:VEVENT
BEGIN:VEVENT
DTSTART;TZID=America/New_York:20250114T120000
DTEND;TZID=America/New_York:20250114T131000
DTSTAMP:20260421T005056
CREATED:20250107T174247Z
LAST-MODIFIED:20250924T173003Z
UID:10001080-1736856000-1736860200@sw.edu
SUMMARY:Honors Meeting
DESCRIPTION:Honors Meeting
URL:https://sw.edu/event/honors-meeting/
LOCATION:DE116
CATEGORIES:Student Events
END:VEVENT
BEGIN:VEVENT
DTSTART;TZID=America/New_York:20250114T090000
DTEND;TZID=America/New_York:20250114T104500
DTSTAMP:20260421T005056
CREATED:20241216T204928Z
LAST-MODIFIED:20250114T144225Z
UID:10001000-1736845200-1736851500@sw.edu
SUMMARY:Monthly Academic & Student Services Meeting
DESCRIPTION:
URL:https://sw.edu/event/monthly-academic-student-services-meeting/
LOCATION:DE116
END:VEVENT
END:VCALENDAR