BEGIN:VCALENDAR
VERSION:2.0
PRODID:-//Southwest Virginia Community College - ECPv6.15.17.1//NONSGML v1.0//EN
CALSCALE:GREGORIAN
METHOD:PUBLISH
X-ORIGINAL-URL:https://sw.edu
X-WR-CALDESC:Events for Southwest Virginia Community College
REFRESH-INTERVAL;VALUE=DURATION:PT1H
X-Robots-Tag:noindex
X-PUBLISHED-TTL:PT1H
BEGIN:VTIMEZONE
TZID:UTC
BEGIN:STANDARD
TZOFFSETFROM:+0000
TZOFFSETTO:+0000
TZNAME:UTC
DTSTART:20250101T000000
END:STANDARD
END:VTIMEZONE
BEGIN:VEVENT
DTSTART;TZID=UTC:20260225T180000
DTEND;TZID=UTC:20260225T190000
DTSTAMP:20260419T175850
CREATED:20251122T154146Z
LAST-MODIFIED:20260225T075545Z
UID:10002282-1772042400-1772046000@sw.edu
SUMMARY:Southwest Virginia Community College\, New River Community College
DESCRIPTION:Baseball on Feb 25\, 2026 at 1:00 PM: Southwest Virginia Community College\, New River Community College\, Inclement Weather\, Cancelled
URL:https://sw.edu/event/southwest-virginia-community-college-new-river-community-college-3/
LOCATION:https://swccsports.com/sports/bsb/2025-26/schedule#efh7oyoyjrmeu2ex
CATEGORIES:Athletic Events
END:VEVENT
END:VCALENDAR