BEGIN:VCALENDAR
VERSION:2.0
PRODID:-//Southwest Virginia Community College - ECPv6.15.17.1//NONSGML v1.0//EN
CALSCALE:GREGORIAN
METHOD:PUBLISH
X-WR-CALNAME:Southwest Virginia Community College
X-ORIGINAL-URL:https://sw.edu
X-WR-CALDESC:Events for Southwest Virginia Community College
REFRESH-INTERVAL;VALUE=DURATION:PT1H
X-Robots-Tag:noindex
X-PUBLISHED-TTL:PT1H
BEGIN:VTIMEZONE
TZID:America/New_York
BEGIN:DAYLIGHT
TZOFFSETFROM:-0500
TZOFFSETTO:-0400
TZNAME:EDT
DTSTART:20230312T070000
END:DAYLIGHT
BEGIN:STANDARD
TZOFFSETFROM:-0400
TZOFFSETTO:-0500
TZNAME:EST
DTSTART:20231105T060000
END:STANDARD
BEGIN:DAYLIGHT
TZOFFSETFROM:-0500
TZOFFSETTO:-0400
TZNAME:EDT
DTSTART:20240310T070000
END:DAYLIGHT
BEGIN:STANDARD
TZOFFSETFROM:-0400
TZOFFSETTO:-0500
TZNAME:EST
DTSTART:20241103T060000
END:STANDARD
BEGIN:DAYLIGHT
TZOFFSETFROM:-0500
TZOFFSETTO:-0400
TZNAME:EDT
DTSTART:20250309T070000
END:DAYLIGHT
BEGIN:STANDARD
TZOFFSETFROM:-0400
TZOFFSETTO:-0500
TZNAME:EST
DTSTART:20251102T060000
END:STANDARD
BEGIN:DAYLIGHT
TZOFFSETFROM:-0500
TZOFFSETTO:-0400
TZNAME:EDT
DTSTART:20260308T070000
END:DAYLIGHT
BEGIN:STANDARD
TZOFFSETFROM:-0400
TZOFFSETTO:-0500
TZNAME:EST
DTSTART:20261101T060000
END:STANDARD
BEGIN:DAYLIGHT
TZOFFSETFROM:-0500
TZOFFSETTO:-0400
TZNAME:EDT
DTSTART:20270314T070000
END:DAYLIGHT
BEGIN:STANDARD
TZOFFSETFROM:-0400
TZOFFSETTO:-0500
TZNAME:EST
DTSTART:20271107T060000
END:STANDARD
END:VTIMEZONE
BEGIN:VEVENT
DTSTART;VALUE=DATE:20260418
DTEND;VALUE=DATE:20260419
DTSTAMP:20260422T204903
CREATED:20260216T194114Z
LAST-MODIFIED:20260418T235534Z
UID:10002491-1776470400-1776556799@sw.edu
SUMMARY:Festival of the Arts: Eagle Con
DESCRIPTION:Festival of the Arts Eagle Con will be held in KCC Gymnasium. The Hungry Fellers and Mountain Dogs food trucks will be setup in the KCC parking lot beginning at 11am. \nSWCC Eagle Con Facebook page \nEagle Con is an exciting annual event that brings together fans of science fiction\, fantasy\, and pop culture for a day filled with cosplay\, contests\, and games. Explore the vendor area featuring collectibles\, comics\, and anything else a fan could want. Be part of our vibrant tribute to creativity\, fandom\, and the boundless imagination!
URL:https://sw.edu/event/eagle-con/
LOCATION:KCC Gym
CATEGORIES:Community Events,Festival of The Arts
ATTACH;FMTTYPE=image/jpeg:https://sw.edu/wp-content/uploads/2026/02/Festival-of-the-Arts-2026-Hero-Image-1920x894-1.jpg
END:VEVENT
BEGIN:VEVENT
DTSTART;TZID=America/New_York:20260415T173000
DTEND;TZID=America/New_York:20260415T193000
DTSTAMP:20260422T204903
CREATED:20260414T184032Z
LAST-MODIFIED:20260414T184032Z
UID:10002596-1776274200-1776281400@sw.edu
SUMMARY:RMS Girls Basketball Open Gym
DESCRIPTION:RMS Girls basketball grades 4-6th will practice in the KCC gym at 530pm.
URL:https://sw.edu/event/rms-girls-basketball-open-gym-14/
LOCATION:KCC Gym
END:VEVENT
BEGIN:VEVENT
DTSTART;TZID=America/New_York:20260415T173000
DTEND;TZID=America/New_York:20260415T193000
DTSTAMP:20260422T204903
CREATED:20260414T184031Z
LAST-MODIFIED:20260415T232533Z
UID:10002595-1776274200-1776281400@sw.edu
SUMMARY:RMS Girls Basketball Open Gym
DESCRIPTION:RMS Girls basketball grades 4-6th will practice in the KCC gym at 530pm.
URL:https://sw.edu/event/rms-girls-basketball-open-gym-13/
LOCATION:KCC Gym
END:VEVENT
BEGIN:VEVENT
DTSTART;TZID=America/New_York:20260407T090000
DTEND;TZID=America/New_York:20260407T150000
DTSTAMP:20260422T204903
CREATED:20260211T145601Z
LAST-MODIFIED:20260407T185532Z
UID:10002477-1775552400-1775574000@sw.edu
SUMMARY:Annual Nursing Luncheon
DESCRIPTION:Annual Nursing Student Luncheon to be held in the KCC gymnasium.
URL:https://sw.edu/event/annual-nursing-luncheon/
LOCATION:KCC Gym
END:VEVENT
BEGIN:VEVENT
DTSTART;VALUE=DATE:20260325
DTEND;VALUE=DATE:20260326
DTSTAMP:20260422T204903
CREATED:20260312T151114Z
LAST-MODIFIED:20260325T235532Z
UID:10002541-1774396800-1774483199@sw.edu
SUMMARY:2026 Employee Benefits Fair
DESCRIPTION:🎉 2026 Employee Benefits Fair! 🎉Join HR at the 2026 Employee Benefits Fair\, starting at 9:00 a.m. in the KCC Gymnasium! Stop by and explore a wide variety of vendors sharing helpful information\, wellness resources\, and fun promotional items. \nVisit with United Southeast Federal Credit Union\, Infinity Wellness\, Larry Johnson State Farm\, First Sentinel Bank\, and even say hello to Duke the therapy dog—just to name a few! More vendors will be on hand\, so don’t miss out on this exciting opportunity to learn\, connect\, and take advantage of great benefits and resources.
URL:https://sw.edu/event/2026-employee-benefits-fair/
LOCATION:KCC Gym
END:VEVENT
BEGIN:VEVENT
DTSTART;VALUE=DATE:20260314
DTEND;VALUE=DATE:20260315
DTSTAMP:20260422T204903
CREATED:20260108T175551Z
LAST-MODIFIED:20260311T134037Z
UID:10002383-1773446400-1773532799@sw.edu
SUMMARY:RHS Baseball Booster Annual Bingo Fundraiser
DESCRIPTION:RHS Baseball Booster Annual Bingo Fundraiser will be held in the KCC gym beginning at 6pm.
URL:https://sw.edu/event/rhs-baseball-booster-annual-bingo-fundraiser/
LOCATION:KCC Gym
END:VEVENT
BEGIN:VEVENT
DTSTART;VALUE=DATE:20251106
DTEND;VALUE=DATE:20251107
DTSTAMP:20260422T204903
CREATED:20250519T151155Z
LAST-MODIFIED:20251106T231033Z
UID:10001615-1762387200-1762473599@sw.edu
SUMMARY:Scholarship Banquet
DESCRIPTION:SWCC Scholarship Banquet at 5:30pm in KCC Gym.
URL:https://sw.edu/event/scholarship-banquet-4/
LOCATION:KCC Gym
END:VEVENT
BEGIN:VEVENT
DTSTART;VALUE=DATE:20251029
DTEND;VALUE=DATE:20251030
DTSTAMP:20260422T204903
CREATED:20250629T195659Z
LAST-MODIFIED:20251029T162934Z
UID:10001683-1761696000-1761782399@sw.edu
SUMMARY:"Nail Down Success"
DESCRIPTION:Workshop for the Contractor’s Path to Legitimacy\, Licensure\, Insurance\, and Growth.
URL:https://sw.edu/event/nail-down-success/
LOCATION:KCC Gym
CATEGORIES:Community Events
END:VEVENT
BEGIN:VEVENT
DTSTART;TZID=America/New_York:20251004T000000
DTEND;TZID=America/New_York:20251004T235959
DTSTAMP:20260422T204903
CREATED:20250107T184319Z
LAST-MODIFIED:20250317T201833Z
UID:10001092-1759536000-1759622399@sw.edu
SUMMARY:Relay for Life
DESCRIPTION:Relay for Life
URL:https://sw.edu/event/relay-for-life/
LOCATION:KCC Gym
CATEGORIES:Community Events
END:VEVENT
BEGIN:VEVENT
DTSTART;TZID=America/New_York:20250923T000000
DTEND;TZID=America/New_York:20250923T235959
DTSTAMP:20260422T204903
CREATED:20250707T202636Z
LAST-MODIFIED:20250707T202636Z
UID:10001693-1758585600-1758671999@sw.edu
SUMMARY:Forge & Fuel Small Business Event
DESCRIPTION:Forge & Fuel Small Business Event.
URL:https://sw.edu/event/forge-fuel-small-business-event/
LOCATION:KCC Gym
END:VEVENT
BEGIN:VEVENT
DTSTART;TZID=America/New_York:20250913T000000
DTEND;TZID=America/New_York:20250913T235959
DTSTAMP:20260422T204903
CREATED:20250902T151044Z
LAST-MODIFIED:20250902T151044Z
UID:10001820-1757721600-1757807999@sw.edu
SUMMARY:Bingo Night
DESCRIPTION:Bingo Night. Doors open at 5pm play starts at 6pm sharp. All proceeds will benefits SWCC Athletics.
URL:https://sw.edu/event/bingo-night/
LOCATION:KCC Gym
END:VEVENT
BEGIN:VEVENT
DTSTART;TZID=America/New_York:20250501T000000
DTEND;TZID=America/New_York:20250501T235959
DTSTAMP:20260422T204904
CREATED:20250107T184259Z
LAST-MODIFIED:20250317T201630Z
UID:10001091-1746057600-1746143999@sw.edu
SUMMARY:Division of Health Technology Pinning Ceremonies
DESCRIPTION:DHT Pinning Ceremonies:\nPharm Tech: Gym 9am\nOTA: Auditorium 10am\nRN: Gym 12pm
URL:https://sw.edu/event/2025-dht-pinning-ceremony/
LOCATION:KCC Gym
CATEGORIES:Academic Events,Community Events,Student Events
END:VEVENT
BEGIN:VEVENT
DTSTART;TZID=America/New_York:20250429T100000
DTEND;TZID=America/New_York:20250429T133000
DTSTAMP:20260422T204904
CREATED:20250408T144232Z
LAST-MODIFIED:20250408T144232Z
UID:10001547-1745920800-1745933400@sw.edu
SUMMARY:Career & Resource Fair
DESCRIPTION:Place where you can explore career opportunities and take the next step toward a brighter and more fulfilling future!
URL:https://sw.edu/event/career-resource-fair/
LOCATION:KCC Gym
END:VEVENT
BEGIN:VEVENT
DTSTART;TZID=America/New_York:20250414T000000
DTEND;TZID=America/New_York:20250414T235959
DTSTAMP:20260422T204904
CREATED:20250102T224125Z
LAST-MODIFIED:20250317T201512Z
UID:10001068-1744588800-1744675199@sw.edu
SUMMARY:2025 Upward Bound Banquet
DESCRIPTION:2025 Upward Bound Banquet
URL:https://sw.edu/event/2025-upward-bound-banquet/
LOCATION:KCC Gym
END:VEVENT
BEGIN:VEVENT
DTSTART;TZID=America/New_York:20250121T000000
DTEND;TZID=America/New_York:20250121T235959
DTSTAMP:20260422T204904
CREATED:20241101T155745Z
LAST-MODIFIED:20250121T234034Z
UID:10000946-1737417600-1737503999@sw.edu
SUMMARY:Cancelled: MLK
DESCRIPTION:
URL:https://sw.edu/event/mlk-5/
LOCATION:KCC Gym
END:VEVENT
BEGIN:VEVENT
DTSTART;TZID=America/New_York:20241114T090000
DTEND;TZID=America/New_York:20241114T200000
DTSTAMP:20260422T204904
CREATED:20241101T155553Z
LAST-MODIFIED:20241115T001036Z
UID:10000919-1731574800-1731614400@sw.edu
SUMMARY:Band Day
DESCRIPTION:Allows students in the surrounding area to have one on one lessons with professors from other colleges.
URL:https://sw.edu/event/band-day-2/
LOCATION:KCC Gym
END:VEVENT
END:VCALENDAR