BEGIN:VCALENDAR
VERSION:2.0
PRODID:-//Southwest Virginia Community College - ECPv6.15.17.1//NONSGML v1.0//EN
CALSCALE:GREGORIAN
METHOD:PUBLISH
X-ORIGINAL-URL:https://sw.edu
X-WR-CALDESC:Events for Southwest Virginia Community College
REFRESH-INTERVAL;VALUE=DURATION:PT1H
X-Robots-Tag:noindex
X-PUBLISHED-TTL:PT1H
BEGIN:VTIMEZONE
TZID:America/New_York
BEGIN:DAYLIGHT
TZOFFSETFROM:-0500
TZOFFSETTO:-0400
TZNAME:EDT
DTSTART:20250309T070000
END:DAYLIGHT
BEGIN:STANDARD
TZOFFSETFROM:-0400
TZOFFSETTO:-0500
TZNAME:EST
DTSTART:20251102T060000
END:STANDARD
BEGIN:DAYLIGHT
TZOFFSETFROM:-0500
TZOFFSETTO:-0400
TZNAME:EDT
DTSTART:20260308T070000
END:DAYLIGHT
BEGIN:STANDARD
TZOFFSETFROM:-0400
TZOFFSETTO:-0500
TZNAME:EST
DTSTART:20261101T060000
END:STANDARD
BEGIN:DAYLIGHT
TZOFFSETFROM:-0500
TZOFFSETTO:-0400
TZNAME:EDT
DTSTART:20270314T070000
END:DAYLIGHT
BEGIN:STANDARD
TZOFFSETFROM:-0400
TZOFFSETTO:-0500
TZNAME:EST
DTSTART:20271107T060000
END:STANDARD
END:VTIMEZONE
BEGIN:VEVENT
DTSTART;VALUE=DATE:20260423
DTEND;VALUE=DATE:20260424
DTSTAMP:20260422T191017
CREATED:20260226T214121Z
LAST-MODIFIED:20260422T225532Z
UID:10002508-1776902400-1776988799@sw.edu
SUMMARY:SWCC Annual Career Fair
DESCRIPTION:SWCC Annual Career Fair where we invite local businesses\, schools and partners to campus! The fair will be held in the KCC gymnasium beginning at 9am.
URL:https://sw.edu/event/swcc-annual-career-fair/
LOCATION:KCC Gym
END:VEVENT
BEGIN:VEVENT
DTSTART;VALUE=DATE:20260424
DTEND;VALUE=DATE:20260425
DTSTAMP:20260422T191017
CREATED:20260420T135542Z
LAST-MODIFIED:20260422T225534Z
UID:10002601-1776988800-1777075199@sw.edu
SUMMARY:SWCC Annual Math Contest
DESCRIPTION:SWCC Annual Math Contest will be held in the KCC gymnasium on April 24th beginning at 9am.
URL:https://sw.edu/event/swcc-annual-math-contest/
LOCATION:KCC Gym
END:VEVENT
END:VCALENDAR