BEGIN:VCALENDAR
VERSION:2.0
PRODID:-//Southwest Virginia Community College - ECPv6.15.17.1//NONSGML v1.0//EN
CALSCALE:GREGORIAN
METHOD:PUBLISH
X-WR-CALNAME:Southwest Virginia Community College
X-ORIGINAL-URL:https://sw.edu
X-WR-CALDESC:Events for Southwest Virginia Community College
REFRESH-INTERVAL;VALUE=DURATION:PT1H
X-Robots-Tag:noindex
X-PUBLISHED-TTL:PT1H
BEGIN:VTIMEZONE
TZID:UTC
BEGIN:STANDARD
TZOFFSETFROM:+0000
TZOFFSETTO:+0000
TZNAME:UTC
DTSTART:20220101T000000
END:STANDARD
END:VTIMEZONE
BEGIN:VEVENT
DTSTART;TZID=UTC:20240315T230000
DTEND;TZID=UTC:20240316T013000
DTSTAMP:20260420T011700
CREATED:20240222T155601Z
LAST-MODIFIED:20240316T005529Z
UID:10000460-1710543600-1710552600@sw.edu
SUMMARY:Richlands High School Drama Club presents The Adams Family
DESCRIPTION:Richlands High School Drama Club presents The Adams Family\nView the full event details here: https://events.dudesolutions.com/swvcc/event/spring-preformance-1/
URL:https://sw.edu/event/richlands-high-school-drama-club-presents-the-adams-family/
LOCATION:Mary Lawson Auditorium
CATEGORIES:Community Events
END:VEVENT
BEGIN:VEVENT
DTSTART;TZID=UTC:20240301T230000
DTEND;TZID=UTC:20240302T020000
DTSTAMP:20260420T011700
CREATED:20240131T141100Z
LAST-MODIFIED:20240302T014030Z
UID:10000410-1709334000-1709344800@sw.edu
SUMMARY:4-H Talent Show
DESCRIPTION:4-H Talent Show\nView the full event details here: https://events.dudesolutions.com/swvcc/event/4-h-talent-show/
URL:https://sw.edu/event/4-h-talent-show/
LOCATION:Mary Lawson Auditorium
CATEGORIES:Community Events
END:VEVENT
BEGIN:VEVENT
DTSTART;TZID=UTC:20240217T230000
DTEND;TZID=UTC:20240218T010000
DTSTAMP:20260420T011700
CREATED:20240128T002602Z
LAST-MODIFIED:20240217T212552Z
UID:10000408-1708210800-1708218000@sw.edu
SUMMARY:CART presents Footworks
DESCRIPTION:CART presents Footworks\nView the full event details here: https://events.dudesolutions.com/swvcc/event/cart-presents-footworks/
URL:https://sw.edu/event/cart-presents-footworks/
LOCATION:Mary Lawson Auditorium
CATEGORIES:Community Events
END:VEVENT
BEGIN:VEVENT
DTSTART;TZID=UTC:20240128T000000
DTEND;TZID=UTC:20240128T020000
DTSTAMP:20260420T011700
CREATED:20240103T151048Z
LAST-MODIFIED:20240128T014150Z
UID:10000339-1706400000-1706407200@sw.edu
SUMMARY:Postponed: Aura CuriAtlas Presents Dream Logic
DESCRIPTION:Aura CuriAtlas Presents Dream Logic\nView the full event details here: https://events.dudesolutions.com/swvcc/event/aura-curiatlas-presents-dream-logic/
URL:https://sw.edu/event/aura-curiatlas-presents-dream-logic/
LOCATION:Mary Lawson Auditorium
CATEGORIES:Community Events
END:VEVENT
BEGIN:VEVENT
DTSTART;TZID=UTC:20231216T000000
DTEND;TZID=UTC:20231216T010000
DTSTAMP:20260420T011700
CREATED:20231129T165613Z
LAST-MODIFIED:20231216T004109Z
UID:10000314-1702684800-1702688400@sw.edu
SUMMARY:Noah Spencer Concert
DESCRIPTION:End-of-the-year concert with Noah Spencer\nView the full event details here: https://events.dudesolutions.com/swvcc/event/christmas-with-the-crew—a-noah-spencer-special/
URL:https://sw.edu/event/noah-spencer-concert/
LOCATION:Mary Lawson Auditorium
CATEGORIES:Community Events,Faculity/Staff,Student Events
END:VEVENT
BEGIN:VEVENT
DTSTART;TZID=UTC:20231215T000000
DTEND;TZID=UTC:20231215T020000
DTSTAMP:20260420T011700
CREATED:20231030T144138Z
LAST-MODIFIED:20231215T014151Z
UID:10000224-1702598400-1702605600@sw.edu
SUMMARY:RHS/RMS Choirs Christmas Concert
DESCRIPTION:This concert will feature the combined choirs of RMS and RHS. It will contain a mixture of Holiday music and other genres of music.\nView the full event details here: https://events.dudesolutions.com/swvcc/event/rhsrms-choirs-christmas-concert/
URL:https://sw.edu/event/rhs-rms-choirs-christmas-concert/
LOCATION:Mary Lawson Auditorium
CATEGORIES:Student Events
END:VEVENT
BEGIN:VEVENT
DTSTART;VALUE=DATE:20231212
DTEND;VALUE=DATE:20231213
DTSTAMP:20260420T011700
CREATED:20231028T205623Z
LAST-MODIFIED:20231212T234350Z
UID:10000221-1702339200-1702425599@sw.edu
SUMMARY:Cancelled - RMS/RHS Bands Christmas Concert
DESCRIPTION:RMS/RHS Bands Christmas Concert @ 6:30 pm\nView the full event details here: https://events.dudesolutions.com/swvcc/event/rmsrhs-bands-christmas-concert/
URL:https://sw.edu/event/rms-rhs-bands-christmas-concert/
LOCATION:Mary Lawson Auditorium
CATEGORIES:Student Events
END:VEVENT
BEGIN:VEVENT
DTSTART;TZID=UTC:20231209T180000
DTEND;TZID=UTC:20231209T230000
DTSTAMP:20260420T011700
CREATED:20230814T161149Z
LAST-MODIFIED:20231209T224320Z
UID:10000074-1702144800-1702162800@sw.edu
SUMMARY:LPN Pinning and White Coat Ceremony
DESCRIPTION:LPN Pinning and White Coat Ceremony\nView the full event details here: https://events.dudesolutions.com/swvcc/event/lpn-pinning-and-white-coat-ceremony/
URL:https://sw.edu/event/lpn-pinning-and-white-coat-ceremony/
LOCATION:Mary Lawson Auditorium
CATEGORIES:Community Events,Faculity/Staff,Student Events
END:VEVENT
BEGIN:VEVENT
DTSTART;TZID=UTC:20231208T180000
DTEND;TZID=UTC:20231208T200000
DTSTAMP:20260420T011700
CREATED:20231028T195623Z
LAST-MODIFIED:20231208T195732Z
UID:10000220-1702058400-1702065600@sw.edu
SUMMARY:Belfast Elementary Christmas Concert
DESCRIPTION:Belfast Elementary Christmas Concert\nView the full event details here: https://events.dudesolutions.com/swvcc/event/belfast-elementary-christmas-concert/
URL:https://sw.edu/event/belfast-elementary-christmas-concert/
LOCATION:Mary Lawson Auditorium
CATEGORIES:Community Events
END:VEVENT
BEGIN:VEVENT
DTSTART;TZID=UTC:20231205T213000
DTEND;TZID=UTC:20231206T023000
DTSTAMP:20260420T011700
CREATED:20231026T201124Z
LAST-MODIFIED:20231206T015745Z
UID:10000212-1701811800-1701829800@sw.edu
SUMMARY:Lindsey Wilson College Pinning
DESCRIPTION:Lindsey Wilson College Pinning\nView the full event details here: https://events.dudesolutions.com/swvcc/event/lindsey-wilson-college-pinning/
URL:https://sw.edu/event/lindsey-wilson-college-pinning/
LOCATION:Mary Lawson Auditorium
CATEGORIES:Community Events,Student Events
END:VEVENT
BEGIN:VEVENT
DTSTART;TZID=UTC:20231203T200000
DTEND;TZID=UTC:20231203T220000
DTSTAMP:20260420T011700
CREATED:20231130T155546Z
LAST-MODIFIED:20231203T212807Z
UID:10000315-1701633600-1701640800@sw.edu
SUMMARY:Community Choir Concert
DESCRIPTION:Community Choir Concert\nView the full event details here: https://events.dudesolutions.com/swvcc/event/community-choir-concert/
URL:https://sw.edu/event/community-choir-concert/
LOCATION:Mary Lawson Auditorium
CATEGORIES:Community Events
END:VEVENT
BEGIN:VEVENT
DTSTART;TZID=UTC:20231203T000000
DTEND;TZID=UTC:20231203T010000
DTSTAMP:20260420T011700
CREATED:20230728T141050Z
LAST-MODIFIED:20231203T004047Z
UID:10000030-1701561600-1701565200@sw.edu
SUMMARY:The Bristol Ballet Presents "The Nutcracker"
DESCRIPTION:The Bristol Ballet Presents “The Nutcracker” in partnership with the Southwest Virginia Community College School for the Arts.\nView the full event details here: https://events.dudesolutions.com/swvcc/event/the-bristol-ballet-presents-the-nutcracker/
URL:https://sw.edu/event/the-bristol-ballet-presents-the-nutcracker/
LOCATION:Mary Lawson Auditorium
CATEGORIES:Community Events
END:VEVENT
BEGIN:VEVENT
DTSTART;TZID=UTC:20231119T200000
DTEND;TZID=UTC:20231119T220000
DTSTAMP:20260420T011700
CREATED:20231103T144103Z
LAST-MODIFIED:20231119T215532Z
UID:10000290-1700424000-1700431200@sw.edu
SUMMARY:Good Shot Judy Jazz Concert
DESCRIPTION:Good Shot Judy Jazz Concert\nView the full event details here: https://events.dudesolutions.com/swvcc/event/good-shot-judy-jazz-concert/
URL:https://sw.edu/event/good-shot-judy-jazz-concert/
LOCATION:Mary Lawson Auditorium
CATEGORIES:Community Events
END:VEVENT
BEGIN:VEVENT
DTSTART;TZID=UTC:20231102T110000
DTEND;TZID=UTC:20231102T160000
DTSTAMP:20260420T011700
CREATED:20231011T161125Z
LAST-MODIFIED:20231102T152533Z
UID:10000187-1698922800-1698940800@sw.edu
SUMMARY:Cancelled - Jazz America's Music Performance for Richlands High and Middle schools.
DESCRIPTION:Jazz America’s Music is an event that teaches students from many different schools in the area about Jazz and the different styles of Jazz.\nView the full event details here: https://events.dudesolutions.com/swvcc/event/jazz-americas-music-performance-for-richlands-high-and-middle-schools/
URL:https://sw.edu/event/jazz-americas-music-performance-for-richlands-high-and-middle-schools/
LOCATION:Mary Lawson Auditorium
CATEGORIES:Student Events
END:VEVENT
BEGIN:VEVENT
DTSTART;TZID=UTC:20231021T220000
DTEND;TZID=UTC:20231022T000000
DTSTAMP:20260420T011700
CREATED:20231006T124139Z
LAST-MODIFIED:20231021T235534Z
UID:10000156-1697925600-1697932800@sw.edu
SUMMARY:CRU Concert
DESCRIPTION:CRU Concert\nView the full event details here: https://events.dudesolutions.com/swvcc/event/cru-concert/
URL:https://sw.edu/event/cru-concert/
LOCATION:Mary Lawson Auditorium
CATEGORIES:Community Events,Student Events
END:VEVENT
BEGIN:VEVENT
DTSTART;TZID=UTC:20231019T230000
DTEND;TZID=UTC:20231020T010000
DTSTAMP:20260420T011700
CREATED:20231016T132558Z
LAST-MODIFIED:20231020T002539Z
UID:10000191-1697756400-1697763600@sw.edu
SUMMARY:Richlands High/Middle School Choir Concert
DESCRIPTION:Richlands High/Middle School Choir Concert\nView the full event details here: https://events.dudesolutions.com/swvcc/event/richlands-highmiddle-school-choir-concert/
URL:https://sw.edu/event/richlands-high-middle-school-choir-concert/
LOCATION:Mary Lawson Auditorium
CATEGORIES:Community Events
END:VEVENT
BEGIN:VEVENT
DTSTART;TZID=UTC:20230824T190000
DTEND;TZID=UTC:20230824T200000
DTSTAMP:20260420T011700
CREATED:20230808T192542Z
LAST-MODIFIED:20230814T171052Z
UID:10000065-1692903600-1692907200@sw.edu
SUMMARY:Baseball Team Meeting
DESCRIPTION:Baseball Team Meeting\nView the full event details here: https://events.dudesolutions.com/swvcc/event/baseball-team-meeting/
URL:https://sw.edu/event/baseball-team-meeting/
LOCATION:Mary Lawson Auditorium
CATEGORIES:Athletic Events
END:VEVENT
BEGIN:VEVENT
DTSTART;TZID=UTC:20230818T080000
DTEND;TZID=UTC:20230818T163000
DTSTAMP:20260420T011700
CREATED:20230721T153715Z
LAST-MODIFIED:20230818T235530Z
UID:10000009-1692345600-1692376200@sw.edu
SUMMARY:Move in Day
DESCRIPTION:Move in orientation for Student Housing\nView the full event details here: https://events.dudesolutions.com/swvcc/event/move-in-day/
URL:https://sw.edu/event/move-in-day-2/
LOCATION:Mary Lawson Auditorium
CATEGORIES:Student Events
END:VEVENT
END:VCALENDAR