BEGIN:VCALENDAR
VERSION:2.0
PRODID:-//Southwest Virginia Community College - ECPv6.15.17.1//NONSGML v1.0//EN
CALSCALE:GREGORIAN
METHOD:PUBLISH
X-ORIGINAL-URL:https://sw.edu
X-WR-CALDESC:Events for Southwest Virginia Community College
REFRESH-INTERVAL;VALUE=DURATION:PT1H
X-Robots-Tag:noindex
X-PUBLISHED-TTL:PT1H
BEGIN:VTIMEZONE
TZID:UTC
BEGIN:STANDARD
TZOFFSETFROM:+0000
TZOFFSETTO:+0000
TZNAME:UTC
DTSTART:20220101T000000
END:STANDARD
END:VTIMEZONE
BEGIN:VEVENT
DTSTART;TZID=UTC:20240402T160000
DTEND;TZID=UTC:20240402T173000
DTSTAMP:20260420T065107
CREATED:20240306T131110Z
LAST-MODIFIED:20250924T173016Z
UID:10000505-1712073600-1712079000@sw.edu
SUMMARY:Honors Symposium featuring  Fletcher Research Series
DESCRIPTION:Honors Symposium featuring  Fletcher Research Series\nView the full event details here: https://events.dudesolutions.com/swvcc/event/honors-symposium-featuring–fletcher-research-series/
URL:https://sw.edu/event/honors-symposium-featuring-fletcher-research-series/
LOCATION:Ratliff Commons
CATEGORIES:Student Events
END:VEVENT
BEGIN:VEVENT
DTSTART;TZID=UTC:20240308T223000
DTEND;TZID=UTC:20240308T233000
DTSTAMP:20260420T065107
CREATED:20240222T142607Z
LAST-MODIFIED:20240308T231036Z
UID:10000458-1709937000-1709940600@sw.edu
SUMMARY:Crys Matthews Concert
DESCRIPTION:Make-up concert for MLK Day.\nView the full event details here: https://events.dudesolutions.com/swvcc/event/crys-matthews-concert/
URL:https://sw.edu/event/crys-matthews-concert/
LOCATION:Ratliff Commons
CATEGORIES:Community Events,Faculity/Staff,Student Events
END:VEVENT
BEGIN:VEVENT
DTSTART;TZID=UTC:20240307T000000
DTEND;TZID=UTC:20240307T235959
DTSTAMP:20260420T065107
CREATED:20240124T191159Z
LAST-MODIFIED:20240307T235531Z
UID:10000404-1709769600-1709855999@sw.edu
SUMMARY:The Day Service
DESCRIPTION:The Day Service\nView the full event details here: https://events.dudesolutions.com/swvcc/event/the-day-service/
URL:https://sw.edu/event/the-day-service/
LOCATION:Ratliff Commons
CATEGORIES:Community Events,Faculity/Staff,Student Events
END:VEVENT
BEGIN:VEVENT
DTSTART;TZID=UTC:20240301T140000
DTEND;TZID=UTC:20240301T200000
DTSTAMP:20260420T065107
CREATED:20240222T142554Z
LAST-MODIFIED:20240301T195532Z
UID:10000457-1709301600-1709323200@sw.edu
SUMMARY:Cancelled - Fries Middle School Campus Tour
DESCRIPTION:Campus tour for 7th graders of Fries Middle School\nView the full event details here: https://events.dudesolutions.com/swvcc/event/fries-middle-school-campus-tour/
URL:https://sw.edu/event/fries-middle-school-campus-tour/
LOCATION:Ratliff Commons
CATEGORIES:Community Events
END:VEVENT
BEGIN:VEVENT
DTSTART;TZID=UTC:20240216T233000
DTEND;TZID=UTC:20240217T020000
DTSTAMP:20260420T065107
CREATED:20240213T201046Z
LAST-MODIFIED:20240217T005531Z
UID:10000435-1708126200-1708135200@sw.edu
SUMMARY:Book Signing and Talk with Jeff Barnes
DESCRIPTION:Book Signing and Talk with Jeff Barnes\nView the full event details here: https://events.dudesolutions.com/swvcc/event/book-sigining-and-talk-with-jeff-barnes/
URL:https://sw.edu/event/book-sigining-and-talk-with-jeff-barnes/
LOCATION:Ratliff Commons
CATEGORIES:Community Events
END:VEVENT
BEGIN:VEVENT
DTSTART;TZID=UTC:20240215T171500
DTEND;TZID=UTC:20240215T183000
DTSTAMP:20260420T065107
CREATED:20240102T141127Z
LAST-MODIFIED:20240215T181037Z
UID:10000324-1708017300-1708021800@sw.edu
SUMMARY:Black History Month Guest Speaker - Ashley Offutt
DESCRIPTION:As we honor and celebrate the rich heritage and innumerable contributions of the African American community during Black History Month\, we are excited to announce a special event that promises to be both enlightening and inspiring. \n\n\nWe would like to invite you to join us on February 15th at 12:00 PM in Dellinger Hall for a keynote address by Ms. Ashley Offutt\, the esteemed Director of the Student Opportunities and Achievement Resources (SOAR) Program at Virginia Tech. \n\n\nMs. Offutt’s dedication to fostering equity and inclusion within the academic community is commendable. In her pivotal role at SOAR\, she coordinates and provides support for marginalized\, underrepresented\, and underserved student populations. Her efforts have significantly enhanced the university’s partnerships with key departments\, including Enrollment Management\, Financial Aid\, Undergraduate Academic Affairs\, and Student Affairs. \n\n\nThis event offers a unique opportunity to hear from a leader actively shaping the future of higher education by ensuring equal opportunities for all students. Ms. Offutt’s insights will inspire and challenge us to contribute to a more equitable and inclusive society. \n\n\nPlease mark your calendars and join us in celebrating Black History Month with Ms. Offutt’s address. Your presence will undoubtedly add to the richness of the conversation. \n\n\nWe look forward to seeing you there!
URL:https://sw.edu/event/black-history-month-guest-speaker-ashley-offutt/
LOCATION:Ratliff Commons
CATEGORIES:Community Events,Faculity/Staff,Student Events
END:VEVENT
BEGIN:VEVENT
DTSTART;TZID=UTC:20240208T150000
DTEND;TZID=UTC:20240208T183000
DTSTAMP:20260420T065107
CREATED:20240125T141109Z
LAST-MODIFIED:20240208T181030Z
UID:10000405-1707404400-1707417000@sw.edu
SUMMARY:Transfer Day
DESCRIPTION:Transfer Day.\nView the full event details here: https://events.dudesolutions.com/swvcc/event/transfer-day/
URL:https://sw.edu/event/transfer-day/
LOCATION:Ratliff Commons
CATEGORIES:Student Events
END:VEVENT
BEGIN:VEVENT
DTSTART;TZID=UTC:20231210T000000
DTEND;TZID=UTC:20231210T023000
DTSTAMP:20260420T065107
CREATED:20231120T161059Z
LAST-MODIFIED:20231210T021242Z
UID:10000306-1702166400-1702175400@sw.edu
SUMMARY:Christmas on the Hill - Semi-Formal Christmas Party
DESCRIPTION:Semi-Formal Christmas Party in Ratliff Commons.There will be a DJ present\nView the full event details here: https://events.dudesolutions.com/swvcc/event/christmas-on-the-hill—semi-formal-christmas-party/
URL:https://sw.edu/event/christmas-on-the-hill-semi-formal-christmas-party/
LOCATION:Ratliff Commons
END:VEVENT
BEGIN:VEVENT
DTSTART;TZID=UTC:20231110T160000
DTEND;TZID=UTC:20231110T180000
DTSTAMP:20260420T065107
CREATED:20231103T144049Z
LAST-MODIFIED:20231110T175533Z
UID:10000289-1699632000-1699639200@sw.edu
SUMMARY:Veterans Day Celebration
DESCRIPTION:Veterans Day Celebration\nView the full event details here: https://events.dudesolutions.com/swvcc/event/veterans-day-celebration/
URL:https://sw.edu/event/veterans-day-celebration/
LOCATION:Ratliff Commons
CATEGORIES:Community Events
END:VEVENT
BEGIN:VEVENT
DTSTART;TZID=UTC:20231108T223000
DTEND;TZID=UTC:20231108T233000
DTSTAMP:20260420T065107
CREATED:20231103T151051Z
LAST-MODIFIED:20231108T231037Z
UID:10000291-1699482600-1699486200@sw.edu
SUMMARY:Region Ten Runner of The Year Celebration
DESCRIPTION:Region Ten Runner of The Year Celebration\nView the full event details here: https://events.dudesolutions.com/swvcc/event/region-ten-runner-of-the-tear-celebration/
URL:https://sw.edu/event/region-ten-runner-of-the-year-celebration/
LOCATION:Ratliff Commons
CATEGORIES:Athletic Events,Student Events
END:VEVENT
BEGIN:VEVENT
DTSTART;TZID=UTC:20231010T140000
DTEND;TZID=UTC:20231010T173000
DTSTAMP:20260420T065107
CREATED:20230829T142604Z
LAST-MODIFIED:20231010T172529Z
UID:10000084-1696946400-1696959000@sw.edu
SUMMARY:Transfer Connections Fair
DESCRIPTION:Representatives from the following institutions will on campus to discuss transfer options: \n\nAlice Lloyd College\nBluefield University\nBluefield State University\nCarson-Newman University\nConcord University\nEast Tennessee State University\nEmory& Henry College\nGrand Canyon University\nKing University\nLincoln Memorial University\nLindsey Wilson College\nMilligan University\nRadford University\nSherman College of Chiropractic\nUniversity of Pikeville\nUniversity of Virginia’s College at Wise\nVirginia Commonwealth University College of Health Professions\nVirginia Tech\n\nView the full event details here: https://events.dudesolutions.com/swvcc/event/transfer-connections-fair/
URL:https://sw.edu/event/transfer-connections-fair/
LOCATION:Ratliff Commons
CATEGORIES:Student Events,Transfer Events
END:VEVENT
BEGIN:VEVENT
DTSTART;TZID=UTC:20231003T120000
DTEND;TZID=UTC:20231003T190000
DTSTAMP:20260420T065107
CREATED:20230809T135559Z
LAST-MODIFIED:20231003T184044Z
UID:10000068-1696334400-1696359600@sw.edu
SUMMARY:Eagle Project Day of Service
DESCRIPTION:SWCC Annual Day of Service\nView the full event details here: https://events.dudesolutions.com/swvcc/event/eagle-project-day-of-service/
URL:https://sw.edu/event/eagle-project-day-of-service/
LOCATION:Ratliff Commons
CATEGORIES:Faculity/Staff,Student Events
END:VEVENT
BEGIN:VEVENT
DTSTART;TZID=UTC:20230831T160000
DTEND;TZID=UTC:20230831T170000
DTSTAMP:20260420T065107
CREATED:20230722T204357Z
LAST-MODIFIED:20230831T162533Z
UID:10000012-1693497600-1693501200@sw.edu
SUMMARY:VIP Pizza Party and Orentation
DESCRIPTION:VIP Pizza Party and Orentation\nView the full event details here: https://events.dudesolutions.com/swvcc/event/vip-pizza-party-and-orentation/
URL:https://sw.edu/event/vip-pizza-party-and-orientation/
LOCATION:Ratliff Commons
CATEGORIES:Student Events
END:VEVENT
BEGIN:VEVENT
DTSTART;TZID=UTC:20230829T160000
DTEND;TZID=UTC:20230829T170000
DTSTAMP:20260420T065107
CREATED:20230722T204448Z
LAST-MODIFIED:20230829T162537Z
UID:10000011-1693324800-1693328400@sw.edu
SUMMARY:Women's Equality Day
DESCRIPTION:Women’s Equality Day\nView the full event details here: https://events.dudesolutions.com/swvcc/event/womens-equality-day/
URL:https://sw.edu/event/womens-equality-day-2/
LOCATION:Ratliff Commons
CATEGORIES:Faculity/Staff,Student Events
END:VEVENT
END:VCALENDAR