BEGIN:VCALENDAR
VERSION:2.0
PRODID:-//Southwest Virginia Community College - ECPv6.15.17.1//NONSGML v1.0//EN
CALSCALE:GREGORIAN
METHOD:PUBLISH
X-ORIGINAL-URL:https://sw.edu
X-WR-CALDESC:Events for Southwest Virginia Community College
REFRESH-INTERVAL;VALUE=DURATION:PT1H
X-Robots-Tag:noindex
X-PUBLISHED-TTL:PT1H
BEGIN:VTIMEZONE
TZID:UTC
BEGIN:STANDARD
TZOFFSETFROM:+0000
TZOFFSETTO:+0000
TZNAME:UTC
DTSTART:20220101T000000
END:STANDARD
END:VTIMEZONE
BEGIN:VEVENT
DTSTART;TZID=UTC:20240907T160000
DTEND;TZID=UTC:20240907T180000
DTSTAMP:20260425T085233
CREATED:20240830T155548Z
LAST-MODIFIED:20240907T174106Z
UID:10000806-1725724800-1725732000@sw.edu
SUMMARY:Men's Soccer vs USC Sumter
DESCRIPTION:Men’s Soccer vs USC Sumter\nView the full event details here: https://events.dudesolutions.com/swvcc/event/mens-soccer-vs-usc-sumter-1/
URL:https://sw.edu/event/mens-soccer-vs-usc-sumter-2/
LOCATION:Soccer Field
CATEGORIES:Athletic Events
END:VEVENT
BEGIN:VEVENT
DTSTART;TZID=UTC:20240831T193000
DTEND;TZID=UTC:20240831T213000
DTSTAMP:20260425T085233
CREATED:20240830T145534Z
LAST-MODIFIED:20240831T211031Z
UID:10000800-1725132600-1725139800@sw.edu
SUMMARY:Women's Soccer vs Richard Bland College
DESCRIPTION:Women’s Soccer vs Richard Bland College\nView the full event details here: https://events.dudesolutions.com/swvcc/event/womens-soccer-vs-richard-bland-college/
URL:https://sw.edu/event/womens-soccer-vs-richard-bland-college/
LOCATION:Soccer Field
CATEGORIES:Athletic Events
END:VEVENT
BEGIN:VEVENT
DTSTART;TZID=UTC:20240831T170000
DTEND;TZID=UTC:20240831T190000
DTSTAMP:20260425T085233
CREATED:20240830T145533Z
LAST-MODIFIED:20240831T185552Z
UID:10000799-1725123600-1725130800@sw.edu
SUMMARY:Men's Soccer vs USC Salkehatchie
DESCRIPTION:Men’s Soccer vs USC Salkehatchie\nView the full event details here: https://events.dudesolutions.com/swvcc/event/mens-soccer-vs-usc-salkehatchie-1/
URL:https://sw.edu/event/mens-soccer-vs-usc-salkehatchie-2/
LOCATION:Soccer Field
CATEGORIES:Athletic Events
END:VEVENT
BEGIN:VEVENT
DTSTART;TZID=UTC:20240721T130000
DTEND;TZID=UTC:20240721T160000
DTSTAMP:20260425T085233
CREATED:20240614T141112Z
LAST-MODIFIED:20240721T155531Z
UID:10000659-1721566800-1721577600@sw.edu
SUMMARY:Cancelled - Men's Soccer Prospect Camp (2025 Graduates)
DESCRIPTION:Men’s Soccer Prospect Camp (2025 Graduates)\nView the full event details here: https://events.dudesolutions.com/swvcc/event/mens-soccer-prospect-camp-2025-graduates/
URL:https://sw.edu/event/mens-soccer-prospect-camp-2025-graduates/
LOCATION:Soccer Field
CATEGORIES:Athletic Events
END:VEVENT
BEGIN:VEVENT
DTSTART;TZID=UTC:20240720T130000
DTEND;TZID=UTC:20240720T160000
DTSTAMP:20260425T085233
CREATED:20240614T141112Z
LAST-MODIFIED:20240720T155532Z
UID:10000658-1721480400-1721491200@sw.edu
SUMMARY:Cancelled - Women's Soccer Prospect Camp (2025 Graduates)
DESCRIPTION:Women’s Soccer Prospect Camp (2025 Graduates)\nView the full event details here: https://events.dudesolutions.com/swvcc/event/womens-soccer-prospect-camp-2025-graduates/
URL:https://sw.edu/event/womens-soccer-prospect-camp-2025-graduates/
LOCATION:Soccer Field
CATEGORIES:Athletic Events
END:VEVENT
BEGIN:VEVENT
DTSTART;TZID=UTC:20240619T130000
DTEND;TZID=UTC:20240619T160000
DTSTAMP:20260425T085233
CREATED:20240614T141033Z
LAST-MODIFIED:20240619T145531Z
UID:10000657-1718802000-1718812800@sw.edu
SUMMARY:Soccer Youth Camp Day #3 Age 6-12
DESCRIPTION:Soccer Youth Camp Day #3 Age 6-12\nView the full event details here: https://events.dudesolutions.com/swvcc/event/soccer-youth-camp-day-3-age-6-12/
URL:https://sw.edu/event/soccer-youth-camp-day-3-age-6-12/
LOCATION:Soccer Field
CATEGORIES:Athletic Events
END:VEVENT
BEGIN:VEVENT
DTSTART;TZID=UTC:20240618T130000
DTEND;TZID=UTC:20240618T160000
DTSTAMP:20260425T085233
CREATED:20240614T141032Z
LAST-MODIFIED:20240618T155531Z
UID:10000656-1718715600-1718726400@sw.edu
SUMMARY:Soccer Youth Camp Day #2 Age 6-12
DESCRIPTION:Soccer Youth Camp Day #2 Age 6-12\nView the full event details here: https://events.dudesolutions.com/swvcc/event/soccer-youth-camp-day-2-age-6-12/
URL:https://sw.edu/event/soccer-youth-camp-day-2-age-6-12/
LOCATION:Soccer Field
CATEGORIES:Athletic Events
END:VEVENT
BEGIN:VEVENT
DTSTART;TZID=UTC:20240617T130000
DTEND;TZID=UTC:20240617T160000
DTSTAMP:20260425T085233
CREATED:20240614T141031Z
LAST-MODIFIED:20240617T155532Z
UID:10000655-1718629200-1718640000@sw.edu
SUMMARY:Soccer Youth Camp Day #1 Age 6-12
DESCRIPTION:Soccer Youth Camp Day #1 Age 6-12\nView the full event details here: https://events.dudesolutions.com/swvcc/event/soccer-youth-camp-day-1-age-6-12/
URL:https://sw.edu/event/soccer-youth-camp-day-1-age-6-12/
LOCATION:Soccer Field
CATEGORIES:Athletic Events
END:VEVENT
BEGIN:VEVENT
DTSTART;TZID=UTC:20231028T190000
DTEND;TZID=UTC:20231028T210000
DTSTAMP:20260425T085233
CREATED:20230928T174132Z
LAST-MODIFIED:20231028T205530Z
UID:10000148-1698519600-1698526800@sw.edu
SUMMARY:Cancelled - Men's Soccer vs. Pellissippi State
DESCRIPTION:Men’s Soccer vs. Pellissippi State\nView the full event details here: https://events.dudesolutions.com/swvcc/event/mens-soccer-vs-pellissippi-state/
URL:https://sw.edu/event/cancelled-mens-soccer-vs-pellissippi-state/
LOCATION:Soccer Field
CATEGORIES:Athletic Events
END:VEVENT
BEGIN:VEVENT
DTSTART;TZID=UTC:20231028T170000
DTEND;TZID=UTC:20231028T190000
DTSTAMP:20260425T085233
CREATED:20230927T194124Z
LAST-MODIFIED:20231028T185529Z
UID:10000147-1698512400-1698519600@sw.edu
SUMMARY:Cancelled - Women's Soccer vs. Pellissippi State
DESCRIPTION:Women’s Soccer vs. Pellissippi State\nView the full event details here: https://events.dudesolutions.com/swvcc/event/womens-soccer-vs-pellissippi-state/
URL:https://sw.edu/event/cancelled-womens-soccer-vs-pellissippi-state/
LOCATION:Soccer Field
CATEGORIES:Athletic Events
END:VEVENT
BEGIN:VEVENT
DTSTART;TZID=UTC:20231014T210000
DTEND;TZID=UTC:20231014T230000
DTSTAMP:20260425T085233
CREATED:20231010T142543Z
LAST-MODIFIED:20231014T225540Z
UID:10000165-1697317200-1697324400@sw.edu
SUMMARY:Women's Soccer vs King Warriors @ Hilldale Park in Hinton\, WV
DESCRIPTION:Women’s Soccer vs King Warriors @ Hilldale Park in Hinton\, WV View the full event details here: https://events.dudesolutions.com/swvcc/event/womens-soccer-vs-king-warriors/
URL:https://sw.edu/event/womens-soccer-vs-king-warriors/
LOCATION:Soccer Field
CATEGORIES:Athletic Events
END:VEVENT
BEGIN:VEVENT
DTSTART;TZID=UTC:20231007T200000
DTEND;TZID=UTC:20231007T220000
DTSTAMP:20260425T085233
CREATED:20230807T132550Z
LAST-MODIFIED:20231007T211032Z
UID:10000058-1696708800-1696716000@sw.edu
SUMMARY:Men's Soccer vs Spartanburg Methodist
DESCRIPTION:Men’s Soccer vs Spartanburg Methodist\nView the full event details here: https://events.dudesolutions.com/swvcc/event/mens-soccer-vs-spartanburg-methodist/
URL:https://sw.edu/event/mens-soccer-vs-spartanburg-methodist/
LOCATION:Soccer Field
CATEGORIES:Athletic Events
END:VEVENT
BEGIN:VEVENT
DTSTART;TZID=UTC:20231007T170000
DTEND;TZID=UTC:20231007T190000
DTSTAMP:20260425T085233
CREATED:20230807T132549Z
LAST-MODIFIED:20231007T185530Z
UID:10000057-1696698000-1696705200@sw.edu
SUMMARY:Women's Soccer vs Spartanburg Methodist
DESCRIPTION:Women’s Soccer vs Spartanburg Methodist\nView the full event details here: https://events.dudesolutions.com/swvcc/event/womens-soccer-vs-spartanburg-methodist/
URL:https://sw.edu/event/womens-soccer-vs-spartanburg-methodist/
LOCATION:Soccer Field
CATEGORIES:Athletic Events
END:VEVENT
BEGIN:VEVENT
DTSTART;TZID=UTC:20231003T180000
DTEND;TZID=UTC:20231003T200000
DTSTAMP:20260425T085233
CREATED:20230807T132549Z
LAST-MODIFIED:20231003T194143Z
UID:10000056-1696356000-1696363200@sw.edu
SUMMARY:Men's Soccer vs USC Lancaster
DESCRIPTION:Men’s Soccer vs USC Lancaster\nView the full event details here: https://events.dudesolutions.com/swvcc/event/mens-soccer-vs-usc-lancaster/
URL:https://sw.edu/event/mens-soccer-vs-usc-lancaster/
LOCATION:Soccer Field
CATEGORIES:Athletic Events
END:VEVENT
BEGIN:VEVENT
DTSTART;TZID=UTC:20231003T160000
DTEND;TZID=UTC:20231003T180000
DTSTAMP:20260425T085233
CREATED:20230807T132548Z
LAST-MODIFIED:20231003T172653Z
UID:10000055-1696348800-1696356000@sw.edu
SUMMARY:Women's Soccer vs USC Lancaster
DESCRIPTION:Women’s Soccer vs USC Lancaster\nView the full event details here: https://events.dudesolutions.com/swvcc/event/womens-soccer-vs-usc-lancaster/
URL:https://sw.edu/event/womens-soccer-vs-usc-lancaster/
LOCATION:Soccer Field
CATEGORIES:Athletic Events
END:VEVENT
BEGIN:VEVENT
DTSTART;TZID=UTC:20230924T190000
DTEND;TZID=UTC:20230924T210000
DTSTAMP:20260425T085233
CREATED:20230807T132545Z
LAST-MODIFIED:20230924T205530Z
UID:10000052-1695582000-1695589200@sw.edu
SUMMARY:Men's Soccer vs USC Salkehatchie
DESCRIPTION:Men’s Soccer vs USC Salkehatchie\nView the full event details here: https://events.dudesolutions.com/swvcc/event/mens-soccer-vs-usc-salkehatchie/
URL:https://sw.edu/event/mens-soccer-vs-usc-salkehatchie/
LOCATION:Soccer Field
CATEGORIES:Athletic Events
END:VEVENT
BEGIN:VEVENT
DTSTART;TZID=UTC:20230924T170000
DTEND;TZID=UTC:20230924T190000
DTSTAMP:20260425T085233
CREATED:20230807T132546Z
LAST-MODIFIED:20230924T185531Z
UID:10000053-1695574800-1695582000@sw.edu
SUMMARY:Women's Soccer vs USC Salkehatchie
DESCRIPTION:Women’s Soccer vs USC Salkehatchie\nView the full event details here: https://events.dudesolutions.com/swvcc/event/womens-soccer-vs-usc-salkehatchie/
URL:https://sw.edu/event/womens-soccer-vs-usc-salkehatchie/
LOCATION:Soccer Field
CATEGORIES:Athletic Events
END:VEVENT
BEGIN:VEVENT
DTSTART;TZID=UTC:20230904T190000
DTEND;TZID=UTC:20230904T210000
DTSTAMP:20260425T085233
CREATED:20230807T132545Z
LAST-MODIFIED:20230904T201034Z
UID:10000051-1693854000-1693861200@sw.edu
SUMMARY:Men's Soccer vs Alice Lloyd
DESCRIPTION:Men’s Soccer vs Alice Lloyd\nView the full event details here: https://events.dudesolutions.com/swvcc/event/mens-soccer-vs-alice-lloyd/
URL:https://sw.edu/event/mens-soccer-vs-alice-lloyd/
LOCATION:Soccer Field
CATEGORIES:Athletic Events
END:VEVENT
BEGIN:VEVENT
DTSTART;TZID=UTC:20230904T170000
DTEND;TZID=UTC:20230904T190000
DTSTAMP:20260425T085233
CREATED:20230807T132544Z
LAST-MODIFIED:20230904T175531Z
UID:10000050-1693846800-1693854000@sw.edu
SUMMARY:Women's Soccer vs Alice Lloyd
DESCRIPTION:Women’s Soccer vs Alice Lloyd\nView the full event details here: https://events.dudesolutions.com/swvcc/event/womens-soccer-vs-alice-lloyd/
URL:https://sw.edu/event/womens-soccer-vs-alice-lloyd/
LOCATION:Soccer Field
CATEGORIES:Athletic Events
END:VEVENT
BEGIN:VEVENT
DTSTART;TZID=UTC:20230902T170000
DTEND;TZID=UTC:20230902T190000
DTSTAMP:20260425T085233
CREATED:20230807T132543Z
LAST-MODIFIED:20230902T181030Z
UID:10000049-1693674000-1693681200@sw.edu
SUMMARY:Men's Soccer vs Richard Bland
DESCRIPTION:Men’s Soccer vs Richard Bland\nView the full event details here: https://events.dudesolutions.com/swvcc/event/mens-soccer-vs-richard-bland/
URL:https://sw.edu/event/mens-soccer-vs-richard-bland/
LOCATION:Soccer Field
CATEGORIES:Athletic Events
END:VEVENT
BEGIN:VEVENT
DTSTART;TZID=UTC:20230902T150000
DTEND;TZID=UTC:20230902T170000
DTSTAMP:20260425T085233
CREATED:20230807T132543Z
LAST-MODIFIED:20230902T165532Z
UID:10000048-1693666800-1693674000@sw.edu
SUMMARY:Women's Soccer vs USC Sumter
DESCRIPTION:Women’s Soccer vs USC Sumter\nView the full event details here: https://events.dudesolutions.com/swvcc/event/womens-soccer-vs-usc-sumter/
URL:https://sw.edu/event/womens-soccer-vs-usc-sumter/
LOCATION:Soccer Field
CATEGORIES:Athletic Events
END:VEVENT
BEGIN:VEVENT
DTSTART;TZID=UTC:20230828T200000
DTEND;TZID=UTC:20230828T220000
DTSTAMP:20260425T085233
CREATED:20230807T132542Z
LAST-MODIFIED:20230828T212537Z
UID:10000047-1693252800-1693260000@sw.edu
SUMMARY:Cancelled - Men's Soccer vs USC Union
DESCRIPTION:Men’s Soccer vs USC Union\nView the full event details here: https://events.dudesolutions.com/swvcc/event/mens-soccer-vs-usc-union/
URL:https://sw.edu/event/mens-soccer-vs-usc-union/
LOCATION:Soccer Field
CATEGORIES:Athletic Events
END:VEVENT
BEGIN:VEVENT
DTSTART;TZID=UTC:20230826T150000
DTEND;TZID=UTC:20230826T170000
DTSTAMP:20260425T085233
CREATED:20230810T151114Z
LAST-MODIFIED:20230826T164106Z
UID:10000070-1693062000-1693069200@sw.edu
SUMMARY:Men's Soccer vs Denmark Tech
DESCRIPTION:Men’s Soccer vs Denmark Tech\nView the full event details here: https://events.dudesolutions.com/swvcc/event/mens-soccer-vs-denmark-tech/
URL:https://sw.edu/event/mens-soccer-vs-denmark-tech/
LOCATION:Soccer Field
CATEGORIES:Athletic Events
END:VEVENT
BEGIN:VEVENT
DTSTART;TZID=UTC:20230819T220000
DTEND;TZID=UTC:20230820T000000
DTSTAMP:20260425T085233
CREATED:20230807T132541Z
LAST-MODIFIED:20230819T235547Z
UID:10000046-1692482400-1692489600@sw.edu
SUMMARY:Men's Soccer vs Kings Warriors SC
DESCRIPTION:Men’s Soccer vs Kings Warriors SC\nView the full event details here: https://events.dudesolutions.com/swvcc/event/mens-soccer-vs-kings-warriors-sc/
URL:https://sw.edu/event/mens-soccer-vs-kings-warriors-sc/
LOCATION:Soccer Field
CATEGORIES:Athletic Events
END:VEVENT
BEGIN:VEVENT
DTSTART;TZID=UTC:20230817T150000
DTEND;TZID=UTC:20230817T170000
DTSTAMP:20260425T085233
CREATED:20230810T151107Z
LAST-MODIFIED:20230814T171046Z
UID:10000069-1692284400-1692291600@sw.edu
SUMMARY:Men's Soccer vs USC Sumter
DESCRIPTION:Men’s Soccer vs USC Sumter\nView the full event details here: https://events.dudesolutions.com/swvcc/event/mens-soccer-vs-usc-sumter/
URL:https://sw.edu/event/mens-soccer-vs-usc-sumter/
LOCATION:Soccer Field
CATEGORIES:Athletic Events
END:VEVENT
END:VCALENDAR