BEGIN:VCALENDAR
VERSION:2.0
PRODID:-//Southwest Virginia Community College - ECPv6.15.17.1//NONSGML v1.0//EN
CALSCALE:GREGORIAN
METHOD:PUBLISH
X-WR-CALNAME:Southwest Virginia Community College
X-ORIGINAL-URL:https://sw.edu
X-WR-CALDESC:Events for Southwest Virginia Community College
REFRESH-INTERVAL;VALUE=DURATION:PT1H
X-Robots-Tag:noindex
X-PUBLISHED-TTL:PT1H
BEGIN:VTIMEZONE
TZID:UTC
BEGIN:STANDARD
TZOFFSETFROM:+0000
TZOFFSETTO:+0000
TZNAME:UTC
DTSTART:20220101T000000
END:STANDARD
END:VTIMEZONE
BEGIN:VEVENT
DTSTART;TZID=UTC:20240217T180000
DTEND;TZID=UTC:20240217T220000
DTSTAMP:20260420T041734
CREATED:20231102T161228Z
LAST-MODIFIED:20240217T212552Z
UID:10000283-1708192800-1708207200@sw.edu
SUMMARY:Cancelled - Softball vs Brunswick Community College
DESCRIPTION:Softball vs Brunswick Community College\nView the full event details here: https://events.dudesolutions.com/swvcc/event/softball-vs-brunswick-community-college/
URL:https://sw.edu/event/softball-vs-brunswick-community-college/
LOCATION:Softball Field
CATEGORIES:Athletic Events
END:VEVENT
BEGIN:VEVENT
DTSTART;TZID=UTC:20231015T190000
DTEND;TZID=UTC:20231015T230000
DTSTAMP:20260420T041734
CREATED:20231010T142543Z
LAST-MODIFIED:20231015T222531Z
UID:10000166-1697396400-1697410800@sw.edu
SUMMARY:Softball vs Shockers 18u @ 3:00 and 5:00
DESCRIPTION:Softball vs Shockers 18u @ 3:00 and 5:00\nView the full event details here: https://events.dudesolutions.com/swvcc/event/softball-vs-shockers-18u–300-and-500/
URL:https://sw.edu/event/softball-vs-shockers-18u-300-and-500/
LOCATION:Softball Field
CATEGORIES:Athletic Events
END:VEVENT
BEGIN:VEVENT
DTSTART;TZID=UTC:20230929T163000
DTEND;TZID=UTC:20230929T183000
DTSTAMP:20260420T041734
CREATED:20230809T125607Z
LAST-MODIFIED:20230929T155529Z
UID:10000066-1696005000-1696012200@sw.edu
SUMMARY:"Us Vs. Them" Faculty & Staff Vs. Students
DESCRIPTION:Faculty & Staff Vs. Students Kickball Showdown. To sign up email antwan.vanburen@sw.edu.\nView the full event details here: https://events.dudesolutions.com/swvcc/event/us-vs-them-faculty–staff-vs-students/
URL:https://sw.edu/event/us-vs-them-faculty-staff-vs-students/
LOCATION:Softball Field
CATEGORIES:Faculity/Staff,Homecoming,Student Events
END:VEVENT
BEGIN:VEVENT
DTSTART;TZID=UTC:20230917T190000
DTEND;TZID=UTC:20230917T230000
DTSTAMP:20260420T041734
CREATED:20230913T134030Z
LAST-MODIFIED:20230917T224033Z
UID:10000126-1694977200-1694991600@sw.edu
SUMMARY:Softball vs. Shockers 18u - DH
DESCRIPTION:Softball vs. Shockers 18u – DH\nView the full event details here: https://events.dudesolutions.com/swvcc/event/softball-vs-shockers-18u—dh/
URL:https://sw.edu/event/softball-vs-shockers-18u-dh/
LOCATION:Softball Field
CATEGORIES:Athletic Events
END:VEVENT
END:VCALENDAR