BEGIN:VCALENDAR
VERSION:2.0
PRODID:-//Southwest Virginia Community College - ECPv6.15.17.1//NONSGML v1.0//EN
CALSCALE:GREGORIAN
METHOD:PUBLISH
X-WR-CALNAME:Southwest Virginia Community College
X-ORIGINAL-URL:https://sw.edu
X-WR-CALDESC:Events for Southwest Virginia Community College
REFRESH-INTERVAL;VALUE=DURATION:PT1H
X-Robots-Tag:noindex
X-PUBLISHED-TTL:PT1H
BEGIN:VTIMEZONE
TZID:UTC
BEGIN:STANDARD
TZOFFSETFROM:+0000
TZOFFSETTO:+0000
TZNAME:UTC
DTSTART:20220101T000000
END:STANDARD
END:VTIMEZONE
BEGIN:VEVENT
DTSTART;TZID=UTC:20241010T161000
DTEND;TZID=UTC:20241010T170500
DTSTAMP:20260425T071636
CREATED:20240827T202629Z
LAST-MODIFIED:20241010T155531Z
UID:10000776-1728576600-1728579900@sw.edu
SUMMARY:SGA
DESCRIPTION:SGA Meeting\nView the full event details here: https://events.dudesolutions.com/swvcc/event/sga-5/
URL:https://sw.edu/event/sga-6/
LOCATION:T-302
CATEGORIES:Student Events
END:VEVENT
BEGIN:VEVENT
DTSTART;TZID=UTC:20241003T161000
DTEND;TZID=UTC:20241003T170500
DTSTAMP:20260425T071636
CREATED:20240827T202614Z
LAST-MODIFIED:20241003T162608Z
UID:10000775-1727971800-1727975100@sw.edu
SUMMARY:SGA
DESCRIPTION:SGA Meeting\nView the full event details here: https://events.dudesolutions.com/swvcc/event/sga-4/
URL:https://sw.edu/event/sga-5/
LOCATION:T-302
CATEGORIES:Student Events
END:VEVENT
BEGIN:VEVENT
DTSTART;TZID=UTC:20240926T161000
DTEND;TZID=UTC:20240926T170500
DTSTAMP:20260425T071636
CREATED:20240827T202613Z
LAST-MODIFIED:20240926T162532Z
UID:10000774-1727367000-1727370300@sw.edu
SUMMARY:SGA
DESCRIPTION:SGA Meeting\nView the full event details here: https://events.dudesolutions.com/swvcc/event/sga-3/
URL:https://sw.edu/event/sga-4/
LOCATION:T-302
CATEGORIES:Student Events
END:VEVENT
BEGIN:VEVENT
DTSTART;TZID=UTC:20240919T161000
DTEND;TZID=UTC:20240919T170500
DTSTAMP:20260425T071636
CREATED:20240827T202554Z
LAST-MODIFIED:20240919T165533Z
UID:10000773-1726762200-1726765500@sw.edu
SUMMARY:SGA
DESCRIPTION:SGA Meeting\nView the full event details here: https://events.dudesolutions.com/swvcc/event/sga-2/
URL:https://sw.edu/event/sga-3/
LOCATION:T-302
CATEGORIES:Student Events
END:VEVENT
BEGIN:VEVENT
DTSTART;TZID=UTC:20240912T161000
DTEND;TZID=UTC:20240912T170500
DTSTAMP:20260425T071637
CREATED:20240827T202551Z
LAST-MODIFIED:20240912T155531Z
UID:10000772-1726157400-1726160700@sw.edu
SUMMARY:SGA
DESCRIPTION:SGA Meeting\nView the full event details here: https://events.dudesolutions.com/swvcc/event/sga-1/
URL:https://sw.edu/event/sga-2/
LOCATION:T-302
CATEGORIES:Student Events
END:VEVENT
BEGIN:VEVENT
DTSTART;TZID=UTC:20240905T161000
DTEND;TZID=UTC:20240905T170500
DTSTAMP:20260425T071637
CREATED:20240827T202533Z
LAST-MODIFIED:20240905T162531Z
UID:10000771-1725552600-1725555900@sw.edu
SUMMARY:SGA
DESCRIPTION:SGA Meeting\nView the full event details here: https://events.dudesolutions.com/swvcc/event/sga/
URL:https://sw.edu/event/sga/
LOCATION:T-302
CATEGORIES:Student Events
END:VEVENT
BEGIN:VEVENT
DTSTART;TZID=UTC:20240301T210000
DTEND;TZID=UTC:20240301T223000
DTSTAMP:20260425T071637
CREATED:20240221T171112Z
LAST-MODIFIED:20240301T222531Z
UID:10000452-1709326800-1709332200@sw.edu
SUMMARY:Local College Advisory Board
DESCRIPTION:Local College Advisory Board\nView the full event details here: https://events.dudesolutions.com/swvcc/event/local-college-advisory-board/
URL:https://sw.edu/event/local-college-advisory-board/
LOCATION:T-302
CATEGORIES:Community Events
END:VEVENT
BEGIN:VEVENT
DTSTART;TZID=UTC:20231130T220000
DTEND;TZID=UTC:20231130T230000
DTSTAMP:20260425T071637
CREATED:20231027T162623Z
LAST-MODIFIED:20231130T224559Z
UID:10000214-1701381600-1701385200@sw.edu
SUMMARY:SWCC Local Board Meeting
DESCRIPTION:Southwest Virginia Community College Local Advisory Board Meeting\nView the full event details here: https://events.dudesolutions.com/swvcc/event/swcc-local-board-meeting/
URL:https://sw.edu/event/swcc-local-board-meeting/
LOCATION:T-302
CATEGORIES:Community Events
END:VEVENT
BEGIN:VEVENT
DTSTART;TZID=UTC:20231013T130000
DTEND;TZID=UTC:20231013T140000
DTSTAMP:20260425T071637
CREATED:20231009T195546Z
LAST-MODIFIED:20231013T132529Z
UID:10000163-1697202000-1697205600@sw.edu
SUMMARY:Local Board Meeting
DESCRIPTION:Local Board Meeting\nView the full event details here: https://events.dudesolutions.com/swvcc/event/local-board-meeting/
URL:https://sw.edu/event/local-board-meeting/
LOCATION:T-302
CATEGORIES:Community Events
END:VEVENT
END:VCALENDAR